BEGIN:VCALENDAR
VERSION:2.0
PRODID:itakvim.com
CALSCALE:GREGORIAN
METHOD:PUBLISH
UID:1h5qktwh5pi
X-WR-CALNAME:Denizli Çivril Çok Amaçlı Fuar Ve Etkinlik Alanı Takvimi
X-ITAKVIM-LANGUAGE:tr
X-ORIGINAL-URL:itakvim.com
REFRESH-INTERVAL;VALUE=DURATION:PT1H
X-ITAKVIM-REGION:TR
X-Robots-Tag:noindex
X-PUBLISHED-TTL:PT1H
BEGIN:VEVENT
UID:daeb5bd2-a1a3-431b-524a-08de9f183112
DTSTAMP:20260420T200817Z
TRANSP:TRANSPARENT
DTSTART:20261017T060000Z
DTEND:20261020T150000Z
STATUS:CONFIRMED
SUMMARY:4. Çivril Tarım, Hayvancılık Makinaları Teknolojileri Ve Yem
  Fuarı
DESCRIPTION:Başak Fuar Hizmetleri Limited Şirketi tarafından düzenlen
 en tarım\, tarımsal mekanizasyon\, seracılık ve hayvancılık teknol
 ojileri\, gıda\, yem konulu fuarda görüşmek üzere: \n\nWeb:www.basa
 kfuar.com\nE-Posta: sedatbozkurt3@gmail.com\; info@basakfuar.com
LOCATION:Çivril Çok Amaçlı Fuar Ve Etkinlik Alanı
BEGIN:VALARM
ACTION:DISPLAY
DESCRIPTION:4. Çivril Tarım, Hayvancılık Makinaları Teknolojileri Ve
  Yem Fuarı
TRIGGER:-PT24H
END:VALARM
END:VEVENT
END:VCALENDAR
