BEGIN:VCALENDAR
VERSION:2.0
PRODID:itakvim.com
CALSCALE:GREGORIAN
METHOD:PUBLISH
UID:1pymnm1ybmo
X-WR-CALNAME:Müze Gazhane Prof. Dr. Sevda Şener Sahnesi
X-ITAKVIM-LANGUAGE:tr
X-ORIGINAL-URL:itakvim.com
REFRESH-INTERVAL;VALUE=DURATION:PT1H
X-ITAKVIM-REGION:TR
X-Robots-Tag:noindex
X-PUBLISHED-TTL:PT1H
BEGIN:VEVENT
UID:32b2b0e5-af92-41dc-cc5e-08de9d98d356
DTSTAMP:20260418T222122Z
TRANSP:TRANSPARENT
DTSTART:20260422T120000Z
DTEND:20260422T120000Z
STATUS:CONFIRMED
SUMMARY:Gölge
LOCATION:Müze Gazhane Prof. Dr. Sevda Şener Sahnesi
END:VEVENT
BEGIN:VEVENT
UID:bd18219e-a2b5-4909-cc5f-08de9d98d356
DTSTAMP:20260418T222122Z
TRANSP:TRANSPARENT
DTSTART:20260422T170000Z
DTEND:20260422T170000Z
STATUS:CONFIRMED
SUMMARY:Gölge
LOCATION:Müze Gazhane Prof. Dr. Sevda Şener Sahnesi
END:VEVENT
BEGIN:VEVENT
UID:70dc1082-e9c8-4afc-cc60-08de9d98d356
DTSTAMP:20260418T222122Z
TRANSP:TRANSPARENT
DTSTART:20260424T170000Z
DTEND:20260424T170000Z
STATUS:CONFIRMED
SUMMARY:Gölge
LOCATION:Müze Gazhane Prof. Dr. Sevda Şener Sahnesi
END:VEVENT
BEGIN:VEVENT
UID:7625ba3c-afec-4d99-cc61-08de9d98d356
DTSTAMP:20260418T222122Z
TRANSP:TRANSPARENT
DTSTART:20260425T120000Z
DTEND:20260425T120000Z
STATUS:CONFIRMED
SUMMARY:Gölge
LOCATION:Müze Gazhane Prof. Dr. Sevda Şener Sahnesi
END:VEVENT
BEGIN:VEVENT
UID:1d04d4dc-5033-4748-cc62-08de9d98d356
DTSTAMP:20260418T222122Z
TRANSP:TRANSPARENT
DTSTART:20260425T170000Z
DTEND:20260425T170000Z
STATUS:CONFIRMED
SUMMARY:Gölge
LOCATION:Müze Gazhane Prof. Dr. Sevda Şener Sahnesi
END:VEVENT
BEGIN:VEVENT
UID:8efc9eee-b338-46b0-cc63-08de9d98d356
DTSTAMP:20260418T222122Z
TRANSP:TRANSPARENT
DTSTART:20260429T120000Z
DTEND:20260429T120000Z
STATUS:CONFIRMED
SUMMARY:Öylece Durur Zaman
LOCATION:Müze Gazhane Prof. Dr. Sevda Şener Sahnesi
END:VEVENT
BEGIN:VEVENT
UID:8719ed61-ba30-440c-cc64-08de9d98d356
DTSTAMP:20260418T222122Z
TRANSP:TRANSPARENT
DTSTART:20260429T170000Z
DTEND:20260429T170000Z
STATUS:CONFIRMED
SUMMARY:Öylece Durur Zaman
LOCATION:Müze Gazhane Prof. Dr. Sevda Şener Sahnesi
END:VEVENT
BEGIN:VEVENT
UID:58adba25-abce-4741-cc65-08de9d98d356
DTSTAMP:20260418T222122Z
TRANSP:TRANSPARENT
DTSTART:20260430T170000Z
DTEND:20260430T170000Z
STATUS:CONFIRMED
SUMMARY:Öylece Durur Zaman
LOCATION:Müze Gazhane Prof. Dr. Sevda Şener Sahnesi
END:VEVENT
BEGIN:VEVENT
UID:4385d85c-cc4e-4ae1-cc66-08de9d98d356
DTSTAMP:20260418T222122Z
TRANSP:TRANSPARENT
DTSTART:20260502T120000Z
DTEND:20260502T120000Z
STATUS:CONFIRMED
SUMMARY:Öylece Durur Zaman
LOCATION:Müze Gazhane Prof. Dr. Sevda Şener Sahnesi
END:VEVENT
BEGIN:VEVENT
UID:cf93bdca-751a-4ef3-cc67-08de9d98d356
DTSTAMP:20260418T222122Z
TRANSP:TRANSPARENT
DTSTART:20260502T170000Z
DTEND:20260502T170000Z
STATUS:CONFIRMED
SUMMARY:Öylece Durur Zaman
LOCATION:Müze Gazhane Prof. Dr. Sevda Şener Sahnesi
END:VEVENT
BEGIN:VEVENT
UID:7ee7901e-25d1-4e58-cc68-08de9d98d356
DTSTAMP:20260418T222122Z
TRANSP:TRANSPARENT
DTSTART:20260419T090000Z
DTEND:20260419T090000Z
STATUS:CONFIRMED
SUMMARY:Sevdalı Bulut
LOCATION:Müze Gazhane Prof. Dr. Sevda Şener Sahnesi
END:VEVENT
BEGIN:VEVENT
UID:232e52f4-3642-48b7-cc69-08de9d98d356
DTSTAMP:20260418T222122Z
TRANSP:TRANSPARENT
DTSTART:20260419T120000Z
DTEND:20260419T120000Z
STATUS:CONFIRMED
SUMMARY:Sevdalı Bulut
LOCATION:Müze Gazhane Prof. Dr. Sevda Şener Sahnesi
END:VEVENT
BEGIN:VEVENT
UID:ac9d24bd-8f7c-4d6b-cc6a-08de9d98d356
DTSTAMP:20260418T222122Z
TRANSP:TRANSPARENT
DTSTART:20260423T100000Z
DTEND:20260423T100000Z
STATUS:CONFIRMED
SUMMARY:Sevdalı Bulut
LOCATION:Müze Gazhane Prof. Dr. Sevda Şener Sahnesi
END:VEVENT
BEGIN:VEVENT
UID:7e3c735f-9a04-42fb-cc6b-08de9d98d356
DTSTAMP:20260418T222122Z
TRANSP:TRANSPARENT
DTSTART:20260423T130000Z
DTEND:20260423T130000Z
STATUS:CONFIRMED
SUMMARY:Sevdalı Bulut
LOCATION:Müze Gazhane Prof. Dr. Sevda Şener Sahnesi
END:VEVENT
END:VCALENDAR
