BEGIN:VCALENDAR
VERSION:2.0
PRODID:itakvim.com
CALSCALE:GREGORIAN
METHOD:PUBLISH
UID:1qmxm7q2v2r
X-WR-CALNAME:Müze Gazhane Meydan Sahne
X-ITAKVIM-LANGUAGE:tr
X-ORIGINAL-URL:itakvim.com
REFRESH-INTERVAL;VALUE=DURATION:PT1H
X-ITAKVIM-REGION:TR
X-Robots-Tag:noindex
X-PUBLISHED-TTL:PT1H
BEGIN:VEVENT
UID:4361f4f4-45f2-492b-cc6c-08de9d98d356
DTSTAMP:20260418T222121Z
TRANSP:TRANSPARENT
DTSTART:20260422T120000Z
DTEND:20260422T120000Z
STATUS:CONFIRMED
SUMMARY:Çingene Boksör
LOCATION:Müze Gazhane Meydan Sahne
END:VEVENT
BEGIN:VEVENT
UID:c3c7bb76-9dfc-4541-cc6d-08de9d98d356
DTSTAMP:20260418T222121Z
TRANSP:TRANSPARENT
DTSTART:20260422T170000Z
DTEND:20260422T170000Z
STATUS:CONFIRMED
SUMMARY:Çingene Boksör
LOCATION:Müze Gazhane Meydan Sahne
END:VEVENT
BEGIN:VEVENT
UID:b7486bde-be41-4455-cc6e-08de9d98d356
DTSTAMP:20260418T222121Z
TRANSP:TRANSPARENT
DTSTART:20260423T170000Z
DTEND:20260423T170000Z
STATUS:CONFIRMED
SUMMARY:Çingene Boksör
LOCATION:Müze Gazhane Meydan Sahne
END:VEVENT
BEGIN:VEVENT
UID:d312bc81-4a0a-439b-cc6f-08de9d98d356
DTSTAMP:20260418T222121Z
TRANSP:TRANSPARENT
DTSTART:20260424T170000Z
DTEND:20260424T170000Z
STATUS:CONFIRMED
SUMMARY:Çingene Boksör
LOCATION:Müze Gazhane Meydan Sahne
END:VEVENT
BEGIN:VEVENT
UID:7f5f7986-a028-4591-cc70-08de9d98d356
DTSTAMP:20260418T222121Z
TRANSP:TRANSPARENT
DTSTART:20260425T120000Z
DTEND:20260425T120000Z
STATUS:CONFIRMED
SUMMARY:Çingene Boksör
LOCATION:Müze Gazhane Meydan Sahne
END:VEVENT
BEGIN:VEVENT
UID:fccb9fef-e0fd-4c48-cc71-08de9d98d356
DTSTAMP:20260418T222121Z
TRANSP:TRANSPARENT
DTSTART:20260425T170000Z
DTEND:20260425T170000Z
STATUS:CONFIRMED
SUMMARY:Çingene Boksör
LOCATION:Müze Gazhane Meydan Sahne
END:VEVENT
BEGIN:VEVENT
UID:2247c540-fff8-44d5-cc72-08de9d98d356
DTSTAMP:20260418T222121Z
TRANSP:TRANSPARENT
DTSTART:20260429T120000Z
DTEND:20260429T120000Z
STATUS:CONFIRMED
SUMMARY:İKİNCİ PERDENİN BAŞI
LOCATION:Müze Gazhane Meydan Sahne
END:VEVENT
BEGIN:VEVENT
UID:ab671d79-ceb3-43cf-cc73-08de9d98d356
DTSTAMP:20260418T222121Z
TRANSP:TRANSPARENT
DTSTART:20260429T170000Z
DTEND:20260429T170000Z
STATUS:CONFIRMED
SUMMARY:İKİNCİ PERDENİN BAŞI
LOCATION:Müze Gazhane Meydan Sahne
END:VEVENT
BEGIN:VEVENT
UID:3f838048-0c6b-420d-cc74-08de9d98d356
DTSTAMP:20260418T222121Z
TRANSP:TRANSPARENT
DTSTART:20260430T170000Z
DTEND:20260430T170000Z
STATUS:CONFIRMED
SUMMARY:İKİNCİ PERDENİN BAŞI
LOCATION:Müze Gazhane Meydan Sahne
END:VEVENT
BEGIN:VEVENT
UID:5319cf08-99f1-40e0-cc75-08de9d98d356
DTSTAMP:20260418T222121Z
TRANSP:TRANSPARENT
DTSTART:20260502T120000Z
DTEND:20260502T120000Z
STATUS:CONFIRMED
SUMMARY:İKİNCİ PERDENİN BAŞI
LOCATION:Müze Gazhane Meydan Sahne
END:VEVENT
BEGIN:VEVENT
UID:f964a9be-1ae6-4796-cc76-08de9d98d356
DTSTAMP:20260418T222121Z
TRANSP:TRANSPARENT
DTSTART:20260502T170000Z
DTEND:20260502T170000Z
STATUS:CONFIRMED
SUMMARY:İKİNCİ PERDENİN BAŞI
LOCATION:Müze Gazhane Meydan Sahne
END:VEVENT
END:VCALENDAR
