BEGIN:VCALENDAR
VERSION:2.0
PRODID:itakvim.com
CALSCALE:GREGORIAN
METHOD:PUBLISH
UID:1twm8typspg
X-WR-CALNAME:Tekirdağ Karaevli Fuar Alanı Takvimi
X-ITAKVIM-LANGUAGE:tr
X-ORIGINAL-URL:itakvim.com
REFRESH-INTERVAL;VALUE=DURATION:PT1H
X-ITAKVIM-REGION:TR
X-Robots-Tag:noindex
X-PUBLISHED-TTL:PT1H
BEGIN:VEVENT
UID:a4ce3ced-7acd-4a70-524b-08de9f183112
DTSTAMP:20260420T200816Z
TRANSP:TRANSPARENT
DTSTART:20260901T060000Z
DTEND:20260905T150000Z
STATUS:CONFIRMED
SUMMARY:Tarım Ve Teknoloji Günleri
DESCRIPTION:Dlg Fuarcılık Limited Şirketi tarafından düzenlenen aç
 ık alan uygulamalı tarım ve hayvancılık fuarı konulu fuarda görü
 şmek üzere: \n\nWeb:www.dlgfuarcilik.com\nE-Posta: info@dlgfuarcilik.c
 om
LOCATION:Karaevli Fuar Alanı
BEGIN:VALARM
ACTION:DISPLAY
DESCRIPTION:Tarım Ve Teknoloji Günleri
TRIGGER:-PT24H
END:VALARM
END:VEVENT
END:VCALENDAR
