BEGIN:VCALENDAR
VERSION:2.0
PRODID:itakvim.com
CALSCALE:GREGORIAN
METHOD:PUBLISH
UID:1vs2a35bgz1
X-WR-CALNAME:Konya Ticaret Odası-Tüyap Konya Uluslararası Fuar Merkezi Takvimi
X-ITAKVIM-LANGUAGE:tr
X-ORIGINAL-URL:itakvim.com
REFRESH-INTERVAL;VALUE=DURATION:PT1H
X-ITAKVIM-REGION:TR
X-Robots-Tag:noindex
X-PUBLISHED-TTL:PT1H
BEGIN:VEVENT
UID:c51e8847-b644-421e-58e7-08de9f8ee600
DTSTAMP:20260421T101546Z
TRANSP:TRANSPARENT
DTSTART:20260407T060000Z
DTEND:20260411T150000Z
STATUS:CONFIRMED
SUMMARY:Konya Tarım 2026 - 22. Tarım, Tarımsal Mekanizasyon Ve Tarla T
 eknolojileri Fuarı
DESCRIPTION:Tüyap Konya Fuarcılık Anonim Şirketi tarafından düzenle
 nen tarım\, tarımsal mekanizasyon ve tarla teknolojileri konulu fuarda
  görüşmek üzere: \n\nWeb:www.tuyap.com.tr\nE-Posta: tuyapkonya@tuyap
 .com.tr
LOCATION:Konya Ticaret Odası-Tüyap Konya Uluslararası Fuar Merkezi
BEGIN:VALARM
ACTION:DISPLAY
DESCRIPTION:Konya Tarım 2026 - 22. Tarım, Tarımsal Mekanizasyon Ve Tar
 la Teknolojileri Fuarı
TRIGGER:-PT24H
END:VALARM
END:VEVENT
BEGIN:VEVENT
UID:1ca68787-2dad-4737-58e8-08de9f8ee600
DTSTAMP:20260421T101546Z
TRANSP:TRANSPARENT
DTSTART:20260506T060000Z
DTEND:20260509T150000Z
STATUS:CONFIRMED
SUMMARY:Elevex Konya Asansör Ve Teknolojileri Fuarı
DESCRIPTION:Vizyon Sektörel Fuarcılık Organizasyon Tanıtım Ticaret L
 imited Şirketi tarafından düzenlenen asansör\, yürüyen merdiven ve
  asansör teknolojileri konulu fuarda görüşmek üzere: \n\nWeb:www.el
 evex.com.tr\nE-Posta: asansorvizyon@gmail.com
LOCATION:Konya Ticaret Odası-Tüyap Konya Uluslararası Fuar Merkezi
BEGIN:VALARM
ACTION:DISPLAY
DESCRIPTION:Elevex Konya Asansör Ve Teknolojileri Fuarı
TRIGGER:-PT24H
END:VALARM
END:VEVENT
BEGIN:VEVENT
UID:c4cf9de8-3a20-4c3d-58e9-08de9f8ee600
DTSTAMP:20260421T101546Z
TRANSP:TRANSPARENT
DTSTART:20261021T060000Z
DTEND:20261024T150000Z
STATUS:CONFIRMED
SUMMARY:Nobel Master Shoes - Ayakkabı & Çanta Moda Fuarı
DESCRIPTION:Nobel Expo Uluslararası Fuarcılık Anonim Şirketi tarafın
 dan düzenlenen ayakkabı ve çanta\, moda konulu fuarda görüşmek üz
 ere: \n\nWeb:www.nobelexpo.com\nE-Posta: info@nobelexpo.com
LOCATION:Konya Ticaret Odası-Tüyap Konya Uluslararası Fuar Merkezi
BEGIN:VALARM
ACTION:DISPLAY
DESCRIPTION:Nobel Master Shoes - Ayakkabı & Çanta Moda Fuarı
TRIGGER:-PT24H
END:VALARM
END:VEVENT
BEGIN:VEVENT
UID:3bb152df-64ff-48fe-58ea-08de9f8ee600
DTSTAMP:20260421T101546Z
TRANSP:TRANSPARENT
DTSTART:20261114T060000Z
DTEND:20261122T150000Z
STATUS:CONFIRMED
SUMMARY:Konya 2. Kitap Fuarı
DESCRIPTION:Tüyap Konya Fuarcılık Anonim Şirketi tarafından düzenle
 nen kitap\, süreli yayın\, gazete ve dergi yayıncılığı\, medya ku
 ruluşları\, sivil toplum kuruluşları\, yerel yönetimler konulu fuar
 da görüşmek üzere: \n\nWeb:www.tuyap.com.tr\nE-Posta: tuyapkonya@tuy
 ap.com.tr
LOCATION:Konya Ticaret Odası-Tüyap Konya Uluslararası Fuar Merkezi
BEGIN:VALARM
ACTION:DISPLAY
DESCRIPTION:Konya 2. Kitap Fuarı
TRIGGER:-PT24H
END:VALARM
END:VEVENT
END:VCALENDAR
