BEGIN:VCALENDAR
VERSION:2.0
PRODID:itakvim.com
CALSCALE:GREGORIAN
METHOD:PUBLISH
UID:1w4f6okhz1q
X-WR-CALNAME:MEB-EKYS Sınav Takvimi
X-ITAKVIM-LANGUAGE:tr
X-ORIGINAL-URL:itakvim.com
REFRESH-INTERVAL;VALUE=DURATION:PT1H
X-ITAKVIM-REGION:TR
X-Robots-Tag:noindex
X-PUBLISHED-TTL:PT1H
BEGIN:VEVENT
UID:9f60f3fa-7fd1-43ce-4e75-08de9f183112
DTSTAMP:20260420T200538Z
TRANSP:TRANSPARENT
DTSTART:20260314T210000Z
DTEND:20260314T210000Z
STATUS:CONFIRMED
SUMMARY:MEB-EKYS Millî Eğitim Bakanlığı Eğitim Kurumlarına Yöneti
 ci Seçme Sınavı 2026-MEB-EKYS Sınav
END:VEVENT
BEGIN:VEVENT
UID:e250f5dd-b69f-44c5-4e76-08de9f183112
DTSTAMP:20260420T200538Z
TRANSP:TRANSPARENT
DTSTART:20260130T070000Z
DTEND:20260130T070000Z
STATUS:CONFIRMED
SUMMARY:MEB-EKYS Millî Eğitim Bakanlığı Eğitim Kurumlarına Yöneti
 ci Seçme Sınavı 2026-MEB-EKYS Başvuru Başlangıç
END:VEVENT
BEGIN:VEVENT
UID:e4b8089b-efae-470d-4e77-08de9f183112
DTSTAMP:20260420T200538Z
TRANSP:TRANSPARENT
DTSTART:20260205T205900Z
DTEND:20260205T205900Z
STATUS:CONFIRMED
SUMMARY:MEB-EKYS Millî Eğitim Bakanlığı Eğitim Kurumlarına Yöneti
 ci Seçme Sınavı 2026-MEB-EKYS Başvuru Bitiş
END:VEVENT
BEGIN:VEVENT
UID:d99c7949-06f1-498e-4e78-08de9f183112
DTSTAMP:20260420T200538Z
TRANSP:TRANSPARENT
DTSTART:20260212T210000Z
DTEND:20260212T210000Z
STATUS:CONFIRMED
SUMMARY:MEB-EKYS Millî Eğitim Bakanlığı Eğitim Kurumlarına Yöneti
 ci Seçme Sınavı 2026-MEB-EKYS Geç Başvuru Başlangıç
END:VEVENT
BEGIN:VEVENT
UID:058100b6-ac04-4c3e-4e79-08de9f183112
DTSTAMP:20260420T200538Z
TRANSP:TRANSPARENT
DTSTART:20260213T205900Z
DTEND:20260213T205900Z
STATUS:CONFIRMED
SUMMARY:MEB-EKYS Millî Eğitim Bakanlığı Eğitim Kurumlarına Yöneti
 ci Seçme Sınavı 2026-MEB-EKYS Geç Başvuru Bitiş
END:VEVENT
BEGIN:VEVENT
UID:5f4bc626-0862-4674-4e7a-08de9f183112
DTSTAMP:20260420T200538Z
TRANSP:TRANSPARENT
DTSTART:20260408T210000Z
DTEND:20260408T210000Z
STATUS:CONFIRMED
SUMMARY:MEB-EKYS Millî Eğitim Bakanlığı Eğitim Kurumlarına Yöneti
 ci Seçme Sınavı 2026-MEB-EKYS Sonuç
END:VEVENT
END:VCALENDAR
