BEGIN:VCALENDAR
VERSION:2.0
PRODID:itakvim.com
CALSCALE:GREGORIAN
METHOD:PUBLISH
UID:21q6uindnwa
X-WR-CALNAME:e-YDS Sınav Takvimi
X-ITAKVIM-LANGUAGE:tr
X-ORIGINAL-URL:itakvim.com
REFRESH-INTERVAL;VALUE=DURATION:PT1H
X-ITAKVIM-REGION:TR
X-Robots-Tag:noindex
X-PUBLISHED-TTL:PT1H
BEGIN:VEVENT
UID:97651992-2148-4b11-d5e8-08de9fecec0c
DTSTAMP:20260421T212824Z
TRANSP:TRANSPARENT
DTSTART:20260123T210000Z
DTEND:20260123T210000Z
STATUS:CONFIRMED
SUMMARY:e-YDS Elektronik Yabancı Dil Sınavı (e-YDS 2026/1 İngilizce)*
 ** Sınav
END:VEVENT
BEGIN:VEVENT
UID:c66030e5-6a64-4c8b-d5e9-08de9fecec0c
DTSTAMP:20260421T212824Z
TRANSP:TRANSPARENT
DTSTART:20260107T110000Z
DTEND:20260107T110000Z
STATUS:CONFIRMED
SUMMARY:e-YDS Elektronik Yabancı Dil Sınavı (e-YDS 2026/1 İngilizce)*
 ** Başvuru Başlangıç
END:VEVENT
BEGIN:VEVENT
UID:38dce9df-63e2-49e3-d5ea-08de9fecec0c
DTSTAMP:20260421T212824Z
TRANSP:TRANSPARENT
DTSTART:20260115T205900Z
DTEND:20260115T205900Z
STATUS:CONFIRMED
SUMMARY:e-YDS Elektronik Yabancı Dil Sınavı (e-YDS 2026/1 İngilizce)*
 ** Başvuru Bitiş
END:VEVENT
BEGIN:VEVENT
UID:6bff58dc-f761-4e9b-d5eb-08de9fecec0c
DTSTAMP:20260421T212824Z
TRANSP:TRANSPARENT
DTSTART:20260123T210000Z
DTEND:20260123T210000Z
STATUS:CONFIRMED
SUMMARY:e-YDS Elektronik Yabancı Dil Sınavı (e-YDS 2026/1 İngilizce)*
 ** Sonuç
END:VEVENT
BEGIN:VEVENT
UID:6ac9fadf-b1bc-40f9-d5ec-08de9fecec0c
DTSTAMP:20260421T212824Z
TRANSP:TRANSPARENT
DTSTART:20260213T210000Z
DTEND:20260213T210000Z
STATUS:CONFIRMED
SUMMARY:e-YDS Elektronik Yabancı Dil Sınavı (e-YDS 2026/2 İngilizce) 
 *** Sınav
END:VEVENT
BEGIN:VEVENT
UID:584b9c9d-6acf-476f-d5ed-08de9fecec0c
DTSTAMP:20260421T212824Z
TRANSP:TRANSPARENT
DTSTART:20260127T210000Z
DTEND:20260127T210000Z
STATUS:CONFIRMED
SUMMARY:e-YDS Elektronik Yabancı Dil Sınavı (e-YDS 2026/2 İngilizce) 
 *** Başvuru Başlangıç
END:VEVENT
BEGIN:VEVENT
UID:89e501f0-6b5a-40a2-d5ee-08de9fecec0c
DTSTAMP:20260421T212824Z
TRANSP:TRANSPARENT
DTSTART:20260204T210000Z
DTEND:20260204T210000Z
STATUS:CONFIRMED
SUMMARY:e-YDS Elektronik Yabancı Dil Sınavı (e-YDS 2026/2 İngilizce) 
 *** Başvuru Bitiş
END:VEVENT
BEGIN:VEVENT
UID:ee8f6b19-dd87-48ce-d5ef-08de9fecec0c
DTSTAMP:20260421T212824Z
TRANSP:TRANSPARENT
DTSTART:20260213T210000Z
DTEND:20260213T210000Z
STATUS:CONFIRMED
SUMMARY:e-YDS Elektronik Yabancı Dil Sınavı (e-YDS 2026/2 İngilizce) 
 *** Sonuç
END:VEVENT
BEGIN:VEVENT
UID:0aa76976-f5f0-4c59-d5f0-08de9fecec0c
DTSTAMP:20260421T212824Z
TRANSP:TRANSPARENT
DTSTART:20260418T104500Z
DTEND:20260418T104500Z
STATUS:CONFIRMED
SUMMARY:e-YDS Elektronik Yabancı Dil Sınavı (e-YDS 2026/3 Farsça/Yuna
 nca/Bulgarca) ***** Sınav
END:VEVENT
BEGIN:VEVENT
UID:e743922e-2083-4cb6-d5f1-08de9fecec0c
DTSTAMP:20260421T212824Z
TRANSP:TRANSPARENT
DTSTART:20260219T110000Z
DTEND:20260219T110000Z
STATUS:CONFIRMED
SUMMARY:e-YDS Elektronik Yabancı Dil Sınavı (e-YDS 2026/3 Farsça/Yuna
 nca/Bulgarca) ***** Başvuru Başlangıç
END:VEVENT
BEGIN:VEVENT
UID:a2db2511-f5d8-481d-d5f2-08de9fecec0c
DTSTAMP:20260421T212824Z
TRANSP:TRANSPARENT
DTSTART:20260409T205900Z
DTEND:20260409T205900Z
STATUS:CONFIRMED
SUMMARY:e-YDS Elektronik Yabancı Dil Sınavı (e-YDS 2026/3 Farsça/Yuna
 nca/Bulgarca) ***** Başvuru Bitiş
END:VEVENT
BEGIN:VEVENT
UID:19d0e865-b6bc-4824-d5f3-08de9fecec0c
DTSTAMP:20260421T212824Z
TRANSP:TRANSPARENT
DTSTART:20260417T210000Z
DTEND:20260417T210000Z
STATUS:CONFIRMED
SUMMARY:e-YDS Elektronik Yabancı Dil Sınavı (e-YDS 2026/3 Farsça/Yuna
 nca/Bulgarca) ***** Sonuç
END:VEVENT
BEGIN:VEVENT
UID:a192060c-6cd2-451e-d5f4-08de9fecec0c
DTSTAMP:20260421T212824Z
TRANSP:TRANSPARENT
DTSTART:20260501T210000Z
DTEND:20260501T210000Z
STATUS:CONFIRMED
SUMMARY:e-YDS Elektronik Yabancı Dil Sınavı (e-YDS 2026/4 İngilizce) 
 *** Sınav
END:VEVENT
BEGIN:VEVENT
UID:c89fcbf1-ab99-4479-d5f5-08de9fecec0c
DTSTAMP:20260421T212824Z
TRANSP:TRANSPARENT
DTSTART:20260413T210000Z
DTEND:20260413T210000Z
STATUS:CONFIRMED
SUMMARY:e-YDS Elektronik Yabancı Dil Sınavı (e-YDS 2026/4 İngilizce) 
 *** Başvuru Başlangıç
END:VEVENT
BEGIN:VEVENT
UID:68cc84fc-ab86-415e-d5f6-08de9fecec0c
DTSTAMP:20260421T212824Z
TRANSP:TRANSPARENT
DTSTART:20260421T210000Z
DTEND:20260421T210000Z
STATUS:CONFIRMED
SUMMARY:e-YDS Elektronik Yabancı Dil Sınavı (e-YDS 2026/4 İngilizce) 
 *** Başvuru Bitiş
END:VEVENT
BEGIN:VEVENT
UID:84d40ed5-bad8-4af7-d5f7-08de9fecec0c
DTSTAMP:20260421T212824Z
TRANSP:TRANSPARENT
DTSTART:20260501T210000Z
DTEND:20260501T210000Z
STATUS:CONFIRMED
SUMMARY:e-YDS Elektronik Yabancı Dil Sınavı (e-YDS 2026/4 İngilizce) 
 *** Sonuç
END:VEVENT
BEGIN:VEVENT
UID:d67b6178-18dc-415e-d5f8-08de9fecec0c
DTSTAMP:20260421T212824Z
TRANSP:TRANSPARENT
DTSTART:20260503T104500Z
DTEND:20260503T104500Z
STATUS:CONFIRMED
SUMMARY:e-YDS Elektronik Yabancı Dil Sınavı (e-YDS 2026/5 İspanyolca/
 İtalyanca) ***** Sınav
END:VEVENT
BEGIN:VEVENT
UID:6debf171-8047-41b7-d5f9-08de9fecec0c
DTSTAMP:20260421T212824Z
TRANSP:TRANSPARENT
DTSTART:20260219T110000Z
DTEND:20260219T110000Z
STATUS:CONFIRMED
SUMMARY:e-YDS Elektronik Yabancı Dil Sınavı (e-YDS 2026/5 İspanyolca/
 İtalyanca) ***** Başvuru Başlangıç
END:VEVENT
BEGIN:VEVENT
UID:246386d8-86c5-46e8-d5fa-08de9fecec0c
DTSTAMP:20260421T212824Z
TRANSP:TRANSPARENT
DTSTART:20260422T205900Z
DTEND:20260422T205900Z
STATUS:CONFIRMED
SUMMARY:e-YDS Elektronik Yabancı Dil Sınavı (e-YDS 2026/5 İspanyolca/
 İtalyanca) ***** Başvuru Bitiş
END:VEVENT
BEGIN:VEVENT
UID:e9ff2d59-c6b6-45e1-d5fb-08de9fecec0c
DTSTAMP:20260421T212824Z
TRANSP:TRANSPARENT
DTSTART:20260502T210000Z
DTEND:20260502T210000Z
STATUS:CONFIRMED
SUMMARY:e-YDS Elektronik Yabancı Dil Sınavı (e-YDS 2026/5 İspanyolca/
 İtalyanca) ***** Sonuç
END:VEVENT
BEGIN:VEVENT
UID:657b5ec0-decd-4bd8-d5fc-08de9fecec0c
DTSTAMP:20260421T212824Z
TRANSP:TRANSPARENT
DTSTART:20260626T210000Z
DTEND:20260626T210000Z
STATUS:CONFIRMED
SUMMARY:e-YDS Elektronik Yabancı Dil Sınavı (e-YDS 2026/6 İngilizce) 
 *** Sınav
END:VEVENT
BEGIN:VEVENT
UID:90419ace-0a2b-4255-d5fd-08de9fecec0c
DTSTAMP:20260421T212824Z
TRANSP:TRANSPARENT
DTSTART:20260609T210000Z
DTEND:20260609T210000Z
STATUS:CONFIRMED
SUMMARY:e-YDS Elektronik Yabancı Dil Sınavı (e-YDS 2026/6 İngilizce) 
 *** Başvuru Başlangıç
END:VEVENT
BEGIN:VEVENT
UID:26a8a4b2-8845-4228-d5fe-08de9fecec0c
DTSTAMP:20260421T212824Z
TRANSP:TRANSPARENT
DTSTART:20260617T210000Z
DTEND:20260617T210000Z
STATUS:CONFIRMED
SUMMARY:e-YDS Elektronik Yabancı Dil Sınavı (e-YDS 2026/6 İngilizce) 
 *** Başvuru Bitiş
END:VEVENT
BEGIN:VEVENT
UID:879d7e03-9c3c-4593-d5ff-08de9fecec0c
DTSTAMP:20260421T212824Z
TRANSP:TRANSPARENT
DTSTART:20260626T210000Z
DTEND:20260626T210000Z
STATUS:CONFIRMED
SUMMARY:e-YDS Elektronik Yabancı Dil Sınavı (e-YDS 2026/6 İngilizce) 
 *** Sonuç
END:VEVENT
BEGIN:VEVENT
UID:9e902606-24e8-4831-d600-08de9fecec0c
DTSTAMP:20260421T212824Z
TRANSP:TRANSPARENT
DTSTART:20260627T210000Z
DTEND:20260627T210000Z
STATUS:CONFIRMED
SUMMARY:e-YDS Elektronik Yabancı Dil Sınavı (e-YDS 2026/7 Arapça/Rus
 ça) *** Sınav
END:VEVENT
BEGIN:VEVENT
UID:30048093-0234-40d5-d601-08de9fecec0c
DTSTAMP:20260421T212824Z
TRANSP:TRANSPARENT
DTSTART:20260608T210000Z
DTEND:20260608T210000Z
STATUS:CONFIRMED
SUMMARY:e-YDS Elektronik Yabancı Dil Sınavı (e-YDS 2026/7 Arapça/Rus
 ça) *** Başvuru Başlangıç
END:VEVENT
BEGIN:VEVENT
UID:ba311740-1b2f-48cb-d602-08de9fecec0c
DTSTAMP:20260421T212824Z
TRANSP:TRANSPARENT
DTSTART:20260617T210000Z
DTEND:20260617T210000Z
STATUS:CONFIRMED
SUMMARY:e-YDS Elektronik Yabancı Dil Sınavı (e-YDS 2026/7 Arapça/Rus
 ça) *** Başvuru Bitiş
END:VEVENT
BEGIN:VEVENT
UID:97c79c40-9400-4e7d-d603-08de9fecec0c
DTSTAMP:20260421T212824Z
TRANSP:TRANSPARENT
DTSTART:20260627T210000Z
DTEND:20260627T210000Z
STATUS:CONFIRMED
SUMMARY:e-YDS Elektronik Yabancı Dil Sınavı (e-YDS 2026/7 Arapça/Rus
 ça) *** Sonuç
END:VEVENT
BEGIN:VEVENT
UID:203c0aa7-68ee-4e84-d604-08de9fecec0c
DTSTAMP:20260421T212824Z
TRANSP:TRANSPARENT
DTSTART:20260703T210000Z
DTEND:20260703T210000Z
STATUS:CONFIRMED
SUMMARY:e-YDS Elektronik Yabancı Dil Sınavı (e-YDS 2026/8 Almanca/Fran
 sızca) *** Sınav
END:VEVENT
BEGIN:VEVENT
UID:31f40b72-9dba-4bdb-d605-08de9fecec0c
DTSTAMP:20260421T212824Z
TRANSP:TRANSPARENT
DTSTART:20260615T210000Z
DTEND:20260615T210000Z
STATUS:CONFIRMED
SUMMARY:e-YDS Elektronik Yabancı Dil Sınavı (e-YDS 2026/8 Almanca/Fran
 sızca) *** Başvuru Başlangıç
END:VEVENT
BEGIN:VEVENT
UID:f638147c-74cf-4194-d606-08de9fecec0c
DTSTAMP:20260421T212824Z
TRANSP:TRANSPARENT
DTSTART:20260624T210000Z
DTEND:20260624T210000Z
STATUS:CONFIRMED
SUMMARY:e-YDS Elektronik Yabancı Dil Sınavı (e-YDS 2026/8 Almanca/Fran
 sızca) *** Başvuru Bitiş
END:VEVENT
BEGIN:VEVENT
UID:4b00a29a-351a-4847-d607-08de9fecec0c
DTSTAMP:20260421T212824Z
TRANSP:TRANSPARENT
DTSTART:20260703T210000Z
DTEND:20260703T210000Z
STATUS:CONFIRMED
SUMMARY:e-YDS Elektronik Yabancı Dil Sınavı (e-YDS 2026/8 Almanca/Fran
 sızca) *** Sonuç
END:VEVENT
BEGIN:VEVENT
UID:0aa95edc-7bb2-43c6-d608-08de9fecec0c
DTSTAMP:20260421T212824Z
TRANSP:TRANSPARENT
DTSTART:20260821T210000Z
DTEND:20260821T210000Z
STATUS:CONFIRMED
SUMMARY:e-YDS Elektronik Yabancı Dil Sınavı (e-YDS 2026/9 İngilizce) 
 *** Sınav
END:VEVENT
BEGIN:VEVENT
UID:4bff2d1c-3edc-4778-d609-08de9fecec0c
DTSTAMP:20260421T212824Z
TRANSP:TRANSPARENT
DTSTART:20260804T210000Z
DTEND:20260804T210000Z
STATUS:CONFIRMED
SUMMARY:e-YDS Elektronik Yabancı Dil Sınavı (e-YDS 2026/9 İngilizce) 
 *** Başvuru Başlangıç
END:VEVENT
BEGIN:VEVENT
UID:a169e878-6c25-4b3c-d60a-08de9fecec0c
DTSTAMP:20260421T212824Z
TRANSP:TRANSPARENT
DTSTART:20260812T210000Z
DTEND:20260812T210000Z
STATUS:CONFIRMED
SUMMARY:e-YDS Elektronik Yabancı Dil Sınavı (e-YDS 2026/9 İngilizce) 
 *** Başvuru Bitiş
END:VEVENT
BEGIN:VEVENT
UID:33704fe1-1354-4b05-d60b-08de9fecec0c
DTSTAMP:20260421T212824Z
TRANSP:TRANSPARENT
DTSTART:20260821T210000Z
DTEND:20260821T210000Z
STATUS:CONFIRMED
SUMMARY:e-YDS Elektronik Yabancı Dil Sınavı (e-YDS 2026/9 İngilizce) 
 *** Sonuç
END:VEVENT
BEGIN:VEVENT
UID:598061f4-e084-4a56-d60c-08de9fecec0c
DTSTAMP:20260421T212824Z
TRANSP:TRANSPARENT
DTSTART:20260925T210000Z
DTEND:20260925T210000Z
STATUS:CONFIRMED
SUMMARY:e-YDS Elektronik Yabancı Dil Sınavı (e-YDS 2026/10 İngilizce)
  *** Sınav
END:VEVENT
BEGIN:VEVENT
UID:ffb84e84-dbb6-4599-d60d-08de9fecec0c
DTSTAMP:20260421T212824Z
TRANSP:TRANSPARENT
DTSTART:20260908T210000Z
DTEND:20260908T210000Z
STATUS:CONFIRMED
SUMMARY:e-YDS Elektronik Yabancı Dil Sınavı (e-YDS 2026/10 İngilizce)
  *** Başvuru Başlangıç
END:VEVENT
BEGIN:VEVENT
UID:e0b94cc2-be9a-42e6-d60e-08de9fecec0c
DTSTAMP:20260421T212824Z
TRANSP:TRANSPARENT
DTSTART:20260916T210000Z
DTEND:20260916T210000Z
STATUS:CONFIRMED
SUMMARY:e-YDS Elektronik Yabancı Dil Sınavı (e-YDS 2026/10 İngilizce)
  *** Başvuru Bitiş
END:VEVENT
BEGIN:VEVENT
UID:889d9e21-b5bf-4d6f-d60f-08de9fecec0c
DTSTAMP:20260421T212824Z
TRANSP:TRANSPARENT
DTSTART:20260925T210000Z
DTEND:20260925T210000Z
STATUS:CONFIRMED
SUMMARY:e-YDS Elektronik Yabancı Dil Sınavı (e-YDS 2026/10 İngilizce)
  *** Sonuç
END:VEVENT
BEGIN:VEVENT
UID:000a3af4-08e6-4ea0-d610-08de9fecec0c
DTSTAMP:20260421T212824Z
TRANSP:TRANSPARENT
DTSTART:20261016T210000Z
DTEND:20261016T210000Z
STATUS:CONFIRMED
SUMMARY:e-YDS Elektronik Yabancı Dil Sınavı (e-YDS 2026/11 Farsça/İn
 gilizce) *** Sınav
END:VEVENT
BEGIN:VEVENT
UID:0bab0056-419a-4eb8-d611-08de9fecec0c
DTSTAMP:20260421T212824Z
TRANSP:TRANSPARENT
DTSTART:20260929T210000Z
DTEND:20260929T210000Z
STATUS:CONFIRMED
SUMMARY:e-YDS Elektronik Yabancı Dil Sınavı (e-YDS 2026/11 Farsça/İn
 gilizce) *** Başvuru Başlangıç
END:VEVENT
BEGIN:VEVENT
UID:559b3af2-8a74-41de-d612-08de9fecec0c
DTSTAMP:20260421T212824Z
TRANSP:TRANSPARENT
DTSTART:20261007T210000Z
DTEND:20261007T210000Z
STATUS:CONFIRMED
SUMMARY:e-YDS Elektronik Yabancı Dil Sınavı (e-YDS 2026/11 Farsça/İn
 gilizce) *** Başvuru Bitiş
END:VEVENT
BEGIN:VEVENT
UID:ede17e19-d16c-44f4-d613-08de9fecec0c
DTSTAMP:20260421T212824Z
TRANSP:TRANSPARENT
DTSTART:20261016T210000Z
DTEND:20261016T210000Z
STATUS:CONFIRMED
SUMMARY:e-YDS Elektronik Yabancı Dil Sınavı (e-YDS 2026/11 Farsça/İn
 gilizce) *** Sonuç
END:VEVENT
BEGIN:VEVENT
UID:0592e6ff-b7ad-4523-d614-08de9fecec0c
DTSTAMP:20260421T212824Z
TRANSP:TRANSPARENT
DTSTART:20261218T210000Z
DTEND:20261218T210000Z
STATUS:CONFIRMED
SUMMARY:e-YDS Elektronik Yabancı Dil Sınavı (e-YDS 2026/12 İngilizce)
  *** Sınav
END:VEVENT
BEGIN:VEVENT
UID:6112548c-4025-491a-d615-08de9fecec0c
DTSTAMP:20260421T212824Z
TRANSP:TRANSPARENT
DTSTART:20261201T210000Z
DTEND:20261201T210000Z
STATUS:CONFIRMED
SUMMARY:e-YDS Elektronik Yabancı Dil Sınavı (e-YDS 2026/12 İngilizce)
  *** Başvuru Başlangıç
END:VEVENT
BEGIN:VEVENT
UID:6c5ff9f7-e222-48bc-d616-08de9fecec0c
DTSTAMP:20260421T212824Z
TRANSP:TRANSPARENT
DTSTART:20261209T210000Z
DTEND:20261209T210000Z
STATUS:CONFIRMED
SUMMARY:e-YDS Elektronik Yabancı Dil Sınavı (e-YDS 2026/12 İngilizce)
  *** Başvuru Bitiş
END:VEVENT
BEGIN:VEVENT
UID:2bde7a30-e2cd-437c-d617-08de9fecec0c
DTSTAMP:20260421T212824Z
TRANSP:TRANSPARENT
DTSTART:20261218T210000Z
DTEND:20261218T210000Z
STATUS:CONFIRMED
SUMMARY:e-YDS Elektronik Yabancı Dil Sınavı (e-YDS 2026/12 İngilizce)
  *** Sonuç
END:VEVENT
END:VCALENDAR
