BEGIN:VCALENDAR
VERSION:2.0
PRODID:itakvim.com
CALSCALE:GREGORIAN
METHOD:PUBLISH
UID:224c0dnmx6n
X-WR-CALNAME:Afyonkarahisar Sandıklı Çok Amaçlı Kapalı Fuar Alanı Takvimi
X-ITAKVIM-LANGUAGE:tr
X-ORIGINAL-URL:itakvim.com
REFRESH-INTERVAL;VALUE=DURATION:PT1H
X-ITAKVIM-REGION:TR
X-Robots-Tag:noindex
X-PUBLISHED-TTL:PT1H
BEGIN:VEVENT
UID:9e2a4fd2-8e5a-4611-524f-08de9f183112
DTSTAMP:20260420T200816Z
TRANSP:TRANSPARENT
DTSTART:20260513T060000Z
DTEND:20260516T150000Z
STATUS:CONFIRMED
SUMMARY:2. Sandıklı Tarım Hayvancılık Makinaları, Teknolojileri Ve 
 Seracılık Fuarı
DESCRIPTION:Başak Fuar Hizmetleri Limited Şirketi tarafından düzenlen
 en tarım\, tarımsal mekanizasyon\, seracılık\, hayvancılık teknolo
 jileri\, gıda ve yem konulu fuarda görüşmek üzere: \n\nWeb:www.basa
 kfuar.com\nE-Posta: sedatbozkurt3@gmail.com\; info@basakfuar.com
LOCATION:Sandıklı Çok Amaçlı Kapalı Fuar Alanı
BEGIN:VALARM
ACTION:DISPLAY
DESCRIPTION:2. Sandıklı Tarım Hayvancılık Makinaları, Teknolojileri
  Ve Seracılık Fuarı
TRIGGER:-PT24H
END:VALARM
END:VEVENT
END:VCALENDAR
