BEGIN:VCALENDAR
VERSION:2.0
PRODID:itakvim.com
CALSCALE:GREGORIAN
METHOD:PUBLISH
UID:24em2g8rr6x
X-WR-CALNAME:Türkiye Turizm Tanıtım ve Geliştirme Ajansı Fuar Takvimi
X-ITAKVIM-LANGUAGE:tr
X-ORIGINAL-URL:itakvim.com
REFRESH-INTERVAL;VALUE=DURATION:PT1H
X-ITAKVIM-REGION:TR
X-Robots-Tag:noindex
X-PUBLISHED-TTL:PT1H
BEGIN:VEVENT
UID:f6717f05-f487-45a7-50bc-08de9f183112
DTSTAMP:20260420T200713Z
TRANSP:TRANSPARENT
DTSTART:20260121T060000Z
DTEND:20260125T150000Z
STATUS:CONFIRMED
SUMMARY:FITUR Madrid
LOCATION:Madrid, İspanya
END:VEVENT
BEGIN:VEVENT
UID:e4b5c12f-a1b3-4378-50bd-08de9f183112
DTSTAMP:20260420T200713Z
TRANSP:TRANSPARENT
DTSTART:20260205T060000Z
DTEND:20260207T150000Z
STATUS:CONFIRMED
SUMMARY:OTM Mumbai
LOCATION:Mumbai, Hindistan
END:VEVENT
BEGIN:VEVENT
UID:f879408b-8ad4-4b72-50be-08de9f183112
DTSTAMP:20260420T200713Z
TRANSP:TRANSPARENT
DTSTART:20260303T060000Z
DTEND:20260305T150000Z
STATUS:CONFIRMED
SUMMARY:ITB Berlin
LOCATION:Berlin, Almanya
END:VEVENT
BEGIN:VEVENT
UID:23856904-216c-4c71-50bf-08de9f183112
DTSTAMP:20260420T200713Z
TRANSP:TRANSPARENT
DTSTART:20260311T060000Z
DTEND:20260313T150000Z
STATUS:CONFIRMED
SUMMARY:MITT Moskova
LOCATION:Moskova, Rusya
END:VEVENT
BEGIN:VEVENT
UID:90e600c5-e796-4642-50c0-08de9f183112
DTSTAMP:20260420T200713Z
TRANSP:TRANSPARENT
DTSTART:20260519T060000Z
DTEND:20260521T150000Z
STATUS:CONFIRMED
SUMMARY:IMEX Frankfurt
LOCATION:Frankfurt, Almanya
END:VEVENT
BEGIN:VEVENT
UID:6dae8e1f-c7a4-4917-50c1-08de9f183112
DTSTAMP:20260420T200713Z
TRANSP:TRANSPARENT
DTSTART:20260526T060000Z
DTEND:20260528T150000Z
STATUS:CONFIRMED
SUMMARY:ITB China
LOCATION:Şangay, Çin Halk Cumhuriyeti
END:VEVENT
BEGIN:VEVENT
UID:b51dc2c4-d1b6-4905-50c2-08de9f183112
DTSTAMP:20260420T200713Z
TRANSP:TRANSPARENT
DTSTART:20260617T060000Z
DTEND:20260619T150000Z
STATUS:CONFIRMED
SUMMARY:Saudi Travel Market
LOCATION:Riyad, Suudi Arabistan
END:VEVENT
BEGIN:VEVENT
UID:d88dba22-b663-4f59-50c3-08de9f183112
DTSTAMP:20260420T200713Z
TRANSP:TRANSPARENT
DTSTART:20260817T060000Z
DTEND:20260820T150000Z
STATUS:CONFIRMED
SUMMARY:ATM Dubai
LOCATION:Dubai, B.A.E
END:VEVENT
BEGIN:VEVENT
UID:e94d4841-0c2f-4832-50c4-08de9f183112
DTSTAMP:20260420T200713Z
TRANSP:TRANSPARENT
DTSTART:20260904T060000Z
DTEND:20260906T150000Z
STATUS:CONFIRMED
SUMMARY:Matta Fair
LOCATION:Kuala Lumpur, Malezya
END:VEVENT
BEGIN:VEVENT
UID:8a8202dd-b1ab-4608-50c5-08de9f183112
DTSTAMP:20260420T200713Z
TRANSP:TRANSPARENT
DTSTART:20261013T060000Z
DTEND:20261015T150000Z
STATUS:CONFIRMED
SUMMARY:IMEX America
LOCATION:Las Vegas, Amerika Birleşik Devletler
END:VEVENT
BEGIN:VEVENT
UID:1b4a42f6-e0fd-494d-50c6-08de9f183112
DTSTAMP:20260420T200713Z
TRANSP:TRANSPARENT
DTSTART:20261014T060000Z
DTEND:20261016T150000Z
STATUS:CONFIRMED
SUMMARY:TTG Rimini
LOCATION:Rimini, İtalya
END:VEVENT
BEGIN:VEVENT
UID:8e4e3d1d-c4b6-4e3a-50c7-08de9f183112
DTSTAMP:20260420T200713Z
TRANSP:TRANSPARENT
DTSTART:20261103T060000Z
DTEND:20261105T150000Z
STATUS:CONFIRMED
SUMMARY:WTM Londra
LOCATION:Londra, Birleşik Krallık
END:VEVENT
BEGIN:VEVENT
UID:b12a4cfa-0295-4f69-50c8-08de9f183112
DTSTAMP:20260420T200713Z
TRANSP:TRANSPARENT
DTSTART:20261113T060000Z
DTEND:20261115T150000Z
STATUS:CONFIRMED
SUMMARY:Philoxenia
LOCATION:Selanik, Yunanistan
END:VEVENT
BEGIN:VEVENT
UID:967bbacd-ce23-4666-50c9-08de9f183112
DTSTAMP:20260420T200713Z
TRANSP:TRANSPARENT
DTSTART:20261117T060000Z
DTEND:20261119T150000Z
STATUS:CONFIRMED
SUMMARY:IBTM World
LOCATION:Barselona, İspanya
END:VEVENT
BEGIN:VEVENT
UID:b6f9cc4c-bc5e-43f5-50ca-08de9f183112
DTSTAMP:20260420T200713Z
TRANSP:TRANSPARENT
DTSTART:20261119T060000Z
DTEND:20261121T150000Z
STATUS:CONFIRMED
SUMMARY:ITTF Varşova
LOCATION:Varşova, Polonya
END:VEVENT
BEGIN:VEVENT
UID:ad7021ce-56c5-43e0-50cb-08de9f183112
DTSTAMP:20260420T200713Z
TRANSP:TRANSPARENT
DTSTART:20261201T060000Z
DTEND:20261203T150000Z
STATUS:CONFIRMED
SUMMARY:ILTM Cannes
LOCATION:Cannes, Fransa
END:VEVENT
END:VCALENDAR
