BEGIN:VCALENDAR
VERSION:2.0
PRODID:itakvim.com
CALSCALE:GREGORIAN
METHOD:PUBLISH
UID:2580mmszk8n
X-WR-CALNAME:Konya Perşembe Çok Amaçlı Kapalı Fuar Alanı Takvimi
X-ITAKVIM-LANGUAGE:tr
X-ORIGINAL-URL:itakvim.com
REFRESH-INTERVAL;VALUE=DURATION:PT1H
X-ITAKVIM-REGION:TR
X-Robots-Tag:noindex
X-PUBLISHED-TTL:PT1H
BEGIN:VEVENT
UID:a75f240e-c817-41f4-58ed-08de9f8ee600
DTSTAMP:20260421T101546Z
TRANSP:TRANSPARENT
DTSTART:20260903T060000Z
DTEND:20260906T150000Z
STATUS:CONFIRMED
SUMMARY:Akşehir Tarım, Hayvancılık Ve Yem Fuarı
DESCRIPTION:Lina Fuarcılık Hizmetleri Sanayi Ve Ticaret Limited Şirket
 i tarafından düzenlenen tarım\, hayvancılık ve makine \,gıda konul
 u fuarda görüşmek üzere: \n\nWeb:www.linafair.com\nE-Posta: info@lin
 afair.com
LOCATION:Perşembe Çok Amaçlı Kapalı Fuar Alanı
BEGIN:VALARM
ACTION:DISPLAY
DESCRIPTION:Akşehir Tarım, Hayvancılık Ve Yem Fuarı
TRIGGER:-PT24H
END:VALARM
END:VEVENT
END:VCALENDAR
