BEGIN:VCALENDAR
VERSION:2.0
PRODID:itakvim.com
CALSCALE:GREGORIAN
METHOD:PUBLISH
UID:28lqc2wzoao
X-WR-CALNAME:Kağıthane Sadabad Sahnesi
X-ITAKVIM-LANGUAGE:tr
X-ORIGINAL-URL:itakvim.com
REFRESH-INTERVAL;VALUE=DURATION:PT1H
X-ITAKVIM-REGION:TR
X-Robots-Tag:noindex
X-PUBLISHED-TTL:PT1H
BEGIN:VEVENT
UID:42ff6924-a917-419f-cc77-08de9d98d356
DTSTAMP:20260418T222121Z
TRANSP:TRANSPARENT
DTSTART:20260419T090000Z
DTEND:20260419T090000Z
STATUS:CONFIRMED
SUMMARY:Benim Küçük Yıldızım
LOCATION:Kağıthane Sadabad Sahnesi
END:VEVENT
BEGIN:VEVENT
UID:56d568f5-e189-4292-cc78-08de9d98d356
DTSTAMP:20260418T222121Z
TRANSP:TRANSPARENT
DTSTART:20260419T120000Z
DTEND:20260419T120000Z
STATUS:CONFIRMED
SUMMARY:Benim Küçük Yıldızım
LOCATION:Kağıthane Sadabad Sahnesi
END:VEVENT
BEGIN:VEVENT
UID:cd310546-8a1a-49e8-cc79-08de9d98d356
DTSTAMP:20260418T222121Z
TRANSP:TRANSPARENT
DTSTART:20260423T100000Z
DTEND:20260423T100000Z
STATUS:CONFIRMED
SUMMARY:Benim Küçük Yıldızım
LOCATION:Kağıthane Sadabad Sahnesi
END:VEVENT
BEGIN:VEVENT
UID:b996528e-9b6b-4090-cc7a-08de9d98d356
DTSTAMP:20260418T222121Z
TRANSP:TRANSPARENT
DTSTART:20260423T130000Z
DTEND:20260423T130000Z
STATUS:CONFIRMED
SUMMARY:Benim Küçük Yıldızım
LOCATION:Kağıthane Sadabad Sahnesi
END:VEVENT
BEGIN:VEVENT
UID:53015b18-5d92-41a8-cc7b-08de9d98d356
DTSTAMP:20260418T222121Z
TRANSP:TRANSPARENT
DTSTART:20260429T170000Z
DTEND:20260429T170000Z
STATUS:CONFIRMED
SUMMARY:Haramiler
LOCATION:Kağıthane Sadabad Sahnesi
END:VEVENT
BEGIN:VEVENT
UID:5e0e1cca-0ad1-48cf-cc7c-08de9d98d356
DTSTAMP:20260418T222121Z
TRANSP:TRANSPARENT
DTSTART:20260430T170000Z
DTEND:20260430T170000Z
STATUS:CONFIRMED
SUMMARY:Haramiler
LOCATION:Kağıthane Sadabad Sahnesi
END:VEVENT
BEGIN:VEVENT
UID:c0fb86d6-093a-4d7c-cc7d-08de9d98d356
DTSTAMP:20260418T222121Z
TRANSP:TRANSPARENT
DTSTART:20260502T120000Z
DTEND:20260502T120000Z
STATUS:CONFIRMED
SUMMARY:Haramiler
LOCATION:Kağıthane Sadabad Sahnesi
END:VEVENT
BEGIN:VEVENT
UID:3c55df19-d5e5-4f8e-cc7e-08de9d98d356
DTSTAMP:20260418T222121Z
TRANSP:TRANSPARENT
DTSTART:20260502T170000Z
DTEND:20260502T170000Z
STATUS:CONFIRMED
SUMMARY:Haramiler
LOCATION:Kağıthane Sadabad Sahnesi
END:VEVENT
BEGIN:VEVENT
UID:9fb0bea6-4a6a-46f3-cc7f-08de9d98d356
DTSTAMP:20260418T222121Z
TRANSP:TRANSPARENT
DTSTART:20260422T170000Z
DTEND:20260422T170000Z
STATUS:CONFIRMED
SUMMARY:Sevgili Yelena Sergeyevna
LOCATION:Kağıthane Sadabad Sahnesi
END:VEVENT
BEGIN:VEVENT
UID:97252326-2d13-4d8d-cc80-08de9d98d356
DTSTAMP:20260418T222121Z
TRANSP:TRANSPARENT
DTSTART:20260424T170000Z
DTEND:20260424T170000Z
STATUS:CONFIRMED
SUMMARY:Sevgili Yelena Sergeyevna
LOCATION:Kağıthane Sadabad Sahnesi
END:VEVENT
BEGIN:VEVENT
UID:aed0bb8d-801f-484d-cc81-08de9d98d356
DTSTAMP:20260418T222121Z
TRANSP:TRANSPARENT
DTSTART:20260425T120000Z
DTEND:20260425T120000Z
STATUS:CONFIRMED
SUMMARY:Sevgili Yelena Sergeyevna
LOCATION:Kağıthane Sadabad Sahnesi
END:VEVENT
BEGIN:VEVENT
UID:21251b82-d3e9-4f42-cc82-08de9d98d356
DTSTAMP:20260418T222121Z
TRANSP:TRANSPARENT
DTSTART:20260425T170000Z
DTEND:20260425T170000Z
STATUS:CONFIRMED
SUMMARY:Sevgili Yelena Sergeyevna
LOCATION:Kağıthane Sadabad Sahnesi
END:VEVENT
BEGIN:VEVENT
UID:4582813e-a9fc-4159-cc83-08de9d98d356
DTSTAMP:20260418T222121Z
TRANSP:TRANSPARENT
DTSTART:20260426T120000Z
DTEND:20260426T120000Z
STATUS:CONFIRMED
SUMMARY:''Sihirli Oyuncak'' Bakırköy Bld. Tiyatroları
LOCATION:Kağıthane Sadabad Sahnesi
END:VEVENT
END:VCALENDAR
