BEGIN:VCALENDAR
VERSION:2.0
PRODID:itakvim.com
CALSCALE:GREGORIAN
METHOD:PUBLISH
UID:28xfqilhta4
X-WR-CALNAME:e-YDTS Sınav Takvimi
X-ITAKVIM-LANGUAGE:tr
X-ORIGINAL-URL:itakvim.com
REFRESH-INTERVAL;VALUE=DURATION:PT1H
X-ITAKVIM-REGION:TR
X-Robots-Tag:noindex
X-PUBLISHED-TTL:PT1H
BEGIN:VEVENT
UID:7c4e7ad3-2887-455a-4eab-08de9f183112
DTSTAMP:20260420T200538Z
TRANSP:TRANSPARENT
DTSTART:20260509T104500Z
DTEND:20260509T104500Z
STATUS:CONFIRMED
SUMMARY:e-YDTS Elektronik Yabancı Dil Olarak Türkçe Sınavı (e-YDTS) 
 Sınav
END:VEVENT
BEGIN:VEVENT
UID:169e6a26-5569-4cd0-4eac-08de9f183112
DTSTAMP:20260420T200538Z
TRANSP:TRANSPARENT
DTSTART:20260416T110000Z
DTEND:20260416T110000Z
STATUS:CONFIRMED
SUMMARY:e-YDTS Elektronik Yabancı Dil Olarak Türkçe Sınavı (e-YDTS) 
 Başvuru Başlangıç
END:VEVENT
BEGIN:VEVENT
UID:83154af2-7082-409c-4ead-08de9f183112
DTSTAMP:20260420T200538Z
TRANSP:TRANSPARENT
DTSTART:20260428T205900Z
DTEND:20260428T205900Z
STATUS:CONFIRMED
SUMMARY:e-YDTS Elektronik Yabancı Dil Olarak Türkçe Sınavı (e-YDTS) 
 Başvuru Bitiş
END:VEVENT
BEGIN:VEVENT
UID:44da380c-bf44-4f4f-4eae-08de9f183112
DTSTAMP:20260420T200538Z
TRANSP:TRANSPARENT
DTSTART:20260609T210000Z
DTEND:20260609T210000Z
STATUS:CONFIRMED
SUMMARY:e-YDTS Elektronik Yabancı Dil Olarak Türkçe Sınavı (e-YDTS) 
 Sonuç
END:VEVENT
END:VCALENDAR
