BEGIN:VCALENDAR
VERSION:2.0
PRODID:itakvim.com
CALSCALE:GREGORIAN
METHOD:PUBLISH
UID:2gks26k1u9s
X-WR-CALNAME:Sinop Örsan Eski Tekstil Fabrikası Takvimi
X-ITAKVIM-LANGUAGE:tr
X-ORIGINAL-URL:itakvim.com
REFRESH-INTERVAL;VALUE=DURATION:PT1H
X-ITAKVIM-REGION:TR
X-Robots-Tag:noindex
X-PUBLISHED-TTL:PT1H
BEGIN:VEVENT
UID:932e5f0e-31e2-4b8c-58ee-08de9f8ee600
DTSTAMP:20260421T101546Z
TRANSP:TRANSPARENT
DTSTART:20260615T060000Z
DTEND:20260621T150000Z
STATUS:CONFIRMED
SUMMARY:Karadeniz Tarım Hayvancılık Gıda Ve Teknolojileri Fuarı
DESCRIPTION:Proaktif Fuarcılık Limited Şirketi tarafından düzenlenen
  tarım\, hayvancılık\,tohum\, gıda meyvecilik\, sulama ve seracılı
 k\, traktör ve ekipmanları\, depolama sistemleri\, soğutma\, havaland
 ırma konulu fuarda görüşmek üzere: \n\nWeb:www.proaktiffuarcilik.co
 m\nE-Posta: info@proaktiffuarcilik.com
LOCATION:Örsan Eski Tekstil Fabrikası
BEGIN:VALARM
ACTION:DISPLAY
DESCRIPTION:Karadeniz Tarım Hayvancılık Gıda Ve Teknolojileri Fuarı
TRIGGER:-PT24H
END:VALARM
END:VEVENT
BEGIN:VEVENT
UID:61eb5323-12fe-4f7b-58ef-08de9f8ee600
DTSTAMP:20260421T101546Z
TRANSP:TRANSPARENT
DTSTART:20260615T060000Z
DTEND:20260621T150000Z
STATUS:CONFIRMED
SUMMARY:Norhtexpo Sinop Yapı İnşaat Prefabrik Ev Gayrimenkul Mobilya E
 v Gereçleri Yaşam Tekstil Fuarı
DESCRIPTION:Proaktif Fuarcılık Limited Şirketi tarafından düzenlenen
  yapı inşaat mobilya ev gereçleri giyim tekstil gayrimenkul doğalür
 ünler konulu fuarda görüşmek üzere: \n\nWeb:www.proaktiffuarcilik.c
 om\nE-Posta: info@proaktiffuarcilik.com
LOCATION:Örsan Eski Tekstil Fabrikası
BEGIN:VALARM
ACTION:DISPLAY
DESCRIPTION:Norhtexpo Sinop Yapı İnşaat Prefabrik Ev Gayrimenkul Mobil
 ya Ev Gereçleri Yaşam Tekstil Fuarı
TRIGGER:-PT24H
END:VALARM
END:VEVENT
END:VCALENDAR
