BEGIN:VCALENDAR
VERSION:2.0
PRODID:itakvim.com
CALSCALE:GREGORIAN
METHOD:PUBLISH
UID:2p0p9li9bo5
X-WR-CALNAME:Dini Günler Takvimi
X-ITAKVIM-LANGUAGE:tr
X-ORIGINAL-URL:itakvim.com
REFRESH-INTERVAL;VALUE=DURATION:PT1H
X-ITAKVIM-REGION:TR
X-Robots-Tag:noindex
X-PUBLISHED-TTL:PT1H
BEGIN:VEVENT
UID:503e86b3-416f-456f-4fc8-08de9f183112
DTSTAMP:20260420T200611Z
TRANSP:TRANSPARENT
DTSTART:20260114T210000Z
DTEND:20260114T210000Z
STATUS:CONFIRMED
SUMMARY:MİRAC KANDİLİ
END:VEVENT
BEGIN:VEVENT
UID:d341372b-edb7-497f-4fc9-08de9f183112
DTSTAMP:20260420T200611Z
TRANSP:TRANSPARENT
DTSTART:20260201T210000Z
DTEND:20260201T210000Z
STATUS:CONFIRMED
SUMMARY:BERAT KANDİLİ
END:VEVENT
BEGIN:VEVENT
UID:78df3e50-f49a-4192-4fca-08de9f183112
DTSTAMP:20260420T200611Z
TRANSP:TRANSPARENT
DTSTART:20260218T210000Z
DTEND:20260218T210000Z
STATUS:CONFIRMED
SUMMARY:RAMAZAN BAŞLANGICI
END:VEVENT
BEGIN:VEVENT
UID:db5f5a5a-4301-44f4-4fcb-08de9f183112
DTSTAMP:20260420T200611Z
TRANSP:TRANSPARENT
DTSTART:20260315T210000Z
DTEND:20260315T210000Z
STATUS:CONFIRMED
SUMMARY:KADİR GECESİ
END:VEVENT
BEGIN:VEVENT
UID:6de0d34b-1f95-491c-4fcc-08de9f183112
DTSTAMP:20260420T200611Z
TRANSP:TRANSPARENT
DTSTART:20260318T210000Z
DTEND:20260318T210000Z
STATUS:CONFIRMED
SUMMARY:AREFE
END:VEVENT
BEGIN:VEVENT
UID:c9cbdd58-ba1f-4ff8-4fcd-08de9f183112
DTSTAMP:20260420T200611Z
TRANSP:TRANSPARENT
DTSTART:20260319T210000Z
DTEND:20260319T210000Z
STATUS:CONFIRMED
SUMMARY:RAMAZAN BAYRAMI (1. Gün)
END:VEVENT
BEGIN:VEVENT
UID:4b2d3f36-b554-4596-4fce-08de9f183112
DTSTAMP:20260420T200611Z
TRANSP:TRANSPARENT
DTSTART:20260320T210000Z
DTEND:20260320T210000Z
STATUS:CONFIRMED
SUMMARY:RAMAZAN BAYRAMI (2. Gün)
END:VEVENT
BEGIN:VEVENT
UID:65a3c607-3cc2-4ce0-4fcf-08de9f183112
DTSTAMP:20260420T200611Z
TRANSP:TRANSPARENT
DTSTART:20260321T210000Z
DTEND:20260321T210000Z
STATUS:CONFIRMED
SUMMARY:RAMAZAN BAYRAMI (3. Gün)
END:VEVENT
BEGIN:VEVENT
UID:c2e7414d-a3cc-49d7-4fd0-08de9f183112
DTSTAMP:20260420T200611Z
TRANSP:TRANSPARENT
DTSTART:20260525T210000Z
DTEND:20260525T210000Z
STATUS:CONFIRMED
SUMMARY:AREFE
END:VEVENT
BEGIN:VEVENT
UID:6be409f5-a634-45d3-4fd1-08de9f183112
DTSTAMP:20260420T200611Z
TRANSP:TRANSPARENT
DTSTART:20260526T210000Z
DTEND:20260526T210000Z
STATUS:CONFIRMED
SUMMARY:KURBAN BAYRAMI (1. Gün)
END:VEVENT
BEGIN:VEVENT
UID:89da2ce8-3b8c-4080-4fd2-08de9f183112
DTSTAMP:20260420T200611Z
TRANSP:TRANSPARENT
DTSTART:20260527T210000Z
DTEND:20260527T210000Z
STATUS:CONFIRMED
SUMMARY:KURBAN BAYRAMI (2. Gün)
END:VEVENT
BEGIN:VEVENT
UID:afc94412-40ab-4af6-4fd3-08de9f183112
DTSTAMP:20260420T200611Z
TRANSP:TRANSPARENT
DTSTART:20260528T210000Z
DTEND:20260528T210000Z
STATUS:CONFIRMED
SUMMARY:KURBAN BAYRAMI (3. Gün)
END:VEVENT
BEGIN:VEVENT
UID:4666fec3-14c1-4e4e-4fd4-08de9f183112
DTSTAMP:20260420T200611Z
TRANSP:TRANSPARENT
DTSTART:20260529T210000Z
DTEND:20260529T210000Z
STATUS:CONFIRMED
SUMMARY:KURBAN BAYRAMI (4. Gün)
END:VEVENT
BEGIN:VEVENT
UID:07b25380-488e-41ef-4fd5-08de9f183112
DTSTAMP:20260420T200611Z
TRANSP:TRANSPARENT
DTSTART:20260615T210000Z
DTEND:20260615T210000Z
STATUS:CONFIRMED
SUMMARY:HİCRİ YILBAŞI
END:VEVENT
BEGIN:VEVENT
UID:5349d84c-05d0-43ef-4fd6-08de9f183112
DTSTAMP:20260420T200611Z
TRANSP:TRANSPARENT
DTSTART:20260624T210000Z
DTEND:20260624T210000Z
STATUS:CONFIRMED
SUMMARY:AŞURE GÜNÜ
END:VEVENT
BEGIN:VEVENT
UID:1bfa1574-03ac-4306-4fd7-08de9f183112
DTSTAMP:20260420T200611Z
TRANSP:TRANSPARENT
DTSTART:20260823T210000Z
DTEND:20260823T210000Z
STATUS:CONFIRMED
SUMMARY:MEVLİD KANDİLİ
END:VEVENT
BEGIN:VEVENT
UID:262acfc9-1ae1-4466-4fd8-08de9f183112
DTSTAMP:20260420T200611Z
TRANSP:TRANSPARENT
DTSTART:20261209T210000Z
DTEND:20261209T210000Z
STATUS:CONFIRMED
SUMMARY:ÜÇ AYLARIN BAŞLANGICI
END:VEVENT
BEGIN:VEVENT
UID:2e085ee2-9a3a-415c-4fd9-08de9f183112
DTSTAMP:20260420T200611Z
TRANSP:TRANSPARENT
DTSTART:20261209T210000Z
DTEND:20261209T210000Z
STATUS:CONFIRMED
SUMMARY:REGAİB KANDİLİ
END:VEVENT
END:VCALENDAR
