BEGIN:VCALENDAR
VERSION:2.0
PRODID:itakvim.com
CALSCALE:GREGORIAN
METHOD:PUBLISH
UID:2zbzciekzg6
X-WR-CALNAME:Intercontinental İstanbul Takvimi
X-ITAKVIM-LANGUAGE:tr
X-ORIGINAL-URL:itakvim.com
REFRESH-INTERVAL;VALUE=DURATION:PT1H
X-ITAKVIM-REGION:TR
X-Robots-Tag:noindex
X-PUBLISHED-TTL:PT1H
BEGIN:VEVENT
UID:cd39e4f7-2f29-40d2-8c3d-08de9dec68b5
DTSTAMP:20260419T083022Z
TRANSP:TRANSPARENT
DTSTART:20260214T060000Z
DTEND:20260214T150000Z
STATUS:CONFIRMED
SUMMARY:Studyexpo Yurtdışı Eğitim Fuarı
DESCRIPTION:Study Expo Fuarcılık A.Ş. tarafından düzenlenen yurtdı
 şı eğitim fuarı konulu fuarda görüşmek üzere: \n\nWeb:www.studye
 xpo.com\nE-Posta: info@studyexpo.com
LOCATION:Intercontinental İstanbul
BEGIN:VALARM
ACTION:DISPLAY
DESCRIPTION:Studyexpo Yurtdışı Eğitim Fuarı
TRIGGER:-PT24H
END:VALARM
END:VEVENT
END:VCALENDAR
