BEGIN:VCALENDAR
VERSION:2.0
PRODID:itakvim.com
CALSCALE:GREGORIAN
METHOD:PUBLISH
UID:39ndt8cgbo4
X-WR-CALNAME:Cennet Kültür ve Sanat Merkezi
X-ITAKVIM-LANGUAGE:tr
X-ORIGINAL-URL:itakvim.com
REFRESH-INTERVAL;VALUE=DURATION:PT1H
X-ITAKVIM-REGION:TR
X-Robots-Tag:noindex
X-PUBLISHED-TTL:PT1H
BEGIN:VEVENT
UID:41e948c0-abe1-4505-f9eb-08de6c5e9e8d
DTSTAMP:20260215T065607Z
TRANSP:TRANSPARENT
DTSTART:20260224T170000Z
DTEND:20260224T170000Z
STATUS:CONFIRMED
SUMMARY:Yatak Odası Komedisi
LOCATION:Cennet Kültür ve Sanat Merkezi
END:VEVENT
END:VCALENDAR
