BEGIN:VCALENDAR
VERSION:2.0
PRODID:itakvim.com
CALSCALE:GREGORIAN
METHOD:PUBLISH
UID:3hguvqv776t
X-WR-CALNAME:İnal Aydınoğlu K.M Şener Şen Sahnesi
X-ITAKVIM-LANGUAGE:tr
X-ORIGINAL-URL:itakvim.com
REFRESH-INTERVAL;VALUE=DURATION:PT1H
X-ITAKVIM-REGION:TR
X-Robots-Tag:noindex
X-PUBLISHED-TTL:PT1H
BEGIN:VEVENT
UID:f9a38c56-a477-409e-680e-08de623d31da
DTSTAMP:20260202T104517Z
TRANSP:TRANSPARENT
DTSTART:20260210T120000Z
DTEND:20260210T120000Z
STATUS:CONFIRMED
SUMMARY:Hayat Der Gülümserim
LOCATION:İnal Aydınoğlu K.M Şener Şen Sahnesi
END:VEVENT
BEGIN:VEVENT
UID:700c8ed7-5de9-4f89-680f-08de623d31da
DTSTAMP:20260202T104517Z
TRANSP:TRANSPARENT
DTSTART:20260210T170000Z
DTEND:20260210T170000Z
STATUS:CONFIRMED
SUMMARY:Hayat Der Gülümserim
LOCATION:İnal Aydınoğlu K.M Şener Şen Sahnesi
END:VEVENT
END:VCALENDAR
