BEGIN:VCALENDAR
VERSION:2.0
PRODID:itakvim.com
CALSCALE:GREGORIAN
METHOD:PUBLISH
UID:3hqd5suk7tl
X-WR-CALNAME:Haliç Kongre Merkezi-İstanbul Takvimi
X-ITAKVIM-LANGUAGE:tr
X-ORIGINAL-URL:itakvim.com
REFRESH-INTERVAL;VALUE=DURATION:PT1H
X-ITAKVIM-REGION:TR
X-Robots-Tag:noindex
X-PUBLISHED-TTL:PT1H
BEGIN:VEVENT
UID:9b6cba07-3092-4e34-5256-08de9f183112
DTSTAMP:20260420T200816Z
TRANSP:TRANSPARENT
DTSTART:20260909T060000Z
DTEND:20260910T150000Z
STATUS:CONFIRMED
SUMMARY:17. Perakende Zirvesi 2026, Yerel Zincirler Buluşuyor Fuarı
DESCRIPTION:Focus Fuar Ve Kongre Yönetimi Anonim Şirketi tarafından d
 üzenlenen market donanımları ve zincir marketlerde satılan ürünler
  konulu fuarda görüşmek üzere: \n\nWeb:www.yzb.focusfairs.com\nE-Pos
 ta: d.kuran@focusfairs.com
LOCATION:Haliç Kongre Merkezi-İstanbul
BEGIN:VALARM
ACTION:DISPLAY
DESCRIPTION:17. Perakende Zirvesi 2026, Yerel Zincirler Buluşuyor Fuarı
TRIGGER:-PT24H
END:VALARM
END:VEVENT
END:VCALENDAR
