BEGIN:VCALENDAR
VERSION:2.0
PRODID:itakvim.com
CALSCALE:GREGORIAN
METHOD:PUBLISH
UID:3k1emaakaj0
X-WR-CALNAME:İlan ve Reklam Vergisi
X-ITAKVIM-LANGUAGE:tr
X-ORIGINAL-URL:itakvim.com
REFRESH-INTERVAL;VALUE=DURATION:PT1H
X-ITAKVIM-REGION:TR
X-Robots-Tag:noindex
X-PUBLISHED-TTL:PT1H
BEGIN:VEVENT
UID:6e9f0854-6e6d-45ae-4fda-08de9f183112
DTSTAMP:20260420T200618Z
TRANSP:TRANSPARENT
DTSTART:20260401T060000Z
DTEND:20260401T060000Z
STATUS:CONFIRMED
SUMMARY:Mart 2026 Dönemine Ait İlan ve Reklam Vergisinin Beyanı ve Öd
 emesi Başlangıç
DESCRIPTION:Mart 2026 Dönemi İlan ve Reklam Vergisi Beyan ve Ödemesi
BEGIN:VALARM
ACTION:DISPLAY
DESCRIPTION:Mart 2026 Dönemine Ait İlan ve Reklam Vergisinin Beyanı ve
  Ödemesi Başlangıç
TRIGGER:PT0S
END:VALARM
END:VEVENT
BEGIN:VEVENT
UID:f0c850af-b4d3-48a0-4fdb-08de9f183112
DTSTAMP:20260420T200618Z
TRANSP:TRANSPARENT
DTSTART:20260420T140000Z
DTEND:20260420T140000Z
STATUS:CONFIRMED
SUMMARY:Mart 2026 Dönemi İlan ve Reklam Vergisi Beyan ve Ödemesi Son G
 ün
DESCRIPTION:Mart 2026 Dönemine Ait İlan ve Reklam Vergisinin Beyanı ve
  Ödemesi
BEGIN:VALARM
ACTION:DISPLAY
DESCRIPTION:Mart 2026 Dönemi İlan ve Reklam Vergisi Beyan ve Ödemesi S
 on Gün
TRIGGER:-PT8H
END:VALARM
END:VEVENT
BEGIN:VEVENT
UID:261e5dfe-8b1f-41e3-4fdc-08de9f183112
DTSTAMP:20260420T200618Z
TRANSP:TRANSPARENT
DTSTART:20260401T060000Z
DTEND:20260401T060000Z
STATUS:CONFIRMED
SUMMARY:Mart 2026 Dönemine Ait İlan ve Reklam Vergisinin Beyanı ve Öd
 emesi Başlangıç
DESCRIPTION:Mart 2026 Dönemi İlan ve Reklam Vergisi Beyan ve Ödemesi
BEGIN:VALARM
ACTION:DISPLAY
DESCRIPTION:Mart 2026 Dönemine Ait İlan ve Reklam Vergisinin Beyanı ve
  Ödemesi Başlangıç
TRIGGER:PT0S
END:VALARM
END:VEVENT
BEGIN:VEVENT
UID:f48363bc-a90a-4a80-4fdd-08de9f183112
DTSTAMP:20260420T200618Z
TRANSP:TRANSPARENT
DTSTART:20260420T140000Z
DTEND:20260420T140000Z
STATUS:CONFIRMED
SUMMARY:Mart 2026 Dönemi İlan ve Reklam Vergisi Beyan ve Ödemesi Son G
 ün
DESCRIPTION:Mart 2026 Dönemine Ait İlan ve Reklam Vergisinin Beyanı ve
  Ödemesi
BEGIN:VALARM
ACTION:DISPLAY
DESCRIPTION:Mart 2026 Dönemi İlan ve Reklam Vergisi Beyan ve Ödemesi S
 on Gün
TRIGGER:-PT8H
END:VALARM
END:VEVENT
END:VCALENDAR
