BEGIN:VCALENDAR
VERSION:2.0
PRODID:itakvim.com
CALSCALE:GREGORIAN
METHOD:PUBLISH
UID:3ne1jxzd6f3
X-WR-CALNAME:Yangın Sigortası Vergisi
X-ITAKVIM-LANGUAGE:tr
X-ORIGINAL-URL:itakvim.com
REFRESH-INTERVAL;VALUE=DURATION:PT1H
X-ITAKVIM-REGION:TR
X-Robots-Tag:noindex
X-PUBLISHED-TTL:PT1H
BEGIN:VEVENT
UID:6c7c0cf9-3a0c-4242-4fde-08de9f183112
DTSTAMP:20260420T200618Z
TRANSP:TRANSPARENT
DTSTART:20260401T060000Z
DTEND:20260401T060000Z
STATUS:CONFIRMED
SUMMARY:Mart 2026 Dönemine Ait Yangın Sigortası Vergisinin Beyanı ve 
 Ödemesi Başlangıç
DESCRIPTION:Mart 2026 Dönemi Yangın Sigortası Vergisi Beyan ve Ödemes
 i
BEGIN:VALARM
ACTION:DISPLAY
DESCRIPTION:Mart 2026 Dönemine Ait Yangın Sigortası Vergisinin Beyanı
  ve Ödemesi Başlangıç
TRIGGER:PT0S
END:VALARM
END:VEVENT
BEGIN:VEVENT
UID:c5173394-6bba-4187-4fdf-08de9f183112
DTSTAMP:20260420T200618Z
TRANSP:TRANSPARENT
DTSTART:20260420T140000Z
DTEND:20260420T140000Z
STATUS:CONFIRMED
SUMMARY:Mart 2026 Dönemi Yangın Sigortası Vergisi Beyan ve Ödemesi So
 n Gün
DESCRIPTION:Mart 2026 Dönemine Ait Yangın Sigortası Vergisinin Beyanı
  ve Ödemesi
BEGIN:VALARM
ACTION:DISPLAY
DESCRIPTION:Mart 2026 Dönemi Yangın Sigortası Vergisi Beyan ve Ödemes
 i Son Gün
TRIGGER:-PT8H
END:VALARM
END:VEVENT
BEGIN:VEVENT
UID:46568b64-9486-4d66-4fe0-08de9f183112
DTSTAMP:20260420T200618Z
TRANSP:TRANSPARENT
DTSTART:20260401T060000Z
DTEND:20260401T060000Z
STATUS:CONFIRMED
SUMMARY:Mart 2026 Dönemine Ait Yangın Sigortası Vergisinin Beyanı ve 
 Ödemesi Başlangıç
DESCRIPTION:Mart 2026 Dönemi Yangın Sigortası Vergisi Beyan ve Ödemes
 i
BEGIN:VALARM
ACTION:DISPLAY
DESCRIPTION:Mart 2026 Dönemine Ait Yangın Sigortası Vergisinin Beyanı
  ve Ödemesi Başlangıç
TRIGGER:PT0S
END:VALARM
END:VEVENT
BEGIN:VEVENT
UID:a4538e81-c5ca-4188-4fe1-08de9f183112
DTSTAMP:20260420T200618Z
TRANSP:TRANSPARENT
DTSTART:20260420T140000Z
DTEND:20260420T140000Z
STATUS:CONFIRMED
SUMMARY:Mart 2026 Dönemi Yangın Sigortası Vergisi Beyan ve Ödemesi So
 n Gün
DESCRIPTION:Mart 2026 Dönemine Ait Yangın Sigortası Vergisinin Beyanı
  ve Ödemesi
BEGIN:VALARM
ACTION:DISPLAY
DESCRIPTION:Mart 2026 Dönemi Yangın Sigortası Vergisi Beyan ve Ödemes
 i Son Gün
TRIGGER:-PT8H
END:VALARM
END:VEVENT
END:VCALENDAR
