BEGIN:VCALENDAR
VERSION:2.0
PRODID:itakvim.com
CALSCALE:GREGORIAN
METHOD:PUBLISH
UID:3okqlq7oo7j
X-WR-CALNAME:İYÖS Sınav Takvimi
X-ITAKVIM-LANGUAGE:tr
X-ORIGINAL-URL:itakvim.com
REFRESH-INTERVAL;VALUE=DURATION:PT1H
X-ITAKVIM-REGION:TR
X-Robots-Tag:noindex
X-PUBLISHED-TTL:PT1H
BEGIN:VEVENT
UID:528c5505-e0dc-4175-4eaf-08de9f183112
DTSTAMP:20260420T200538Z
TRANSP:TRANSPARENT
DTSTART:20260926T210000Z
DTEND:20260926T210000Z
STATUS:CONFIRMED
SUMMARY:İYÖS İdari Yargı Ön Sınavı 2026-İYÖS Sınav
END:VEVENT
BEGIN:VEVENT
UID:ddd744b9-cfcf-4e74-4eb0-08de9f183112
DTSTAMP:20260420T200538Z
TRANSP:TRANSPARENT
DTSTART:20260810T210000Z
DTEND:20260810T210000Z
STATUS:CONFIRMED
SUMMARY:İYÖS İdari Yargı Ön Sınavı 2026-İYÖS Başvuru Başlangı
 ç
END:VEVENT
BEGIN:VEVENT
UID:ac252bcc-80c2-487c-4eb1-08de9f183112
DTSTAMP:20260420T200538Z
TRANSP:TRANSPARENT
DTSTART:20260818T210000Z
DTEND:20260818T210000Z
STATUS:CONFIRMED
SUMMARY:İYÖS İdari Yargı Ön Sınavı 2026-İYÖS Başvuru Bitiş
END:VEVENT
BEGIN:VEVENT
UID:e5be2e5c-5587-460c-4eb2-08de9f183112
DTSTAMP:20260420T200538Z
TRANSP:TRANSPARENT
DTSTART:20260825T210000Z
DTEND:20260825T210000Z
STATUS:CONFIRMED
SUMMARY:İYÖS İdari Yargı Ön Sınavı 2026-İYÖS Geç Başvuru Başl
 angıç
END:VEVENT
BEGIN:VEVENT
UID:59a2b84e-47d7-43df-4eb3-08de9f183112
DTSTAMP:20260420T200538Z
TRANSP:TRANSPARENT
DTSTART:20260826T205900Z
DTEND:20260826T205900Z
STATUS:CONFIRMED
SUMMARY:İYÖS İdari Yargı Ön Sınavı 2026-İYÖS Geç Başvuru Biti
 ş
END:VEVENT
BEGIN:VEVENT
UID:cdca51c8-f605-4a04-4eb4-08de9f183112
DTSTAMP:20260420T200538Z
TRANSP:TRANSPARENT
DTSTART:20261021T210000Z
DTEND:20261021T210000Z
STATUS:CONFIRMED
SUMMARY:İYÖS İdari Yargı Ön Sınavı 2026-İYÖS Sonuç
END:VEVENT
END:VCALENDAR
