BEGIN:VCALENDAR
VERSION:2.0
PRODID:itakvim.com
CALSCALE:GREGORIAN
METHOD:PUBLISH
UID:3qsfmtyl6jf
X-WR-CALNAME:HMGS Sınav Takvimi
X-ITAKVIM-LANGUAGE:tr
X-ORIGINAL-URL:itakvim.com
REFRESH-INTERVAL;VALUE=DURATION:PT1H
X-ITAKVIM-REGION:TR
X-Robots-Tag:noindex
X-PUBLISHED-TTL:PT1H
BEGIN:VEVENT
UID:c77db110-886d-4dcb-4eb5-08de9f183112
DTSTAMP:20260420T200538Z
TRANSP:TRANSPARENT
DTSTART:20260425T210000Z
DTEND:20260425T210000Z
STATUS:CONFIRMED
SUMMARY:HMGS Hukuk Mesleklerine Giriş Sınavı 2026-HMGS/1 Sınav
END:VEVENT
BEGIN:VEVENT
UID:2ead936e-a9d6-41bc-4eb6-08de9f183112
DTSTAMP:20260420T200538Z
TRANSP:TRANSPARENT
DTSTART:20260308T210000Z
DTEND:20260308T210000Z
STATUS:CONFIRMED
SUMMARY:HMGS Hukuk Mesleklerine Giriş Sınavı 2026-HMGS/1 Başvuru Baş
 langıç
END:VEVENT
BEGIN:VEVENT
UID:e4ba9319-c29f-4f8c-4eb7-08de9f183112
DTSTAMP:20260420T200538Z
TRANSP:TRANSPARENT
DTSTART:20260316T210000Z
DTEND:20260316T210000Z
STATUS:CONFIRMED
SUMMARY:HMGS Hukuk Mesleklerine Giriş Sınavı 2026-HMGS/1 Başvuru Biti
 ş
END:VEVENT
BEGIN:VEVENT
UID:de75d028-933e-4e16-4eb8-08de9f183112
DTSTAMP:20260420T200538Z
TRANSP:TRANSPARENT
DTSTART:20260325T210000Z
DTEND:20260325T210000Z
STATUS:CONFIRMED
SUMMARY:HMGS Hukuk Mesleklerine Giriş Sınavı 2026-HMGS/1 Geç Başvuru
  Başlangıç
END:VEVENT
BEGIN:VEVENT
UID:568da38b-1a74-417c-4eb9-08de9f183112
DTSTAMP:20260420T200538Z
TRANSP:TRANSPARENT
DTSTART:20260326T205900Z
DTEND:20260326T205900Z
STATUS:CONFIRMED
SUMMARY:HMGS Hukuk Mesleklerine Giriş Sınavı 2026-HMGS/1 Geç Başvuru
  Bitiş
END:VEVENT
BEGIN:VEVENT
UID:c0a3a4cc-c315-45b5-4eba-08de9f183112
DTSTAMP:20260420T200538Z
TRANSP:TRANSPARENT
DTSTART:20260520T210000Z
DTEND:20260520T210000Z
STATUS:CONFIRMED
SUMMARY:HMGS Hukuk Mesleklerine Giriş Sınavı 2026-HMGS/1 Sonuç
END:VEVENT
BEGIN:VEVENT
UID:3a8c7611-0553-41d3-4ebb-08de9f183112
DTSTAMP:20260420T200538Z
TRANSP:TRANSPARENT
DTSTART:20260926T210000Z
DTEND:20260926T210000Z
STATUS:CONFIRMED
SUMMARY:HMGS Hukuk Mesleklerine Giriş Sınavı 2026-HMGS/2 Sınav
END:VEVENT
BEGIN:VEVENT
UID:7770033f-c5a2-438a-4ebc-08de9f183112
DTSTAMP:20260420T200538Z
TRANSP:TRANSPARENT
DTSTART:20260810T210000Z
DTEND:20260810T210000Z
STATUS:CONFIRMED
SUMMARY:HMGS Hukuk Mesleklerine Giriş Sınavı 2026-HMGS/2 Başvuru Baş
 langıç
END:VEVENT
BEGIN:VEVENT
UID:e289dd9f-f583-4a8e-4ebd-08de9f183112
DTSTAMP:20260420T200538Z
TRANSP:TRANSPARENT
DTSTART:20260818T210000Z
DTEND:20260818T210000Z
STATUS:CONFIRMED
SUMMARY:HMGS Hukuk Mesleklerine Giriş Sınavı 2026-HMGS/2 Başvuru Biti
 ş
END:VEVENT
BEGIN:VEVENT
UID:d5ec36f9-5666-4578-4ebe-08de9f183112
DTSTAMP:20260420T200538Z
TRANSP:TRANSPARENT
DTSTART:20260825T210000Z
DTEND:20260825T210000Z
STATUS:CONFIRMED
SUMMARY:HMGS Hukuk Mesleklerine Giriş Sınavı 2026-HMGS/2 Geç Başvuru
  Başlangıç
END:VEVENT
BEGIN:VEVENT
UID:40b47480-9a20-460b-4ebf-08de9f183112
DTSTAMP:20260420T200538Z
TRANSP:TRANSPARENT
DTSTART:20260826T205900Z
DTEND:20260826T205900Z
STATUS:CONFIRMED
SUMMARY:HMGS Hukuk Mesleklerine Giriş Sınavı 2026-HMGS/2 Geç Başvuru
  Bitiş
END:VEVENT
BEGIN:VEVENT
UID:21c8460f-967f-44fd-4ec0-08de9f183112
DTSTAMP:20260420T200538Z
TRANSP:TRANSPARENT
DTSTART:20261021T210000Z
DTEND:20261021T210000Z
STATUS:CONFIRMED
SUMMARY:HMGS Hukuk Mesleklerine Giriş Sınavı 2026-HMGS/2 Sonuç
END:VEVENT
END:VCALENDAR
