BEGIN:VCALENDAR
VERSION:2.0
PRODID:itakvim.com
CALSCALE:GREGORIAN
METHOD:PUBLISH
UID:3rgbk9392rb
X-WR-CALNAME:Şans Oyunları Vergisi
X-ITAKVIM-LANGUAGE:tr
X-ORIGINAL-URL:itakvim.com
REFRESH-INTERVAL;VALUE=DURATION:PT1H
X-ITAKVIM-REGION:TR
X-Robots-Tag:noindex
X-PUBLISHED-TTL:PT1H
BEGIN:VEVENT
UID:3b87c5d8-c7af-4723-4fe2-08de9f183112
DTSTAMP:20260420T200618Z
TRANSP:TRANSPARENT
DTSTART:20260401T060000Z
DTEND:20260401T060000Z
STATUS:CONFIRMED
SUMMARY:Mart 2026 Dönemine Ait Şans Oyunları Vergisinin Beyanı ve Öd
 emesi Başlangıç
DESCRIPTION:Mart 2026 Dönemi Şans Oyunları Vergisi Beyan ve Ödemesi
BEGIN:VALARM
ACTION:DISPLAY
DESCRIPTION:Mart 2026 Dönemine Ait Şans Oyunları Vergisinin Beyanı ve
  Ödemesi Başlangıç
TRIGGER:PT0S
END:VALARM
END:VEVENT
BEGIN:VEVENT
UID:a2833636-e581-4230-4fe3-08de9f183112
DTSTAMP:20260420T200618Z
TRANSP:TRANSPARENT
DTSTART:20260420T140000Z
DTEND:20260420T140000Z
STATUS:CONFIRMED
SUMMARY:Mart 2026 Dönemi Şans Oyunları Vergisi Beyan ve Ödemesi Son G
 ün
DESCRIPTION:Mart 2026 Dönemine Ait Şans Oyunları Vergisinin Beyanı ve
  Ödemesi
BEGIN:VALARM
ACTION:DISPLAY
DESCRIPTION:Mart 2026 Dönemi Şans Oyunları Vergisi Beyan ve Ödemesi S
 on Gün
TRIGGER:-PT8H
END:VALARM
END:VEVENT
BEGIN:VEVENT
UID:40e922bd-e471-463f-4fe4-08de9f183112
DTSTAMP:20260420T200618Z
TRANSP:TRANSPARENT
DTSTART:20260401T060000Z
DTEND:20260401T060000Z
STATUS:CONFIRMED
SUMMARY:Mart 2026 Dönemine Ait Şans Oyunları Vergisinin Beyanı ve Öd
 emesi Başlangıç
DESCRIPTION:Mart 2026 Dönemi Şans Oyunları Vergisi Beyan ve Ödemesi
BEGIN:VALARM
ACTION:DISPLAY
DESCRIPTION:Mart 2026 Dönemine Ait Şans Oyunları Vergisinin Beyanı ve
  Ödemesi Başlangıç
TRIGGER:PT0S
END:VALARM
END:VEVENT
BEGIN:VEVENT
UID:2432fdc8-4c10-4432-4fe5-08de9f183112
DTSTAMP:20260420T200618Z
TRANSP:TRANSPARENT
DTSTART:20260420T140000Z
DTEND:20260420T140000Z
STATUS:CONFIRMED
SUMMARY:Mart 2026 Dönemi Şans Oyunları Vergisi Beyan ve Ödemesi Son G
 ün
DESCRIPTION:Mart 2026 Dönemine Ait Şans Oyunları Vergisinin Beyanı ve
  Ödemesi
BEGIN:VALARM
ACTION:DISPLAY
DESCRIPTION:Mart 2026 Dönemi Şans Oyunları Vergisi Beyan ve Ödemesi S
 on Gün
TRIGGER:-PT8H
END:VALARM
END:VEVENT
END:VCALENDAR
