BEGIN:VCALENDAR
VERSION:2.0
PRODID:itakvim.com
CALSCALE:GREGORIAN
METHOD:PUBLISH
UID:41eg11wybox
X-WR-CALNAME:Afyonkarahisar Dinar Çok Amaçlı Fuar Ve Etkinlik Alanı Takvimi
X-ITAKVIM-LANGUAGE:tr
X-ORIGINAL-URL:itakvim.com
REFRESH-INTERVAL;VALUE=DURATION:PT1H
X-ITAKVIM-REGION:TR
X-Robots-Tag:noindex
X-PUBLISHED-TTL:PT1H
BEGIN:VEVENT
UID:20c18d1d-09df-4c30-5257-08de9f183112
DTSTAMP:20260420T200816Z
TRANSP:TRANSPARENT
DTSTART:20260924T060000Z
DTEND:20260927T150000Z
STATUS:CONFIRMED
SUMMARY:Dinar Tarım Hayvancılık Makinaları, Teknolojileri Ve Yem Fuar
 ı
DESCRIPTION:Başak Fuar Hizmetleri Limited Şirketi tarafından düzenlen
 en tarım\, tarımsal mekanizasyon\, seracılık\, hayvancılık teknolo
 jileri\, gıda ve yem konulu fuarda görüşmek üzere: \n\nWeb:www.basa
 kfuar.com\nE-Posta: sedatbozkurt3@gmail.com\; info@basakfuar.com
LOCATION:Dinar Çok Amaçlı Fuar Ve Etkinlik Alanı
BEGIN:VALARM
ACTION:DISPLAY
DESCRIPTION:Dinar Tarım Hayvancılık Makinaları, Teknolojileri Ve Yem 
 Fuarı
TRIGGER:-PT24H
END:VALARM
END:VEVENT
END:VCALENDAR
