BEGIN:VCALENDAR
VERSION:2.0
PRODID:itakvim.com
CALSCALE:GREGORIAN
METHOD:PUBLISH
UID:45llbu156lf
X-WR-CALNAME:YKS Sınav Takvimi
X-ITAKVIM-LANGUAGE:tr
X-ORIGINAL-URL:itakvim.com
REFRESH-INTERVAL;VALUE=DURATION:PT1H
X-ITAKVIM-REGION:TR
X-Robots-Tag:noindex
X-PUBLISHED-TTL:PT1H
BEGIN:VEVENT
UID:332d79e7-c012-48ce-4ec1-08de9f183112
DTSTAMP:20260420T200538Z
TRANSP:TRANSPARENT
DTSTART:20260620T071500Z
DTEND:20260620T071500Z
STATUS:CONFIRMED
SUMMARY:YKS Yükseköğretim Kurumları Sınavı 2026-YKS 1. Oturum (TYT)
  Sınav
END:VEVENT
BEGIN:VEVENT
UID:a3bd7d29-d82b-4ecc-4ec2-08de9f183112
DTSTAMP:20260420T200538Z
TRANSP:TRANSPARENT
DTSTART:20260206T113000Z
DTEND:20260206T113000Z
STATUS:CONFIRMED
SUMMARY:YKS Yükseköğretim Kurumları Sınavı 2026-YKS 1. Oturum (TYT)
  Başvuru Başlangıç
END:VEVENT
BEGIN:VEVENT
UID:69f65a94-f253-4729-4ec3-08de9f183112
DTSTAMP:20260420T200538Z
TRANSP:TRANSPARENT
DTSTART:20260302T205900Z
DTEND:20260302T205900Z
STATUS:CONFIRMED
SUMMARY:YKS Yükseköğretim Kurumları Sınavı 2026-YKS 1. Oturum (TYT)
  Başvuru Bitiş
END:VEVENT
BEGIN:VEVENT
UID:1137a5b2-e1b7-4fdc-4ec4-08de9f183112
DTSTAMP:20260420T200538Z
TRANSP:TRANSPARENT
DTSTART:20260309T210000Z
DTEND:20260309T210000Z
STATUS:CONFIRMED
SUMMARY:YKS Yükseköğretim Kurumları Sınavı 2026-YKS 1. Oturum (TYT)
  Geç Başvuru Başlangıç
END:VEVENT
BEGIN:VEVENT
UID:8e7c923a-a017-490d-4ec5-08de9f183112
DTSTAMP:20260420T200538Z
TRANSP:TRANSPARENT
DTSTART:20260312T205900Z
DTEND:20260312T205900Z
STATUS:CONFIRMED
SUMMARY:YKS Yükseköğretim Kurumları Sınavı 2026-YKS 1. Oturum (TYT)
  Geç Başvuru Bitiş
END:VEVENT
BEGIN:VEVENT
UID:35696ade-170c-4888-4ec6-08de9f183112
DTSTAMP:20260420T200538Z
TRANSP:TRANSPARENT
DTSTART:20260721T210000Z
DTEND:20260721T210000Z
STATUS:CONFIRMED
SUMMARY:YKS Yükseköğretim Kurumları Sınavı 2026-YKS 1. Oturum (TYT)
  Sonuç
END:VEVENT
BEGIN:VEVENT
UID:68af3765-89cb-4976-4ec7-08de9f183112
DTSTAMP:20260420T200538Z
TRANSP:TRANSPARENT
DTSTART:20260621T071500Z
DTEND:20260621T071500Z
STATUS:CONFIRMED
SUMMARY:YKS Yükseköğretim Kurumları Sınavı 2026-YKS 2. Oturum (AYT)
  Sınav
END:VEVENT
BEGIN:VEVENT
UID:dcdbb586-0799-48c6-4ec8-08de9f183112
DTSTAMP:20260420T200538Z
TRANSP:TRANSPARENT
DTSTART:20260206T113000Z
DTEND:20260206T113000Z
STATUS:CONFIRMED
SUMMARY:YKS Yükseköğretim Kurumları Sınavı 2026-YKS 2. Oturum (AYT)
  Başvuru Başlangıç
END:VEVENT
BEGIN:VEVENT
UID:90ed1012-b8fd-423d-4ec9-08de9f183112
DTSTAMP:20260420T200538Z
TRANSP:TRANSPARENT
DTSTART:20260302T205900Z
DTEND:20260302T205900Z
STATUS:CONFIRMED
SUMMARY:YKS Yükseköğretim Kurumları Sınavı 2026-YKS 2. Oturum (AYT)
  Başvuru Bitiş
END:VEVENT
BEGIN:VEVENT
UID:c5006cd1-f7e8-45cb-4eca-08de9f183112
DTSTAMP:20260420T200538Z
TRANSP:TRANSPARENT
DTSTART:20260309T210000Z
DTEND:20260309T210000Z
STATUS:CONFIRMED
SUMMARY:YKS Yükseköğretim Kurumları Sınavı 2026-YKS 2. Oturum (AYT)
  Geç Başvuru Başlangıç
END:VEVENT
BEGIN:VEVENT
UID:5e76955b-770b-4f34-4ecb-08de9f183112
DTSTAMP:20260420T200538Z
TRANSP:TRANSPARENT
DTSTART:20260312T205900Z
DTEND:20260312T205900Z
STATUS:CONFIRMED
SUMMARY:YKS Yükseköğretim Kurumları Sınavı 2026-YKS 2. Oturum (AYT)
  Geç Başvuru Bitiş
END:VEVENT
BEGIN:VEVENT
UID:e9d8dbd2-dc10-4706-4ecc-08de9f183112
DTSTAMP:20260420T200538Z
TRANSP:TRANSPARENT
DTSTART:20260721T210000Z
DTEND:20260721T210000Z
STATUS:CONFIRMED
SUMMARY:YKS Yükseköğretim Kurumları Sınavı 2026-YKS 2. Oturum (AYT)
  Sonuç
END:VEVENT
BEGIN:VEVENT
UID:708350a5-e05b-47a1-4ecd-08de9f183112
DTSTAMP:20260420T200538Z
TRANSP:TRANSPARENT
DTSTART:20260621T124500Z
DTEND:20260621T124500Z
STATUS:CONFIRMED
SUMMARY:YKS Yükseköğretim Kurumları Sınavı 2026-YKS 3. Oturum (YDT)
  Sınav
END:VEVENT
BEGIN:VEVENT
UID:6adeb834-a7b7-497d-4ece-08de9f183112
DTSTAMP:20260420T200538Z
TRANSP:TRANSPARENT
DTSTART:20260206T113000Z
DTEND:20260206T113000Z
STATUS:CONFIRMED
SUMMARY:YKS Yükseköğretim Kurumları Sınavı 2026-YKS 3. Oturum (YDT)
  Başvuru Başlangıç
END:VEVENT
BEGIN:VEVENT
UID:241481f5-a274-4bd2-4ecf-08de9f183112
DTSTAMP:20260420T200538Z
TRANSP:TRANSPARENT
DTSTART:20260302T205900Z
DTEND:20260302T205900Z
STATUS:CONFIRMED
SUMMARY:YKS Yükseköğretim Kurumları Sınavı 2026-YKS 3. Oturum (YDT)
  Başvuru Bitiş
END:VEVENT
BEGIN:VEVENT
UID:9c91b7d8-f06f-49ce-4ed0-08de9f183112
DTSTAMP:20260420T200538Z
TRANSP:TRANSPARENT
DTSTART:20260309T210000Z
DTEND:20260309T210000Z
STATUS:CONFIRMED
SUMMARY:YKS Yükseköğretim Kurumları Sınavı 2026-YKS 3. Oturum (YDT)
  Geç Başvuru Başlangıç
END:VEVENT
BEGIN:VEVENT
UID:8b455109-5879-4f1a-4ed1-08de9f183112
DTSTAMP:20260420T200538Z
TRANSP:TRANSPARENT
DTSTART:20260312T205900Z
DTEND:20260312T205900Z
STATUS:CONFIRMED
SUMMARY:YKS Yükseköğretim Kurumları Sınavı 2026-YKS 3. Oturum (YDT)
  Geç Başvuru Bitiş
END:VEVENT
BEGIN:VEVENT
UID:b9d29032-7a14-48f1-4ed2-08de9f183112
DTSTAMP:20260420T200538Z
TRANSP:TRANSPARENT
DTSTART:20260721T210000Z
DTEND:20260721T210000Z
STATUS:CONFIRMED
SUMMARY:YKS Yükseköğretim Kurumları Sınavı 2026-YKS 3. Oturum (YDT)
  Sonuç
END:VEVENT
END:VCALENDAR
