BEGIN:VCALENDAR
VERSION:2.0
PRODID:itakvim.com
CALSCALE:GREGORIAN
METHOD:PUBLISH
UID:4cucqs5gvn4
X-WR-CALNAME:YDS Sınav Takvimi
X-ITAKVIM-LANGUAGE:tr
X-ORIGINAL-URL:itakvim.com
REFRESH-INTERVAL;VALUE=DURATION:PT1H
X-ITAKVIM-REGION:TR
X-Robots-Tag:noindex
X-PUBLISHED-TTL:PT1H
BEGIN:VEVENT
UID:4c06724a-310e-4643-4ed3-08de9f183112
DTSTAMP:20260420T200538Z
TRANSP:TRANSPARENT
DTSTART:20260405T071500Z
DTEND:20260405T071500Z
STATUS:CONFIRMED
SUMMARY:YDS Yabancı Dil Bilgisi Seviye Tespit Sınavı 2026-YDS/1 Sınav
END:VEVENT
BEGIN:VEVENT
UID:4f65262f-7410-457d-4ed4-08de9f183112
DTSTAMP:20260420T200538Z
TRANSP:TRANSPARENT
DTSTART:20260218T070000Z
DTEND:20260218T070000Z
STATUS:CONFIRMED
SUMMARY:YDS Yabancı Dil Bilgisi Seviye Tespit Sınavı 2026-YDS/1 Başvu
 ru Başlangıç
END:VEVENT
BEGIN:VEVENT
UID:3819e6fe-366e-496f-4ed5-08de9f183112
DTSTAMP:20260420T200538Z
TRANSP:TRANSPARENT
DTSTART:20260226T205900Z
DTEND:20260226T205900Z
STATUS:CONFIRMED
SUMMARY:YDS Yabancı Dil Bilgisi Seviye Tespit Sınavı 2026-YDS/1 Başvu
 ru Bitiş
END:VEVENT
BEGIN:VEVENT
UID:e937b2ba-a3b1-48df-4ed6-08de9f183112
DTSTAMP:20260420T200538Z
TRANSP:TRANSPARENT
DTSTART:20260303T210000Z
DTEND:20260303T210000Z
STATUS:CONFIRMED
SUMMARY:YDS Yabancı Dil Bilgisi Seviye Tespit Sınavı 2026-YDS/1 Geç B
 aşvuru Başlangıç
END:VEVENT
BEGIN:VEVENT
UID:71e037ae-4d26-4f4a-4ed7-08de9f183112
DTSTAMP:20260420T200538Z
TRANSP:TRANSPARENT
DTSTART:20260304T205900Z
DTEND:20260304T205900Z
STATUS:CONFIRMED
SUMMARY:YDS Yabancı Dil Bilgisi Seviye Tespit Sınavı 2026-YDS/1 Geç B
 aşvuru Bitiş
END:VEVENT
BEGIN:VEVENT
UID:db7d4b19-2a63-41a6-4ed8-08de9f183112
DTSTAMP:20260420T200538Z
TRANSP:TRANSPARENT
DTSTART:20260429T210000Z
DTEND:20260429T210000Z
STATUS:CONFIRMED
SUMMARY:YDS Yabancı Dil Bilgisi Seviye Tespit Sınavı 2026-YDS/1 Sonuç
END:VEVENT
BEGIN:VEVENT
UID:9a962e39-e64e-4e89-4ed9-08de9f183112
DTSTAMP:20260420T200538Z
TRANSP:TRANSPARENT
DTSTART:20261121T210000Z
DTEND:20261121T210000Z
STATUS:CONFIRMED
SUMMARY:YDS Yabancı Dil Bilgisi Seviye Tespit Sınavı 2026-YDS/2 Sınav
END:VEVENT
BEGIN:VEVENT
UID:8437801e-55b8-4e8f-4eda-08de9f183112
DTSTAMP:20260420T200538Z
TRANSP:TRANSPARENT
DTSTART:20260929T210000Z
DTEND:20260929T210000Z
STATUS:CONFIRMED
SUMMARY:YDS Yabancı Dil Bilgisi Seviye Tespit Sınavı 2026-YDS/2 Başvu
 ru Başlangıç
END:VEVENT
BEGIN:VEVENT
UID:59026f32-97a9-4315-4edb-08de9f183112
DTSTAMP:20260420T200538Z
TRANSP:TRANSPARENT
DTSTART:20261007T210000Z
DTEND:20261007T210000Z
STATUS:CONFIRMED
SUMMARY:YDS Yabancı Dil Bilgisi Seviye Tespit Sınavı 2026-YDS/2 Başvu
 ru Bitiş
END:VEVENT
BEGIN:VEVENT
UID:44400714-510f-454e-4edc-08de9f183112
DTSTAMP:20260420T200538Z
TRANSP:TRANSPARENT
DTSTART:20261013T210000Z
DTEND:20261013T210000Z
STATUS:CONFIRMED
SUMMARY:YDS Yabancı Dil Bilgisi Seviye Tespit Sınavı 2026-YDS/2 Geç B
 aşvuru Başlangıç
END:VEVENT
BEGIN:VEVENT
UID:adf3a166-fc12-472d-4edd-08de9f183112
DTSTAMP:20260420T200538Z
TRANSP:TRANSPARENT
DTSTART:20261014T205900Z
DTEND:20261014T205900Z
STATUS:CONFIRMED
SUMMARY:YDS Yabancı Dil Bilgisi Seviye Tespit Sınavı 2026-YDS/2 Geç B
 aşvuru Bitiş
END:VEVENT
BEGIN:VEVENT
UID:c6ca72a8-b92e-4c5a-4ede-08de9f183112
DTSTAMP:20260420T200538Z
TRANSP:TRANSPARENT
DTSTART:20261209T210000Z
DTEND:20261209T210000Z
STATUS:CONFIRMED
SUMMARY:YDS Yabancı Dil Bilgisi Seviye Tespit Sınavı 2026-YDS/2 Sonuç
END:VEVENT
END:VCALENDAR
