BEGIN:VCALENDAR
VERSION:2.0
PRODID:itakvim.com
CALSCALE:GREGORIAN
METHOD:PUBLISH
UID:4g9486okjif
X-WR-CALNAME:Muğla Milas Tariş Fuar Merkezi Takvimi
X-ITAKVIM-LANGUAGE:tr
X-ORIGINAL-URL:itakvim.com
REFRESH-INTERVAL;VALUE=DURATION:PT1H
X-ITAKVIM-REGION:TR
X-Robots-Tag:noindex
X-PUBLISHED-TTL:PT1H
BEGIN:VEVENT
UID:717a3ca1-62a1-4330-8c41-08de9dec68b5
DTSTAMP:20260419T083022Z
TRANSP:TRANSPARENT
DTSTART:20260312T060000Z
DTEND:20260315T150000Z
STATUS:CONFIRMED
SUMMARY:Farmers' Fair - Güney Ege 17. Gıda, Tarım Ve Hayvancılık Fua
 rı
DESCRIPTION:Expoline Fuarcılık Ticaret Limited Şirketi tarafından dü
 zenlenen tarım\, gıda\, hayvancılık teknolojileri ve endüstrileri k
 onulu fuarda görüşmek üzere: \n\nWeb:www.expolinefuar.com\nE-Posta: 
 yavuzhakbilir@gmail.com
LOCATION:Milas Tariş Fuar Merkezi
BEGIN:VALARM
ACTION:DISPLAY
DESCRIPTION:Farmers' Fair - Güney Ege 17. Gıda, Tarım Ve Hayvancılık
  Fuarı
TRIGGER:-PT24H
END:VALARM
END:VEVENT
END:VCALENDAR
