BEGIN:VCALENDAR
VERSION:2.0
PRODID:itakvim.com
CALSCALE:GREGORIAN
METHOD:PUBLISH
UID:4p0nzik0cw5
X-WR-CALNAME:Hatay Büyükşehir Belediyesi Fuar Alanı Takvimi
X-ITAKVIM-LANGUAGE:tr
X-ORIGINAL-URL:itakvim.com
REFRESH-INTERVAL;VALUE=DURATION:PT1H
X-ITAKVIM-REGION:TR
X-Robots-Tag:noindex
X-PUBLISHED-TTL:PT1H
BEGIN:VEVENT
UID:dc92ddde-415b-4c6c-58f7-08de9f8ee600
DTSTAMP:20260421T101546Z
TRANSP:TRANSPARENT
DTSTART:20260416T060000Z
DTEND:20260426T150000Z
STATUS:CONFIRMED
SUMMARY:5.Hatay Mobilya Fuarı
DESCRIPTION:Elka Fuarcılık Limited Şirketi tarafından düzenlenen mob
 ilya dekorasyon aksesuar ve yan sanayi fuarı konulu fuarda görüşmek 
 üzere: \n\nWeb:www.elkafuar.com\nE-Posta: bilgi@elkafuar.com
LOCATION:Hatay Büyükşehir Belediyesi Fuar Alanı
BEGIN:VALARM
ACTION:DISPLAY
DESCRIPTION:5.Hatay Mobilya Fuarı
TRIGGER:-PT24H
END:VALARM
END:VEVENT
END:VCALENDAR
