BEGIN:VCALENDAR
VERSION:2.0
PRODID:itakvim.com
CALSCALE:GREGORIAN
METHOD:PUBLISH
UID:4pcfiei6yeg
X-WR-CALNAME:EUS Sınav Takvimi
X-ITAKVIM-LANGUAGE:tr
X-ORIGINAL-URL:itakvim.com
REFRESH-INTERVAL;VALUE=DURATION:PT1H
X-ITAKVIM-REGION:TR
X-Robots-Tag:noindex
X-PUBLISHED-TTL:PT1H
BEGIN:VEVENT
UID:3ecbae1f-9b68-4083-4edf-08de9f183112
DTSTAMP:20260420T200538Z
TRANSP:TRANSPARENT
DTSTART:20261106T210000Z
DTEND:20261106T210000Z
STATUS:CONFIRMED
SUMMARY:EUS Eczacılıkta Uzmanlık Eğitimi Giriş Sınavı 2026-EUS Sı
 nav
END:VEVENT
BEGIN:VEVENT
UID:af759e8f-06f1-4faa-4ee0-08de9f183112
DTSTAMP:20260420T200538Z
TRANSP:TRANSPARENT
DTSTART:20260922T210000Z
DTEND:20260922T210000Z
STATUS:CONFIRMED
SUMMARY:EUS Eczacılıkta Uzmanlık Eğitimi Giriş Sınavı 2026-EUS Ba
 şvuru Başlangıç
END:VEVENT
BEGIN:VEVENT
UID:3b040110-e392-4e2d-4ee1-08de9f183112
DTSTAMP:20260420T200538Z
TRANSP:TRANSPARENT
DTSTART:20260930T210000Z
DTEND:20260930T210000Z
STATUS:CONFIRMED
SUMMARY:EUS Eczacılıkta Uzmanlık Eğitimi Giriş Sınavı 2026-EUS Ba
 şvuru Bitiş
END:VEVENT
BEGIN:VEVENT
UID:5301f49a-173f-42eb-4ee2-08de9f183112
DTSTAMP:20260420T200538Z
TRANSP:TRANSPARENT
DTSTART:20261007T210000Z
DTEND:20261007T210000Z
STATUS:CONFIRMED
SUMMARY:EUS Eczacılıkta Uzmanlık Eğitimi Giriş Sınavı 2026-EUS Ge
 ç Başvuru Başlangıç
END:VEVENT
BEGIN:VEVENT
UID:3a5278d0-8781-4faa-4ee3-08de9f183112
DTSTAMP:20260420T200538Z
TRANSP:TRANSPARENT
DTSTART:20261008T205900Z
DTEND:20261008T205900Z
STATUS:CONFIRMED
SUMMARY:EUS Eczacılıkta Uzmanlık Eğitimi Giriş Sınavı 2026-EUS Ge
 ç Başvuru Bitiş
END:VEVENT
BEGIN:VEVENT
UID:ab741d79-e567-4e1d-4ee4-08de9f183112
DTSTAMP:20260420T200538Z
TRANSP:TRANSPARENT
DTSTART:20261126T210000Z
DTEND:20261126T210000Z
STATUS:CONFIRMED
SUMMARY:EUS Eczacılıkta Uzmanlık Eğitimi Giriş Sınavı 2026-EUS Son
 uç
END:VEVENT
END:VCALENDAR
