BEGIN:VCALENDAR
VERSION:2.0
PRODID:itakvim.com
CALSCALE:GREGORIAN
METHOD:PUBLISH
UID:52yaxf0bi1e
X-WR-CALNAME:Halka Arz Takvimi
X-ITAKVIM-LANGUAGE:tr
X-ORIGINAL-URL:itakvim.com
REFRESH-INTERVAL;VALUE=DURATION:PT1H
X-ITAKVIM-REGION:TR
X-Robots-Tag:noindex
X-PUBLISHED-TTL:PT1H
BEGIN:VEVENT
UID:58997ec3-703d-425d-de23-08de9748e6b5
DTSTAMP:20260413T214754Z
TRANSP:TRANSPARENT
DTSTART:20260407T060000Z
DTEND:20260407T140000Z
STATUS:CONFIRMED
SUMMARY:Enpara Bank A.Ş. (ENPRA)
BEGIN:VALARM
ACTION:DISPLAY
DESCRIPTION:Enpara Bank A.Ş. (ENPRA)
TRIGGER:PT0S
END:VALARM
END:VEVENT
END:VCALENDAR
