BEGIN:VCALENDAR
VERSION:2.0
PRODID:itakvim.com
CALSCALE:GREGORIAN
METHOD:PUBLISH
UID:5ag4wio6tg5
X-WR-CALNAME:KPSS Sınav Takvimi
X-ITAKVIM-LANGUAGE:tr
X-ORIGINAL-URL:itakvim.com
REFRESH-INTERVAL;VALUE=DURATION:PT1H
X-ITAKVIM-REGION:TR
X-Robots-Tag:noindex
X-PUBLISHED-TTL:PT1H
BEGIN:VEVENT
UID:7b61e795-1531-4b0a-4ee5-08de9f183112
DTSTAMP:20260420T200538Z
TRANSP:TRANSPARENT
DTSTART:20260905T210000Z
DTEND:20260905T210000Z
STATUS:CONFIRMED
SUMMARY:KPSS Kamu Personel Seçme Sınavı 2026-KPSS Lisans (Genel Yetene
 k-Genel Kültür) Sınav
END:VEVENT
BEGIN:VEVENT
UID:8c639bb0-bc70-4347-4ee6-08de9f183112
DTSTAMP:20260420T200538Z
TRANSP:TRANSPARENT
DTSTART:20260630T210000Z
DTEND:20260630T210000Z
STATUS:CONFIRMED
SUMMARY:KPSS Kamu Personel Seçme Sınavı 2026-KPSS Lisans (Genel Yetene
 k-Genel Kültür) Başvuru Başlangıç
END:VEVENT
BEGIN:VEVENT
UID:198de88a-f283-4704-4ee7-08de9f183112
DTSTAMP:20260420T200538Z
TRANSP:TRANSPARENT
DTSTART:20260712T210000Z
DTEND:20260712T210000Z
STATUS:CONFIRMED
SUMMARY:KPSS Kamu Personel Seçme Sınavı 2026-KPSS Lisans (Genel Yetene
 k-Genel Kültür) Başvuru Bitiş
END:VEVENT
BEGIN:VEVENT
UID:39812f34-25bd-4829-4ee8-08de9f183112
DTSTAMP:20260420T200538Z
TRANSP:TRANSPARENT
DTSTART:20260721T210000Z
DTEND:20260721T210000Z
STATUS:CONFIRMED
SUMMARY:KPSS Kamu Personel Seçme Sınavı 2026-KPSS Lisans (Genel Yetene
 k-Genel Kültür) Geç Başvuru Başlangıç
END:VEVENT
BEGIN:VEVENT
UID:b31a8ea9-a27c-4d0c-4ee9-08de9f183112
DTSTAMP:20260420T200538Z
TRANSP:TRANSPARENT
DTSTART:20260723T205900Z
DTEND:20260723T205900Z
STATUS:CONFIRMED
SUMMARY:KPSS Kamu Personel Seçme Sınavı 2026-KPSS Lisans (Genel Yetene
 k-Genel Kültür) Geç Başvuru Bitiş
END:VEVENT
BEGIN:VEVENT
UID:8a57221b-acc1-43ec-4eea-08de9f183112
DTSTAMP:20260420T200538Z
TRANSP:TRANSPARENT
DTSTART:20261006T210000Z
DTEND:20261006T210000Z
STATUS:CONFIRMED
SUMMARY:KPSS Kamu Personel Seçme Sınavı 2026-KPSS Lisans (Genel Yetene
 k-Genel Kültür) Sonuç
END:VEVENT
BEGIN:VEVENT
UID:ac2228e6-2aec-4927-4eeb-08de9f183112
DTSTAMP:20260420T200538Z
TRANSP:TRANSPARENT
DTSTART:20260911T210000Z
DTEND:20260911T210000Z
STATUS:CONFIRMED
SUMMARY:KPSS Kamu Personel Seçme Sınavı 2026-KPSS Lisans (Alan Bilgisi
 ) 1. gün Sınav
END:VEVENT
BEGIN:VEVENT
UID:425c6b7d-2b36-45aa-4eec-08de9f183112
DTSTAMP:20260420T200538Z
TRANSP:TRANSPARENT
DTSTART:20260630T210000Z
DTEND:20260630T210000Z
STATUS:CONFIRMED
SUMMARY:KPSS Kamu Personel Seçme Sınavı 2026-KPSS Lisans (Alan Bilgisi
 ) 1. gün Başvuru Başlangıç
END:VEVENT
BEGIN:VEVENT
UID:74e7870c-076f-4f67-4eed-08de9f183112
DTSTAMP:20260420T200538Z
TRANSP:TRANSPARENT
DTSTART:20260712T210000Z
DTEND:20260712T210000Z
STATUS:CONFIRMED
SUMMARY:KPSS Kamu Personel Seçme Sınavı 2026-KPSS Lisans (Alan Bilgisi
 ) 1. gün Başvuru Bitiş
END:VEVENT
BEGIN:VEVENT
UID:758f7090-d735-4e4e-4eee-08de9f183112
DTSTAMP:20260420T200538Z
TRANSP:TRANSPARENT
DTSTART:20260721T210000Z
DTEND:20260721T210000Z
STATUS:CONFIRMED
SUMMARY:KPSS Kamu Personel Seçme Sınavı 2026-KPSS Lisans (Alan Bilgisi
 ) 1. gün Geç Başvuru Başlangıç
END:VEVENT
BEGIN:VEVENT
UID:f114a093-b1d5-4fd2-4eef-08de9f183112
DTSTAMP:20260420T200538Z
TRANSP:TRANSPARENT
DTSTART:20260723T205900Z
DTEND:20260723T205900Z
STATUS:CONFIRMED
SUMMARY:KPSS Kamu Personel Seçme Sınavı 2026-KPSS Lisans (Alan Bilgisi
 ) 1. gün Geç Başvuru Bitiş
END:VEVENT
BEGIN:VEVENT
UID:4a725ddc-ce0e-4f17-4ef0-08de9f183112
DTSTAMP:20260420T200538Z
TRANSP:TRANSPARENT
DTSTART:20261006T210000Z
DTEND:20261006T210000Z
STATUS:CONFIRMED
SUMMARY:KPSS Kamu Personel Seçme Sınavı 2026-KPSS Lisans (Alan Bilgisi
 ) 1. gün Sonuç
END:VEVENT
BEGIN:VEVENT
UID:ac26cdbc-f720-4b09-4ef1-08de9f183112
DTSTAMP:20260420T200538Z
TRANSP:TRANSPARENT
DTSTART:20260912T210000Z
DTEND:20260912T210000Z
STATUS:CONFIRMED
SUMMARY:KPSS Kamu Personel Seçme Sınavı 2026-KPSS Lisans (Alan Bilgisi
 ) 2. gün Sınav
END:VEVENT
BEGIN:VEVENT
UID:207ec949-c5ad-476a-4ef2-08de9f183112
DTSTAMP:20260420T200538Z
TRANSP:TRANSPARENT
DTSTART:20260630T210000Z
DTEND:20260630T210000Z
STATUS:CONFIRMED
SUMMARY:KPSS Kamu Personel Seçme Sınavı 2026-KPSS Lisans (Alan Bilgisi
 ) 2. gün Başvuru Başlangıç
END:VEVENT
BEGIN:VEVENT
UID:83b0a0cc-d4d6-4286-4ef3-08de9f183112
DTSTAMP:20260420T200538Z
TRANSP:TRANSPARENT
DTSTART:20260712T210000Z
DTEND:20260712T210000Z
STATUS:CONFIRMED
SUMMARY:KPSS Kamu Personel Seçme Sınavı 2026-KPSS Lisans (Alan Bilgisi
 ) 2. gün Başvuru Bitiş
END:VEVENT
BEGIN:VEVENT
UID:e31814bf-fafd-43f5-4ef4-08de9f183112
DTSTAMP:20260420T200538Z
TRANSP:TRANSPARENT
DTSTART:20260721T210000Z
DTEND:20260721T210000Z
STATUS:CONFIRMED
SUMMARY:KPSS Kamu Personel Seçme Sınavı 2026-KPSS Lisans (Alan Bilgisi
 ) 2. gün Geç Başvuru Başlangıç
END:VEVENT
BEGIN:VEVENT
UID:a1187f7b-4940-46fa-4ef5-08de9f183112
DTSTAMP:20260420T200538Z
TRANSP:TRANSPARENT
DTSTART:20260723T205900Z
DTEND:20260723T205900Z
STATUS:CONFIRMED
SUMMARY:KPSS Kamu Personel Seçme Sınavı 2026-KPSS Lisans (Alan Bilgisi
 ) 2. gün Geç Başvuru Bitiş
END:VEVENT
BEGIN:VEVENT
UID:10a0ad31-cd8e-4130-4ef6-08de9f183112
DTSTAMP:20260420T200538Z
TRANSP:TRANSPARENT
DTSTART:20261006T210000Z
DTEND:20261006T210000Z
STATUS:CONFIRMED
SUMMARY:KPSS Kamu Personel Seçme Sınavı 2026-KPSS Lisans (Alan Bilgisi
 ) 2. gün Sonuç
END:VEVENT
BEGIN:VEVENT
UID:f360d170-a98b-4f82-4ef7-08de9f183112
DTSTAMP:20260420T200538Z
TRANSP:TRANSPARENT
DTSTART:20261003T210000Z
DTEND:20261003T210000Z
STATUS:CONFIRMED
SUMMARY:KPSS Kamu Personel Seçme Sınavı 2026-KPSS Ön Lisans Sınav
END:VEVENT
BEGIN:VEVENT
UID:18b2f99e-c26e-4397-4ef8-08de9f183112
DTSTAMP:20260420T200538Z
TRANSP:TRANSPARENT
DTSTART:20260728T210000Z
DTEND:20260728T210000Z
STATUS:CONFIRMED
SUMMARY:KPSS Kamu Personel Seçme Sınavı 2026-KPSS Ön Lisans Başvuru 
 Başlangıç
END:VEVENT
BEGIN:VEVENT
UID:fa939087-a112-4484-4ef9-08de9f183112
DTSTAMP:20260420T200538Z
TRANSP:TRANSPARENT
DTSTART:20260809T210000Z
DTEND:20260809T210000Z
STATUS:CONFIRMED
SUMMARY:KPSS Kamu Personel Seçme Sınavı 2026-KPSS Ön Lisans Başvuru 
 Bitiş
END:VEVENT
BEGIN:VEVENT
UID:913bb82e-8203-442a-4efa-08de9f183112
DTSTAMP:20260420T200538Z
TRANSP:TRANSPARENT
DTSTART:20260818T210000Z
DTEND:20260818T210000Z
STATUS:CONFIRMED
SUMMARY:KPSS Kamu Personel Seçme Sınavı 2026-KPSS Ön Lisans Geç Baş
 vuru Başlangıç
END:VEVENT
BEGIN:VEVENT
UID:424bee41-5edc-417b-4efb-08de9f183112
DTSTAMP:20260420T200538Z
TRANSP:TRANSPARENT
DTSTART:20260820T205900Z
DTEND:20260820T205900Z
STATUS:CONFIRMED
SUMMARY:KPSS Kamu Personel Seçme Sınavı 2026-KPSS Ön Lisans Geç Baş
 vuru Bitiş
END:VEVENT
BEGIN:VEVENT
UID:f7dc2057-0b60-4a99-4efc-08de9f183112
DTSTAMP:20260420T200538Z
TRANSP:TRANSPARENT
DTSTART:20261029T210000Z
DTEND:20261029T210000Z
STATUS:CONFIRMED
SUMMARY:KPSS Kamu Personel Seçme Sınavı 2026-KPSS Ön Lisans Sonuç
END:VEVENT
BEGIN:VEVENT
UID:67b8d54f-de88-4ed1-4efd-08de9f183112
DTSTAMP:20260420T200538Z
TRANSP:TRANSPARENT
DTSTART:20261024T210000Z
DTEND:20261024T210000Z
STATUS:CONFIRMED
SUMMARY:KPSS Kamu Personel Seçme Sınavı 2026-KPSS Ortaöğretim Sınav
END:VEVENT
BEGIN:VEVENT
UID:eedfa279-e866-45d9-4efe-08de9f183112
DTSTAMP:20260420T200538Z
TRANSP:TRANSPARENT
DTSTART:20260826T210000Z
DTEND:20260826T210000Z
STATUS:CONFIRMED
SUMMARY:KPSS Kamu Personel Seçme Sınavı 2026-KPSS Ortaöğretim Başvu
 ru Başlangıç
END:VEVENT
BEGIN:VEVENT
UID:0c827916-849f-44b9-4eff-08de9f183112
DTSTAMP:20260420T200538Z
TRANSP:TRANSPARENT
DTSTART:20260907T210000Z
DTEND:20260907T210000Z
STATUS:CONFIRMED
SUMMARY:KPSS Kamu Personel Seçme Sınavı 2026-KPSS Ortaöğretim Başvu
 ru Bitiş
END:VEVENT
BEGIN:VEVENT
UID:b175bb78-ef0a-4b23-4f00-08de9f183112
DTSTAMP:20260420T200538Z
TRANSP:TRANSPARENT
DTSTART:20260914T210000Z
DTEND:20260914T210000Z
STATUS:CONFIRMED
SUMMARY:KPSS Kamu Personel Seçme Sınavı 2026-KPSS Ortaöğretim Geç B
 aşvuru Başlangıç
END:VEVENT
BEGIN:VEVENT
UID:cf77b3d1-ea8a-4c32-4f01-08de9f183112
DTSTAMP:20260420T200538Z
TRANSP:TRANSPARENT
DTSTART:20260916T205900Z
DTEND:20260916T205900Z
STATUS:CONFIRMED
SUMMARY:KPSS Kamu Personel Seçme Sınavı 2026-KPSS Ortaöğretim Geç B
 aşvuru Bitiş
END:VEVENT
BEGIN:VEVENT
UID:a38ffdd7-01c3-44e1-4f02-08de9f183112
DTSTAMP:20260420T200538Z
TRANSP:TRANSPARENT
DTSTART:20261118T210000Z
DTEND:20261118T210000Z
STATUS:CONFIRMED
SUMMARY:KPSS Kamu Personel Seçme Sınavı 2026-KPSS Ortaöğretim Sonuç
END:VEVENT
BEGIN:VEVENT
UID:a394b293-d6a8-4372-4f03-08de9f183112
DTSTAMP:20260420T200538Z
TRANSP:TRANSPARENT
DTSTART:20261031T210000Z
DTEND:20261031T210000Z
STATUS:CONFIRMED
SUMMARY:KPSS Kamu Personel Seçme Sınavı 2026-KPSS Din Hizmetleri Alan 
 Bilgisi Testi (DHBT) Sınav
END:VEVENT
BEGIN:VEVENT
UID:b46b72e1-7263-4ffd-4f04-08de9f183112
DTSTAMP:20260420T200538Z
TRANSP:TRANSPARENT
DTSTART:20260921T210000Z
DTEND:20260921T210000Z
STATUS:CONFIRMED
SUMMARY:KPSS Kamu Personel Seçme Sınavı 2026-KPSS Din Hizmetleri Alan 
 Bilgisi Testi (DHBT) Başvuru Başlangıç
END:VEVENT
BEGIN:VEVENT
UID:d64b49c7-c8f9-4838-4f05-08de9f183112
DTSTAMP:20260420T200538Z
TRANSP:TRANSPARENT
DTSTART:20260929T210000Z
DTEND:20260929T210000Z
STATUS:CONFIRMED
SUMMARY:KPSS Kamu Personel Seçme Sınavı 2026-KPSS Din Hizmetleri Alan 
 Bilgisi Testi (DHBT) Başvuru Bitiş
END:VEVENT
BEGIN:VEVENT
UID:4d9ac77e-2a2f-4e4b-4f06-08de9f183112
DTSTAMP:20260420T200538Z
TRANSP:TRANSPARENT
DTSTART:20261004T210000Z
DTEND:20261004T210000Z
STATUS:CONFIRMED
SUMMARY:KPSS Kamu Personel Seçme Sınavı 2026-KPSS Din Hizmetleri Alan 
 Bilgisi Testi (DHBT) Geç Başvuru Başlangıç
END:VEVENT
BEGIN:VEVENT
UID:4d0c9e84-302d-4e74-4f07-08de9f183112
DTSTAMP:20260420T200538Z
TRANSP:TRANSPARENT
DTSTART:20261005T205900Z
DTEND:20261005T205900Z
STATUS:CONFIRMED
SUMMARY:KPSS Kamu Personel Seçme Sınavı 2026-KPSS Din Hizmetleri Alan 
 Bilgisi Testi (DHBT) Geç Başvuru Bitiş
END:VEVENT
BEGIN:VEVENT
UID:022fb842-da1a-43f2-4f08-08de9f183112
DTSTAMP:20260420T200538Z
TRANSP:TRANSPARENT
DTSTART:20261124T210000Z
DTEND:20261124T210000Z
STATUS:CONFIRMED
SUMMARY:KPSS Kamu Personel Seçme Sınavı 2026-KPSS Din Hizmetleri Alan 
 Bilgisi Testi (DHBT) Sonuç
END:VEVENT
END:VCALENDAR
