BEGIN:VCALENDAR
VERSION:2.0
PRODID:itakvim.com
CALSCALE:GREGORIAN
METHOD:PUBLISH
UID:5dc77uujcjn
X-WR-CALNAME:İstanbul Fatih Camii Avlusu Takvimi
X-ITAKVIM-LANGUAGE:tr
X-ORIGINAL-URL:itakvim.com
REFRESH-INTERVAL;VALUE=DURATION:PT1H
X-ITAKVIM-REGION:TR
X-Robots-Tag:noindex
X-PUBLISHED-TTL:PT1H
BEGIN:VEVENT
UID:2c8f608d-dd59-448f-8c43-08de9dec68b5
DTSTAMP:20260419T083022Z
TRANSP:TRANSPARENT
DTSTART:20260227T060000Z
DTEND:20260317T150000Z
STATUS:CONFIRMED
SUMMARY:43.Türkiye Kitap Ve Kültür Fuarı
DESCRIPTION:Vakıf Fuarcılık Rek. Yay. Tan. Org. Ve Tic. Ltd.Şti. tara
 fından düzenlenen kitap\,hediyelik eşya\,kültür aktiviteleri\,eğit
 im konulu fuarda görüşmek üzere: \n\nWeb:www.vakiffuarcilik.com.tr\n
 E-Posta: bilgi@vakiffuarcilik.com.tr
LOCATION:Fatih Camii Avlusu
BEGIN:VALARM
ACTION:DISPLAY
DESCRIPTION:43.Türkiye Kitap Ve Kültür Fuarı
TRIGGER:-PT24H
END:VALARM
END:VEVENT
END:VCALENDAR
