BEGIN:VCALENDAR
VERSION:2.0
PRODID:itakvim.com
CALSCALE:GREGORIAN
METHOD:PUBLISH
UID:5nzhodn19y0
X-WR-CALNAME:Antalya Nest Kongre Ve Fuar Merkezi Belek Takvimi
X-ITAKVIM-LANGUAGE:tr
X-ORIGINAL-URL:itakvim.com
REFRESH-INTERVAL;VALUE=DURATION:PT1H
X-ITAKVIM-REGION:TR
X-Robots-Tag:noindex
X-PUBLISHED-TTL:PT1H
BEGIN:VEVENT
UID:58dceab5-8882-4e42-58fb-08de9f8ee600
DTSTAMP:20260421T101546Z
TRANSP:TRANSPARENT
DTSTART:20260603T060000Z
DTEND:20260606T150000Z
STATUS:CONFIRMED
SUMMARY:23 Uluslararası Dossodossi Moda Gösteri Fuarı
DESCRIPTION:Dossodossi Fuarcılık Anonim Şirketi tarafından düzenlene
 n tekstil konfeksiyon ürünleri ve kumaş fuarı konulu fuarda görüş
 mek üzere: \n\nWeb:www.dossodossi.com.\nE-Posta: merkez-1@hotmail.com
LOCATION:Nest Kongre Ve Fuar Merkezi Belek
BEGIN:VALARM
ACTION:DISPLAY
DESCRIPTION:23 Uluslararası Dossodossi Moda Gösteri Fuarı
TRIGGER:-PT24H
END:VALARM
END:VEVENT
BEGIN:VEVENT
UID:efffc8ce-b72f-4462-58fc-08de9f8ee600
DTSTAMP:20260421T101546Z
TRANSP:TRANSPARENT
DTSTART:20261210T060000Z
DTEND:20261212T150000Z
STATUS:CONFIRMED
SUMMARY:Hoteltech Antalya - Otel Teknik Ekipman Ve Malzemeleri İhtisas F
 uarı
DESCRIPTION:Plan T İthalat İhracat Fuarcılık Sanayi Ve Ticaret Limite
 d Şirketi tarafından düzenlenen otel teknik ekipman ve malzemeleri ko
 nulu fuarda görüşmek üzere: \n\nWeb:www.hoteltechantalya.com\nE-Post
 a: hakan@plan-t.com.tr
LOCATION:Nest Kongre Ve Fuar Merkezi Belek
BEGIN:VALARM
ACTION:DISPLAY
DESCRIPTION:Hoteltech Antalya - Otel Teknik Ekipman Ve Malzemeleri İhtis
 as Fuarı
TRIGGER:-PT24H
END:VALARM
END:VEVENT
END:VCALENDAR
