BEGIN:VCALENDAR
VERSION:2.0
PRODID:itakvim.com
CALSCALE:GREGORIAN
METHOD:PUBLISH
UID:5sagfk61m55
X-WR-CALNAME:Ordu Fatsa Kapalı Çok Amaçlı Fuar Alanı Takvimi
X-ITAKVIM-LANGUAGE:tr
X-ORIGINAL-URL:itakvim.com
REFRESH-INTERVAL;VALUE=DURATION:PT1H
X-ITAKVIM-REGION:TR
X-Robots-Tag:noindex
X-PUBLISHED-TTL:PT1H
BEGIN:VEVENT
UID:5b511d4f-e25c-482a-525e-08de9f183112
DTSTAMP:20260420T200816Z
TRANSP:TRANSPARENT
DTSTART:20260513T060000Z
DTEND:20260516T150000Z
STATUS:CONFIRMED
SUMMARY:Karadeniz Tarım Fuarı - 2.Ordu Tarım, Hayvancılık Ve Fındı
 k Fuarı
DESCRIPTION:Lina Fuarcılık Hizmetleri Sanayi Ve Ticaret Limited Şirket
 i tarafından düzenlenen tarım\, hayvancılık ve makine \,gıda konul
 u fuarda görüşmek üzere: \n\nWeb:www.linafair.com\nE-Posta: info@lin
 afair.com
LOCATION:Fatsa Kapalı Çok Amaçlı Fuar Alanı
BEGIN:VALARM
ACTION:DISPLAY
DESCRIPTION:Karadeniz Tarım Fuarı - 2.Ordu Tarım, Hayvancılık Ve Fı
 ndık Fuarı
TRIGGER:-PT24H
END:VALARM
END:VEVENT
END:VCALENDAR
