BEGIN:VCALENDAR
VERSION:2.0
PRODID:itakvim.com
CALSCALE:GREGORIAN
METHOD:PUBLISH
UID:6813k87rhn2
X-WR-CALNAME:Bursa Karacabey Belediyesi Ömer Matlı Kapalı Pazar Ve Fuar Alanı Takvimi
X-ITAKVIM-LANGUAGE:tr
X-ORIGINAL-URL:itakvim.com
REFRESH-INTERVAL;VALUE=DURATION:PT1H
X-ITAKVIM-REGION:TR
X-Robots-Tag:noindex
X-PUBLISHED-TTL:PT1H
BEGIN:VEVENT
UID:40baa35c-ca2f-44f0-8c4e-08de9dec68b5
DTSTAMP:20260419T083022Z
TRANSP:TRANSPARENT
DTSTART:20260402T060000Z
DTEND:20260405T150000Z
STATUS:CONFIRMED
SUMMARY:14. Bursa Karacabey Tarım Hayvancılık Ve Gıda Fuarı
DESCRIPTION:Renkli Fuarcılık Ltd. Şti. tarafından düzenlenen tarım 
 hayvancılık\, tohum\, meyvecilik\, gıda\, sulama teknolojileri konulu
  fuarda görüşmek üzere: \n\nWeb:www.renklyfuar.com\nE-Posta: info@re
 nklyfuar.com
LOCATION:Karacabey Belediyesi Ömer Matlı Kapalı Pazar Ve Fuar Alanı
BEGIN:VALARM
ACTION:DISPLAY
DESCRIPTION:14. Bursa Karacabey Tarım Hayvancılık Ve Gıda Fuarı
TRIGGER:-PT24H
END:VALARM
END:VEVENT
END:VCALENDAR
