BEGIN:VCALENDAR
VERSION:2.0
PRODID:itakvim.com
CALSCALE:GREGORIAN
METHOD:PUBLISH
UID:686iro33mjp
X-WR-CALNAME:Tersane İstanbul Rixos Balo Salonu Ve Terası, T5 Etkinlik Binası Ve Çevrelerindeki Açık Alanlar Takvimi
X-ITAKVIM-LANGUAGE:tr
X-ORIGINAL-URL:itakvim.com
REFRESH-INTERVAL;VALUE=DURATION:PT1H
X-ITAKVIM-REGION:TR
X-Robots-Tag:noindex
X-PUBLISHED-TTL:PT1H
BEGIN:VEVENT
UID:50fdff0d-7bf8-461d-5263-08de9f183112
DTSTAMP:20260420T200816Z
TRANSP:TRANSPARENT
DTSTART:20260922T060000Z
DTEND:20260927T150000Z
STATUS:CONFIRMED
SUMMARY:Contemporary İstanbul Çağdaş Sanat Hizmet Fuarı
DESCRIPTION:İkon Fuarcılık Hizmetleri Anonim Şirketi tarafından düz
 enlenen çağdaş ve güncel sanat konulu fuarda görüşmek üzere: \n\
 nWeb:www.contemporaryistanbul.com\nE-Posta: muhasebe@ci.com.tr
LOCATION:Tersane İstanbul Rixos Balo Salonu Ve Terası, T5 Etkinlik Binası Ve Çevrelerindeki Açık Alanlar
BEGIN:VALARM
ACTION:DISPLAY
DESCRIPTION:Contemporary İstanbul Çağdaş Sanat Hizmet Fuarı
TRIGGER:-PT24H
END:VALARM
END:VEVENT
END:VCALENDAR
