BEGIN:VCALENDAR
VERSION:2.0
PRODID:itakvim.com
CALSCALE:GREGORIAN
METHOD:PUBLISH
UID:6991z5tbb9y
X-WR-CALNAME:Antalya Kaya Palazzo Golf Resort Takvimi
X-ITAKVIM-LANGUAGE:tr
X-ORIGINAL-URL:itakvim.com
REFRESH-INTERVAL;VALUE=DURATION:PT1H
X-ITAKVIM-REGION:TR
X-Robots-Tag:noindex
X-PUBLISHED-TTL:PT1H
BEGIN:VEVENT
UID:78ef0374-a6ea-4b24-5264-08de9f183112
DTSTAMP:20260420T200816Z
TRANSP:TRANSPARENT
DTSTART:20260521T060000Z
DTEND:20260524T150000Z
STATUS:CONFIRMED
SUMMARY:Tdk Deri Ve Kürk Moda Şov
DESCRIPTION:Tdk Fuarcılık Organizasyon Ltd. Şti. tarafından düzenlen
 en deri konfeksiyon ürünleri konulu fuarda görüşmek üzere: \n\nWeb
 :www.tdkfuarcilik.com\nE-Posta: tdkd@tdkd.org.tr
LOCATION:Kaya Palazzo Golf Resort
BEGIN:VALARM
ACTION:DISPLAY
DESCRIPTION:Tdk Deri Ve Kürk Moda Şov
TRIGGER:-PT24H
END:VALARM
END:VEVENT
BEGIN:VEVENT
UID:5c8da5a4-a27c-4899-5265-08de9f183112
DTSTAMP:20260420T200816Z
TRANSP:TRANSPARENT
DTSTART:20261210T060000Z
DTEND:20261213T150000Z
STATUS:CONFIRMED
SUMMARY:Tdk Deri Ve Kürk Moda Şov
DESCRIPTION:Tdk Fuarcılık Organizasyon Ltd. Şti. tarafından düzenlen
 en deri konfeksiyon ürünleri konulu fuarda görüşmek üzere: \n\nWeb
 :www.tdkfuarcilik.com\nE-Posta: tdkd@tdkd.org.tr
LOCATION:Kaya Palazzo Golf Resort
BEGIN:VALARM
ACTION:DISPLAY
DESCRIPTION:Tdk Deri Ve Kürk Moda Şov
TRIGGER:-PT24H
END:VALARM
END:VEVENT
END:VCALENDAR
