BEGIN:VCALENDAR
VERSION:2.0
PRODID:itakvim.com
CALSCALE:GREGORIAN
METHOD:PUBLISH
UID:6nux18wx1xg
X-WR-CALNAME:Sivas Geçici Fuar Merkezi Takvimi
X-ITAKVIM-LANGUAGE:tr
X-ORIGINAL-URL:itakvim.com
REFRESH-INTERVAL;VALUE=DURATION:PT1H
X-ITAKVIM-REGION:TR
X-Robots-Tag:noindex
X-PUBLISHED-TTL:PT1H
BEGIN:VEVENT
UID:a769f22e-49af-43ee-5908-08de9f8ee600
DTSTAMP:20260421T101546Z
TRANSP:TRANSPARENT
DTSTART:20260903T060000Z
DTEND:20260906T150000Z
STATUS:CONFIRMED
SUMMARY:Sivas 11.Tarım Ve Hayvancılık Ve Gıda  Fuarı
DESCRIPTION:Show Fuarcılık Organizasyon Ticaret Ve Sanayi Limited Şirk
 eti tarafından düzenlenen tarım\, gıda\, hayvancılık teknolojileri
  ve endüstrileri konulu fuarda görüşmek üzere: \n\nWeb:www.showfuar
 .com\nE-Posta: showfuar@gmail.com
LOCATION:Sivas Geçici Fuar Merkezi
BEGIN:VALARM
ACTION:DISPLAY
DESCRIPTION:Sivas 11.Tarım Ve Hayvancılık Ve Gıda  Fuarı
TRIGGER:-PT24H
END:VALARM
END:VEVENT
END:VCALENDAR
