BEGIN:VCALENDAR
VERSION:2.0
PRODID:itakvim.com
CALSCALE:GREGORIAN
METHOD:PUBLISH
UID:71dt8sjljfq
X-WR-CALNAME:İzmir Ege Palas Busıness Hotel Takvimi
X-ITAKVIM-LANGUAGE:tr
X-ORIGINAL-URL:itakvim.com
REFRESH-INTERVAL;VALUE=DURATION:PT1H
X-ITAKVIM-REGION:TR
X-Robots-Tag:noindex
X-PUBLISHED-TTL:PT1H
BEGIN:VEVENT
UID:64b9620c-4a85-428e-8c54-08de9dec68b5
DTSTAMP:20260419T083022Z
TRANSP:TRANSPARENT
DTSTART:20260325T060000Z
DTEND:20260325T150000Z
STATUS:CONFIRMED
SUMMARY:Vef Yurt Dışı Eğitim Fuarı
DESCRIPTION:Endless Grup Eğitim Bilişim Anonim Şirketi tarafından dü
 zenlenen yurt dışı eğitim danışmanlığı konulu fuarda görüşme
 k üzere: \n\nWeb:www.endlessg.com\nE-Posta: firat.incesu@endlessg.com
LOCATION:Ege Palas Busıness Hotel
BEGIN:VALARM
ACTION:DISPLAY
DESCRIPTION:Vef Yurt Dışı Eğitim Fuarı
TRIGGER:-PT24H
END:VALARM
END:VEVENT
BEGIN:VEVENT
UID:ec4b250c-fe8a-4142-8c55-08de9dec68b5
DTSTAMP:20260419T083022Z
TRANSP:TRANSPARENT
DTSTART:20260331T060000Z
DTEND:20260331T150000Z
STATUS:CONFIRMED
SUMMARY:Ieft Yurt Dışı Eğitim Fuar Ve Seminerleri
DESCRIPTION:İstanbul Eğitim Fuarları Ve Tan. Ltd. Şti. tarafından d
 üzenlenen yurt dışı eğitim fuar ve seminerleri konulu fuarda görü
 şmek üzere: \n\nWeb:www.ieft.net\nE-Posta: info@ieft.net
LOCATION:Ege Palas Busıness Hotel
BEGIN:VALARM
ACTION:DISPLAY
DESCRIPTION:Ieft Yurt Dışı Eğitim Fuar Ve Seminerleri
TRIGGER:-PT24H
END:VALARM
END:VEVENT
END:VCALENDAR
