BEGIN:VCALENDAR
VERSION:2.0
PRODID:itakvim.com
CALSCALE:GREGORIAN
METHOD:PUBLISH
UID:743rjw9uij2
X-WR-CALNAME:Lisans / Önlisans Akademik Takvimi
X-ITAKVIM-LANGUAGE:tr
X-ORIGINAL-URL:itakvim.com
REFRESH-INTERVAL;VALUE=DURATION:PT1H
X-ITAKVIM-REGION:TR
X-Robots-Tag:noindex
X-PUBLISHED-TTL:PT1H
BEGIN:VEVENT
UID:26ec76a0-9f27-4c68-513a-08de9f183112
DTSTAMP:20260420T200724Z
TRANSP:TRANSPARENT
DTSTART:20250709T210000Z
DTEND:20250709T210000Z
STATUS:CONFIRMED
SUMMARY:Fakülteler Tarafından Güz Yarıyılı Ders Programlarının Ö
 İDB´ye Son Bildirilme Tarihi
END:VEVENT
BEGIN:VEVENT
UID:5531c9fe-e1a7-422b-513b-08de9f183112
DTSTAMP:20260420T200724Z
TRANSP:TRANSPARENT
DTSTART:20250812T210000Z
DTEND:20250812T210000Z
STATUS:CONFIRMED
SUMMARY:Güz Yarıyılı Ders Programlarının İlanı
END:VEVENT
BEGIN:VEVENT
UID:03772575-1b0b-4b32-513c-08de9f183112
DTSTAMP:20260420T200724Z
TRANSP:TRANSPARENT
DTSTART:20250831T210000Z
DTEND:20250902T210000Z
STATUS:CONFIRMED
SUMMARY:YKS Sonuçlarına Göre Üniversitemiz Lisans Programlarına Kesi
 n Kayıt Hakkı Kazananların E-devlet Üzerinden Elektronik Kayıtları
END:VEVENT
BEGIN:VEVENT
UID:c5a35d1a-c000-416a-513d-08de9f183112
DTSTAMP:20260420T200724Z
TRANSP:TRANSPARENT
DTSTART:20250831T210000Z
DTEND:20250904T210000Z
STATUS:CONFIRMED
SUMMARY:YKS Sınav Sonucu Üniversitemiz Lisans Programlarına Yerleştir
 ilen Denizcilik Fakültesi, İTÜ-KKTC ve UOLP-Uluslararası Ortak Lisan
 s Programı Öğrencilerinin Elektronik Kayıtları (Link)
END:VEVENT
BEGIN:VEVENT
UID:cfa21d77-1257-4b3c-513e-08de9f183112
DTSTAMP:20260420T200724Z
TRANSP:TRANSPARENT
DTSTART:20250831T210000Z
DTEND:20250904T210000Z
STATUS:CONFIRMED
SUMMARY:YKS Sınav Sonucuna Göre E-Devletten Askerlik vb. Sorunlar Sebeb
 iyle Kayıt Kabul İşlemi Yaptıramayan Öğrencilerin Kayıt Kabulü (
 Öğrenci İşleri Daire Başkanlığı'nda)
END:VEVENT
BEGIN:VEVENT
UID:2b4a5e87-d62a-4d0b-513f-08de9f183112
DTSTAMP:20260420T200724Z
TRANSP:TRANSPARENT
DTSTART:20250831T210000Z
DTEND:20250904T210000Z
STATUS:CONFIRMED
SUMMARY:UOLP Programlarına Yerleştirilen Öğrencilerin Öğrenim Ücre
 tlerinin Yatırılması (Sadece Yeni Kayıt Olan UOLP Öğrencileri)
END:VEVENT
BEGIN:VEVENT
UID:9627226c-7334-4d1d-5140-08de9f183112
DTSTAMP:20260420T200724Z
TRANSP:TRANSPARENT
DTSTART:20250907T210000Z
DTEND:20250911T210000Z
STATUS:CONFIRMED
SUMMARY:Öğrenci Katkı Paylarının / Öğrenim Ücretlerinin Yatırıl
 ması (Kayıtlı Öğrenciler)
END:VEVENT
BEGIN:VEVENT
UID:8b2c2ff5-4016-4ad8-5141-08de9f183112
DTSTAMP:20260420T200724Z
TRANSP:TRANSPARENT
DTSTART:20250911T210000Z
DTEND:20250911T210000Z
STATUS:CONFIRMED
SUMMARY:2025-2026 Bahar yarıyılında Erasmus kapsamında yurtdışına 
 gidecek öğrenciler için oryantasyon
END:VEVENT
BEGIN:VEVENT
UID:859d597f-4971-43ab-5142-08de9f183112
DTSTAMP:20260420T200724Z
TRANSP:TRANSPARENT
DTSTART:20250916T110000Z
DTEND:20250917T140000Z
STATUS:CONFIRMED
SUMMARY:İngilizce Yeterlilik Sınavında Başarılı Olan ve İlk Defa D
 ers Alacak Öğrencilerin WEB Ders Kaydı
END:VEVENT
BEGIN:VEVENT
UID:a8a12253-b949-4df0-5143-08de9f183112
DTSTAMP:20260420T200724Z
TRANSP:TRANSPARENT
DTSTART:20250916T110000Z
DTEND:20250917T140000Z
STATUS:CONFIRMED
SUMMARY:Konservatuar Programlarına Yeni Kayıt Olan Öğrencilerin WEB D
 ers Kaydı
END:VEVENT
BEGIN:VEVENT
UID:d4d1f226-a650-4d8d-5144-08de9f183112
DTSTAMP:20260420T200724Z
TRANSP:TRANSPARENT
DTSTART:20250918T070000Z
DTEND:20250918T100000Z
STATUS:CONFIRMED
SUMMARY:4. Sınıf ve Tüm UOLP Öğrencilerinin WEB Ders Kaydı
END:VEVENT
BEGIN:VEVENT
UID:3fbfde42-1591-43d1-5145-08de9f183112
DTSTAMP:20260420T200724Z
TRANSP:TRANSPARENT
DTSTART:20250918T110000Z
DTEND:20250918T140000Z
STATUS:CONFIRMED
SUMMARY:3. Sınıf Öğrencilerin WEB Ders Kaydı
END:VEVENT
BEGIN:VEVENT
UID:e0b262e2-d411-4c63-5146-08de9f183112
DTSTAMP:20260420T200724Z
TRANSP:TRANSPARENT
DTSTART:20250919T070000Z
DTEND:20250919T100000Z
STATUS:CONFIRMED
SUMMARY:2. Sınıf Öğrencilerin WEB Ders Kaydı
END:VEVENT
BEGIN:VEVENT
UID:c14b10e8-f4b1-449b-5147-08de9f183112
DTSTAMP:20260420T200724Z
TRANSP:TRANSPARENT
DTSTART:20250919T110000Z
DTEND:20250919T140000Z
STATUS:CONFIRMED
SUMMARY:1. Sınıf Öğrencilerinin (Önceki dönemlerde ders almış ola
 n) WEB Ders Kaydı
END:VEVENT
BEGIN:VEVENT
UID:dd4faeab-869c-443b-5148-08de9f183112
DTSTAMP:20260420T200724Z
TRANSP:TRANSPARENT
DTSTART:20250920T090000Z
DTEND:20250920T140000Z
STATUS:CONFIRMED
SUMMARY:Tüm Lisans Öğrencilerine WEB Kaydının Yeniden Açılması
END:VEVENT
BEGIN:VEVENT
UID:28c40349-dbd5-4cfb-5149-08de9f183112
DTSTAMP:20260420T200724Z
TRANSP:TRANSPARENT
DTSTART:20250928T210000Z
DTEND:20250928T210000Z
STATUS:CONFIRMED
SUMMARY:İTÜ Açılış Tarihi
END:VEVENT
BEGIN:VEVENT
UID:ef0abfb5-ff40-4faf-514a-08de9f183112
DTSTAMP:20260420T200724Z
TRANSP:TRANSPARENT
DTSTART:20250928T210000Z
DTEND:20250928T210000Z
STATUS:CONFIRMED
SUMMARY:Güz Yarıyılı Başlangıcı
END:VEVENT
BEGIN:VEVENT
UID:50079d7d-1650-4565-514b-08de9f183112
DTSTAMP:20260420T200724Z
TRANSP:TRANSPARENT
DTSTART:20250929T070000Z
DTEND:20251003T140000Z
STATUS:CONFIRMED
SUMMARY:Güz Yarıyılı Cezalı Kayıt Yenilemesi (Öğrenci Katkı Pay
 ını Zamanında Yatırmayan ve/veya Ders Kaydını Zamanında Yaptırma
 yan Öğrenciler İçin)
END:VEVENT
BEGIN:VEVENT
UID:2535b564-49af-44bd-514c-08de9f183112
DTSTAMP:20260420T200724Z
TRANSP:TRANSPARENT
DTSTART:20250929T070000Z
DTEND:20251003T140000Z
STATUS:CONFIRMED
SUMMARY:Masterbee kapsamında Lisans öğrencilerinin Yüksek Lisans ders
  kaydı
END:VEVENT
BEGIN:VEVENT
UID:2d6e24d5-a223-4e77-514d-08de9f183112
DTSTAMP:20260420T200724Z
TRANSP:TRANSPARENT
DTSTART:20250929T070000Z
DTEND:20251010T140000Z
STATUS:CONFIRMED
SUMMARY:Ders Planındaki Derslerden Birisini Bırakıp Bir Başka Derse Y
 azılma
END:VEVENT
BEGIN:VEVENT
UID:b4e5091b-06fd-4853-514e-08de9f183112
DTSTAMP:20260420T200724Z
TRANSP:TRANSPARENT
DTSTART:20250929T210000Z
DTEND:20250929T210000Z
STATUS:CONFIRMED
SUMMARY:Danışman Değişiklikleri ve Atamalarının Fakülteler Tarafı
 ndan ÖİDB'ye Bildirilmesi
END:VEVENT
BEGIN:VEVENT
UID:43a9f347-b8c6-4c19-514f-08de9f183112
DTSTAMP:20260420T200724Z
TRANSP:TRANSPARENT
DTSTART:20251001T123000Z
DTEND:20251001T123000Z
STATUS:CONFIRMED
SUMMARY:Oryantasyon (Fakülte ve Bölümlerde yapılacaktır)
END:VEVENT
BEGIN:VEVENT
UID:28f8c99b-5a04-4238-5150-08de9f183112
DTSTAMP:20260420T200724Z
TRANSP:TRANSPARENT
DTSTART:20251005T210000Z
DTEND:20251005T210000Z
STATUS:CONFIRMED
SUMMARY:Kapatılacak Derslerin Fakülteler Tarafından ÖİDB'ye Bildiril
 mesi
END:VEVENT
BEGIN:VEVENT
UID:cfa84ab9-f423-446f-5151-08de9f183112
DTSTAMP:20260420T200724Z
TRANSP:TRANSPARENT
DTSTART:20251009T210000Z
DTEND:20251009T210000Z
STATUS:CONFIRMED
SUMMARY:Onaylanan Ders Başarı Kriterlerinin Öğretim Üyesi Tarafında
 n Ninova Üzerinden İlan Edilebileceği Son Tarih
END:VEVENT
BEGIN:VEVENT
UID:06a32577-0711-4900-5152-08de9f183112
DTSTAMP:20260420T200724Z
TRANSP:TRANSPARENT
DTSTART:20251013T070000Z
DTEND:20251017T140000Z
STATUS:CONFIRMED
SUMMARY:Bir Dersten Tümüyle Çekilme (Öğrenim Belgesinde (T) Harfi il
 e Gösterilecektir.)
END:VEVENT
BEGIN:VEVENT
UID:2a9d8b8d-9b05-49ad-5153-08de9f183112
DTSTAMP:20260420T200724Z
TRANSP:TRANSPARENT
DTSTART:20251019T210000Z
DTEND:20251023T210000Z
STATUS:CONFIRMED
SUMMARY:Bitirme Tasarım Projesi Konu ve Öğretim Üyesi Bilgilerinin Ö
 ğrenci Bilgi Sistemine Bölümler Tarafından Girilmesi
END:VEVENT
BEGIN:VEVENT
UID:90cbfb1f-483f-4dfa-5154-08de9f183112
DTSTAMP:20260420T200724Z
TRANSP:TRANSPARENT
DTSTART:20251130T210000Z
DTEND:20260125T205900Z
STATUS:CONFIRMED
SUMMARY:Güz Yarıyılı Mikrokredi Başvuruları
END:VEVENT
BEGIN:VEVENT
UID:e8d72105-0131-487c-5155-08de9f183112
DTSTAMP:20260420T200724Z
TRANSP:TRANSPARENT
DTSTART:20251209T210000Z
DTEND:20251209T210000Z
STATUS:CONFIRMED
SUMMARY:Güz Yarıyılı Sınav Programının İlanı
END:VEVENT
BEGIN:VEVENT
UID:e72175cc-a833-4361-5156-08de9f183112
DTSTAMP:20260420T200724Z
TRANSP:TRANSPARENT
DTSTART:20251228T210000Z
DTEND:20260101T210000Z
STATUS:CONFIRMED
SUMMARY:Güz Yarıyılı Sonu Sınavına Girebilme Koşulunu Yerine Getir
 emeyen Öğrencilerin Listesinin İlanı
END:VEVENT
BEGIN:VEVENT
UID:52b87017-b72b-4928-5157-08de9f183112
DTSTAMP:20260420T200724Z
TRANSP:TRANSPARENT
DTSTART:20260101T210000Z
DTEND:20260101T210000Z
STATUS:CONFIRMED
SUMMARY:Güz Yarıyılı Sonu
END:VEVENT
BEGIN:VEVENT
UID:e581ef89-2445-42df-5158-08de9f183112
DTSTAMP:20260420T200724Z
TRANSP:TRANSPARENT
DTSTART:20260104T210000Z
DTEND:20260117T210000Z
STATUS:CONFIRMED
SUMMARY:Güz Yarıyılı Sonu Sınavları
END:VEVENT
BEGIN:VEVENT
UID:fe4739b6-22e0-4e84-5159-08de9f183112
DTSTAMP:20260420T200724Z
TRANSP:TRANSPARENT
DTSTART:20260104T210000Z
DTEND:20260122T210000Z
STATUS:CONFIRMED
SUMMARY:Azami Süre Sonunda Mezun Olamayan Son Sınıf Öğrencilerine Li
 sans Eğitim ve Öğretim Yönetmeliği'nin 14. Maddesine Göre Uygulana
 cak Ek Sınav 1 ve Ek Sınav 2
END:VEVENT
BEGIN:VEVENT
UID:cbc2134a-18b8-4457-515a-08de9f183112
DTSTAMP:20260420T200724Z
TRANSP:TRANSPARENT
DTSTART:20260118T210000Z
DTEND:20260118T210000Z
STATUS:CONFIRMED
SUMMARY:Mazeret Sınavına Girecek Öğrenciler İçin Fakülte Yönetim 
 Kurulu Kararının Son Bildirim Tarihi
END:VEVENT
BEGIN:VEVENT
UID:7727ef40-16d9-4ac6-515b-08de9f183112
DTSTAMP:20260420T200724Z
TRANSP:TRANSPARENT
DTSTART:20260118T210000Z
DTEND:20260122T210000Z
STATUS:CONFIRMED
SUMMARY:Bitirme Tasarım Projesi Sınavı
END:VEVENT
BEGIN:VEVENT
UID:eb2f8599-82ce-40c1-515c-08de9f183112
DTSTAMP:20260420T200724Z
TRANSP:TRANSPARENT
DTSTART:20260119T210000Z
DTEND:20260121T210000Z
STATUS:CONFIRMED
SUMMARY:Güz Yarıyılı Sonu Mazeret Sınavları(Öğretim Üyelerinin B
 elirlediği Saat ve Yerde)
END:VEVENT
BEGIN:VEVENT
UID:5c54e732-e517-42b5-515d-08de9f183112
DTSTAMP:20260420T200724Z
TRANSP:TRANSPARENT
DTSTART:20260125T110000Z
DTEND:20260125T110000Z
STATUS:CONFIRMED
SUMMARY:Güz Yarıyılı Sonu/Staj/ Mazeret/ Bitirme Tasarım Projesi Sı
 navı/Ek Sınav 1/Ek Sınav 2 Notları Son Giriş Tarihi
END:VEVENT
BEGIN:VEVENT
UID:3aa40ef5-e309-4bdb-515e-08de9f183112
DTSTAMP:20260420T200724Z
TRANSP:TRANSPARENT
DTSTART:20260125T210000Z
DTEND:20260128T205900Z
STATUS:CONFIRMED
SUMMARY:MasterBee Programı Başvuruları
END:VEVENT
BEGIN:VEVENT
UID:4e6bd762-9402-4b70-515f-08de9f183112
DTSTAMP:20260420T200724Z
TRANSP:TRANSPARENT
DTSTART:20260129T210000Z
DTEND:20260129T210000Z
STATUS:CONFIRMED
SUMMARY:Masterbee Programını Kazananlarının İlanı
END:VEVENT
BEGIN:VEVENT
UID:408cbbe9-58b5-411c-5160-08de9f183112
DTSTAMP:20260420T200724Z
TRANSP:TRANSPARENT
DTSTART:20260129T210000Z
DTEND:20260129T210000Z
STATUS:CONFIRMED
SUMMARY:Güz Yarıyılı Mikrokredi Sonuçlarının İlanı
END:VEVENT
BEGIN:VEVENT
UID:3b7c7a78-c6af-428d-5161-08de9f183112
DTSTAMP:20260420T200724Z
TRANSP:TRANSPARENT
DTSTART:20260203T210000Z
DTEND:20260203T210000Z
STATUS:CONFIRMED
SUMMARY:Fakülteler Tarafından Güz Yarıyılı Mezunlarının Kararlar
 ının Bildirilmesi
END:VEVENT
BEGIN:VEVENT
UID:ae7df495-9ce5-426c-5162-08de9f183112
DTSTAMP:20260420T200724Z
TRANSP:TRANSPARENT
DTSTART:20260111T210000Z
DTEND:20260111T210000Z
STATUS:CONFIRMED
SUMMARY:Bahar Yarıyılı Ders Programlarının İlanı
END:VEVENT
BEGIN:VEVENT
UID:b9265a48-c488-4fb7-5163-08de9f183112
DTSTAMP:20260420T200724Z
TRANSP:TRANSPARENT
DTSTART:20260125T210000Z
DTEND:20260129T210000Z
STATUS:CONFIRMED
SUMMARY:Öğrenci Katkı Paylarının/Öğrenim Ücretlerinin Yatırılma
 sı
END:VEVENT
BEGIN:VEVENT
UID:003abc2c-9926-4a23-5164-08de9f183112
DTSTAMP:20260420T200724Z
TRANSP:TRANSPARENT
DTSTART:20260202T070000Z
DTEND:20260202T100000Z
STATUS:CONFIRMED
SUMMARY:4. Sınıf, ÇAP ve Tüm UOLP Öğrencilerin WEB Ders Kaydı
END:VEVENT
BEGIN:VEVENT
UID:e8f273e1-fdd3-4f75-5165-08de9f183112
DTSTAMP:20260420T200724Z
TRANSP:TRANSPARENT
DTSTART:20260202T110000Z
DTEND:20260202T140000Z
STATUS:CONFIRMED
SUMMARY:3. Sınıf Öğrencilerin WEB Ders Kaydı
END:VEVENT
BEGIN:VEVENT
UID:f40901fc-d888-4903-5166-08de9f183112
DTSTAMP:20260420T200724Z
TRANSP:TRANSPARENT
DTSTART:20260203T070000Z
DTEND:20260203T100000Z
STATUS:CONFIRMED
SUMMARY:2. Sınıf Öğrencilerin WEB Ders Kaydı
END:VEVENT
BEGIN:VEVENT
UID:b54ee0b3-09f4-4d48-5167-08de9f183112
DTSTAMP:20260420T200724Z
TRANSP:TRANSPARENT
DTSTART:20260203T110000Z
DTEND:20260203T140000Z
STATUS:CONFIRMED
SUMMARY:1. Sınıf Öğrencilerin ve İlk Defa Ders Alacak Öğrencilerin
  (Irregular) WEB’den Ders Kaydı
END:VEVENT
BEGIN:VEVENT
UID:5ffb43c5-5364-4bfc-5168-08de9f183112
DTSTAMP:20260420T200724Z
TRANSP:TRANSPARENT
DTSTART:20260204T110000Z
DTEND:20260206T140000Z
STATUS:CONFIRMED
SUMMARY:Tüm Lisans Öğrencilerine WEB Kaydının Yeniden Açılması
END:VEVENT
BEGIN:VEVENT
UID:017bb55f-e63a-45a3-5169-08de9f183112
DTSTAMP:20260420T200724Z
TRANSP:TRANSPARENT
DTSTART:20260208T210000Z
DTEND:20260208T210000Z
STATUS:CONFIRMED
SUMMARY:Bahar Yarıyılı Başlangıcı
END:VEVENT
BEGIN:VEVENT
UID:2d98df85-df01-489a-516a-08de9f183112
DTSTAMP:20260420T200724Z
TRANSP:TRANSPARENT
DTSTART:20260209T070000Z
DTEND:20260213T140000Z
STATUS:CONFIRMED
SUMMARY:Bahar Yarıyılı Cezalı Kayıt Yenilemesi (Öğrenci Katkı Pay
 ını Zamanında Yatırmayan ve/veya Ders Kaydını Zamanında Yaptırma
 yan Öğrenciler İçin)
END:VEVENT
BEGIN:VEVENT
UID:f7386e47-5936-483d-516b-08de9f183112
DTSTAMP:20260420T200724Z
TRANSP:TRANSPARENT
DTSTART:20260209T070000Z
DTEND:20260213T140000Z
STATUS:CONFIRMED
SUMMARY:Masterbee kapsamında Lisans öğrencilerinin Yüksek Lisans ders
  kaydı
END:VEVENT
BEGIN:VEVENT
UID:bc2b2fc6-6a0d-4f6a-516c-08de9f183112
DTSTAMP:20260420T200724Z
TRANSP:TRANSPARENT
DTSTART:20260209T070000Z
DTEND:20260220T140000Z
STATUS:CONFIRMED
SUMMARY:Ders Planındaki Derslerden Birisini Bırakıp Bir Başka Derse Y
 azılma
END:VEVENT
BEGIN:VEVENT
UID:29924bdd-77c5-4d23-516d-08de9f183112
DTSTAMP:20260420T200724Z
TRANSP:TRANSPARENT
DTSTART:20260209T210000Z
DTEND:20260209T210000Z
STATUS:CONFIRMED
SUMMARY:Danışman Değişiklikleri ve Atamalarının Fakülteler Tarafı
 ndan ÖİDB'ye Bildirilmesi
END:VEVENT
BEGIN:VEVENT
UID:4b36311e-d72f-49dd-516e-08de9f183112
DTSTAMP:20260420T200724Z
TRANSP:TRANSPARENT
DTSTART:20260215T210000Z
DTEND:20260215T210000Z
STATUS:CONFIRMED
SUMMARY:Kapatılacak Derslerin Fakülteler Tarafından ÖİDB'ye Bildiril
 mesi
END:VEVENT
BEGIN:VEVENT
UID:586fe73a-64cc-4134-516f-08de9f183112
DTSTAMP:20260420T200724Z
TRANSP:TRANSPARENT
DTSTART:20260219T210000Z
DTEND:20260219T210000Z
STATUS:CONFIRMED
SUMMARY:Onaylanan Ders Başarı Kriterlerinin Öğretim Üyesi Tarafında
 n Ninova Üzerinden İlan Edilebileceği Son Tarih
END:VEVENT
BEGIN:VEVENT
UID:27d3e94b-0c87-409d-5170-08de9f183112
DTSTAMP:20260420T200724Z
TRANSP:TRANSPARENT
DTSTART:20260223T070000Z
DTEND:20260227T140000Z
STATUS:CONFIRMED
SUMMARY:Bir Dersten Tümüyle Çekilme (Öğrenim Belgesinde (T) Harfi İ
 le Gösterilecektir.)
END:VEVENT
BEGIN:VEVENT
UID:8cf719a1-c013-4c3e-5171-08de9f183112
DTSTAMP:20260420T200724Z
TRANSP:TRANSPARENT
DTSTART:20260301T210000Z
DTEND:20260305T210000Z
STATUS:CONFIRMED
SUMMARY:Bitirme Tasarım Projesi Konu ve Öğretim Üyesi Bilgilerinin Ö
 ğrenci Bilgi Sistemine Bölümler Tarafından Girilmesi
END:VEVENT
BEGIN:VEVENT
UID:591ca3d2-35b1-4141-5172-08de9f183112
DTSTAMP:20260420T200724Z
TRANSP:TRANSPARENT
DTSTART:20260315T210000Z
DTEND:20260319T210000Z
STATUS:CONFIRMED
SUMMARY:Ara Tatil
END:VEVENT
BEGIN:VEVENT
UID:a9b4ae98-b105-49a9-5173-08de9f183112
DTSTAMP:20260420T200724Z
TRANSP:TRANSPARENT
DTSTART:20260419T210000Z
DTEND:20260419T210000Z
STATUS:CONFIRMED
SUMMARY:Bahar Yarıyılı Sınav Programlarının İlanı
END:VEVENT
BEGIN:VEVENT
UID:c37342db-d7b0-4401-5174-08de9f183112
DTSTAMP:20260420T200724Z
TRANSP:TRANSPARENT
DTSTART:20260419T210000Z
DTEND:20260514T210000Z
STATUS:CONFIRMED
SUMMARY:Bahar Yarıyılı Mikrokredi Başvuruları
END:VEVENT
BEGIN:VEVENT
UID:6b959de4-0a19-49ea-5175-08de9f183112
DTSTAMP:20260420T200724Z
TRANSP:TRANSPARENT
DTSTART:20260517T210000Z
DTEND:20260521T210000Z
STATUS:CONFIRMED
SUMMARY:Bahar Yarıyılı Sonu Sınavına Girebilme Koşulunu Yerine Geti
 remeyen Öğrencilerin Listesinin İlanı
END:VEVENT
BEGIN:VEVENT
UID:7f6f0cd5-dadc-4721-5176-08de9f183112
DTSTAMP:20260420T200724Z
TRANSP:TRANSPARENT
DTSTART:20260521T210000Z
DTEND:20260521T210000Z
STATUS:CONFIRMED
SUMMARY:Bahar Yarıyılı Sonu
END:VEVENT
BEGIN:VEVENT
UID:1fe7e9e0-7305-4159-5177-08de9f183112
DTSTAMP:20260420T200724Z
TRANSP:TRANSPARENT
DTSTART:20260531T210000Z
DTEND:20260613T210000Z
STATUS:CONFIRMED
SUMMARY:Bahar Yarıyılı Sonu Sınavları
END:VEVENT
BEGIN:VEVENT
UID:96388105-2e5f-48b4-5178-08de9f183112
DTSTAMP:20260420T200724Z
TRANSP:TRANSPARENT
DTSTART:20260531T210000Z
DTEND:20260618T210000Z
STATUS:CONFIRMED
SUMMARY:Azami Süre Sonunda Mezun Olamayan Son Sınıf Öğrencilerine Li
 sans Eğitim ve Öğretim Yönetmeliği'nin 14. Maddesine Göre Uygulana
 cak Ek Sınav 1 ve Ek Sınav 2
END:VEVENT
BEGIN:VEVENT
UID:ae6ea6cf-c255-46d2-5179-08de9f183112
DTSTAMP:20260420T200724Z
TRANSP:TRANSPARENT
DTSTART:20260614T210000Z
DTEND:20260614T210000Z
STATUS:CONFIRMED
SUMMARY:Mazeret Sınavına Girecek Öğrenciler İçin Fakülte Yönetim 
 Kurulu Kararının Son Bildirim Tarihi
END:VEVENT
BEGIN:VEVENT
UID:2ebb2543-cea8-441f-517a-08de9f183112
DTSTAMP:20260420T200724Z
TRANSP:TRANSPARENT
DTSTART:20260614T210000Z
DTEND:20260618T210000Z
STATUS:CONFIRMED
SUMMARY:Bitirme Tasarım Projesi Sınavı
END:VEVENT
BEGIN:VEVENT
UID:c3f99508-c887-45bd-517b-08de9f183112
DTSTAMP:20260420T200724Z
TRANSP:TRANSPARENT
DTSTART:20260615T210000Z
DTEND:20260617T210000Z
STATUS:CONFIRMED
SUMMARY:Bahar Yarıyılı Sonu Mazeret Sınavları (Öğretim Üyelerinin
  belirlediği Saat ve Yerde)
END:VEVENT
BEGIN:VEVENT
UID:5332fa24-f752-46a1-517c-08de9f183112
DTSTAMP:20260420T200724Z
TRANSP:TRANSPARENT
DTSTART:20260620T210000Z
DTEND:20260621T110000Z
STATUS:CONFIRMED
SUMMARY:Bahar Yarıyılı Sonu/Staj/ Mazeret/ Bitirme Tasarım Projesi S
 ınavı/Ek Sınav 1/Ek Sınav 2 Notları Son Giriş Tarihi
END:VEVENT
BEGIN:VEVENT
UID:713c0d84-9df6-40e2-517d-08de9f183112
DTSTAMP:20260420T200724Z
TRANSP:TRANSPARENT
DTSTART:20260625T210000Z
DTEND:20260625T210000Z
STATUS:CONFIRMED
SUMMARY:Bahar Yarıyılı Mikrokredi Sonuçlarının İlanı
END:VEVENT
BEGIN:VEVENT
UID:7a4c23c3-79a3-448b-517e-08de9f183112
DTSTAMP:20260420T200724Z
TRANSP:TRANSPARENT
DTSTART:20260630T210000Z
DTEND:20260630T210000Z
STATUS:CONFIRMED
SUMMARY:Fakülteler Tarafından Bahar Yarıyılı Mezunlarının Kararlar
 ının Bildirilmesi
END:VEVENT
BEGIN:VEVENT
UID:c04812c0-208a-4bb2-517f-08de9f183112
DTSTAMP:20260420T200724Z
TRANSP:TRANSPARENT
DTSTART:20260703T210000Z
DTEND:20260703T210000Z
STATUS:CONFIRMED
SUMMARY:Lisans ve Yüksek Lisans Mezuniyet Töreni
END:VEVENT
END:VCALENDAR
