BEGIN:VCALENDAR
VERSION:2.0
PRODID:itakvim.com
CALSCALE:GREGORIAN
METHOD:PUBLISH
UID:7cb71f46mj5
X-WR-CALNAME:Anfaş Antalya Fuar Ve Kongre Merkezi Takvimi
X-ITAKVIM-LANGUAGE:tr
X-ORIGINAL-URL:itakvim.com
REFRESH-INTERVAL;VALUE=DURATION:PT1H
X-ITAKVIM-REGION:TR
X-Robots-Tag:noindex
X-PUBLISHED-TTL:PT1H
BEGIN:VEVENT
UID:d139ff8c-e0e5-4519-5267-08de9f183112
DTSTAMP:20260420T200816Z
TRANSP:TRANSPARENT
DTSTART:20260106T060000Z
DTEND:20260109T150000Z
STATUS:CONFIRMED
SUMMARY:Anfaş Food Product - 32. Uluslararası Gıda  Ve İçecek İhtis
 as Fuarı
DESCRIPTION:Anfaş Antalya Fuarcılık İşl. Ve Yatırım A.Ş tarafınd
 an düzenlenen gıda\, İçecek ürünleri\, ambalaj ve ekipmanları kon
 ulu fuarda görüşmek üzere: \n\nWeb:www.anfas.com.tr\nE-Posta: info@a
 nfas.com.tr
LOCATION:Anfaş Antalya Fuar Ve Kongre Merkezi
BEGIN:VALARM
ACTION:DISPLAY
DESCRIPTION:Anfaş Food Product - 32. Uluslararası Gıda  Ve İçecek İ
 htisas Fuarı
TRIGGER:-PT24H
END:VALARM
END:VEVENT
BEGIN:VEVENT
UID:a09322d4-9be5-4a6c-5268-08de9f183112
DTSTAMP:20260420T200816Z
TRANSP:TRANSPARENT
DTSTART:20260106T060000Z
DTEND:20260109T150000Z
STATUS:CONFIRMED
SUMMARY:Anfaş Hotel Equıpment - 36. Uluslararası Konaklama Ve Ağırla
 ma Ekipmanları İhtisas  Fuarı
DESCRIPTION:Anfaş Antalya Fuarcılık İşl. Ve Yatırım A.Ş tarafınd
 an düzenlenen otel\, otel ekipmanları\, temizlik\, endüstriyel\, rest
 oran\, bakım onarım konulu fuarda görüşmek üzere: \n\nWeb:www.anfa
 s.com.tr\nE-Posta: info@anfas.com.tr
LOCATION:Anfaş Antalya Fuar Ve Kongre Merkezi
BEGIN:VALARM
ACTION:DISPLAY
DESCRIPTION:Anfaş Hotel Equıpment - 36. Uluslararası Konaklama Ve Ağ
 ırlama Ekipmanları İhtisas  Fuarı
TRIGGER:-PT24H
END:VALARM
END:VEVENT
BEGIN:VEVENT
UID:f845916a-fb02-4e35-5269-08de9f183112
DTSTAMP:20260420T200816Z
TRANSP:TRANSPARENT
DTSTART:20260422T060000Z
DTEND:20260426T150000Z
STATUS:CONFIRMED
SUMMARY:Yörex - Yöresel Ürünler Fuarı
DESCRIPTION:Expoloji Uluslararası Fuarcılık Organizasyon Ticaret Limit
 ed Şirketi tarafından düzenlenen yöresel ve coğrafi İşaretli ür
 ünler konulu fuarda görüşmek üzere: \n\nWeb:www.yorex.com.tr\nE-Pos
 ta: info@expoloji.com
LOCATION:Anfaş Antalya Fuar Ve Kongre Merkezi
BEGIN:VALARM
ACTION:DISPLAY
DESCRIPTION:Yörex - Yöresel Ürünler Fuarı
TRIGGER:-PT24H
END:VALARM
END:VEVENT
BEGIN:VEVENT
UID:8b63293e-e027-4379-526a-08de9f183112
DTSTAMP:20260420T200816Z
TRANSP:TRANSPARENT
DTSTART:20260430T060000Z
DTEND:20260503T150000Z
STATUS:CONFIRMED
SUMMARY:Antalya Expohunt  Av Silah Doğa Sporları Fuarı
DESCRIPTION:Geoexpo Fuar Ve Medya Limited Şirketi tarafından düzenlene
 n av tüfekleri silah balıkçılık okçuluk doğa sporları konulu fua
 rda görüşmek üzere: \n\nWeb:EXPOHUNT.COM.TR\nE-Posta: geoexpotr@gmai
 l.com
LOCATION:Anfaş Antalya Fuar Ve Kongre Merkezi
BEGIN:VALARM
ACTION:DISPLAY
DESCRIPTION:Antalya Expohunt  Av Silah Doğa Sporları Fuarı
TRIGGER:-PT24H
END:VALARM
END:VEVENT
BEGIN:VEVENT
UID:0dcd99cf-15db-4c6b-526b-08de9f183112
DTSTAMP:20260420T200816Z
TRANSP:TRANSPARENT
DTSTART:20260506T060000Z
DTEND:20260508T150000Z
STATUS:CONFIRMED
SUMMARY:Fresh Expo Antalya - Meyve,Sebze Mamulleri ,Ambalaj ,Lojistik, De
 polama Ve Taze Ürün Teknolojileri
DESCRIPTION:Anfaş Antalya Fuarcılık İşletme Ve Yatırım Anonim Şir
 keti tarafından düzenlenen meyve\,sebze mamulleri \,ambalaj \,lojistik
 \, depolama ve taze ürün teknolojileri konulu fuarda görüşmek üzer
 e: \n\nWeb:www.anfas.com.tr\nE-Posta: info@anfas.com.tr
LOCATION:Anfaş Antalya Fuar Ve Kongre Merkezi
BEGIN:VALARM
ACTION:DISPLAY
DESCRIPTION:Fresh Expo Antalya - Meyve,Sebze Mamulleri ,Ambalaj ,Lojistik
 , Depolama Ve Taze Ürün Teknolojileri
TRIGGER:-PT24H
END:VALARM
END:VEVENT
BEGIN:VEVENT
UID:105b2ce2-263a-4835-526c-08de9f183112
DTSTAMP:20260420T200816Z
TRANSP:TRANSPARENT
DTSTART:20260918T060000Z
DTEND:20260920T150000Z
STATUS:CONFIRMED
SUMMARY:6.Antalya Estetik Güzellik Kişisel Bakım Kozmetik Fuarı
DESCRIPTION:Us Fuarcılık Ve Organizasyon Ltd. Şti. tarafından düzenl
 enen güzellik&bakım\,kozmetik\,spa &sağlık ve  estetik konulu fuarda
  görüşmek üzere: \n\nWeb:usfuar.com\nE-Posta: info@usfuar.com
LOCATION:Anfaş Antalya Fuar Ve Kongre Merkezi
BEGIN:VALARM
ACTION:DISPLAY
DESCRIPTION:6.Antalya Estetik Güzellik Kişisel Bakım Kozmetik Fuarı
TRIGGER:-PT24H
END:VALARM
END:VEVENT
BEGIN:VEVENT
UID:990c107f-5a11-48ff-526d-08de9f183112
DTSTAMP:20260420T200816Z
TRANSP:TRANSPARENT
DTSTART:20261007T060000Z
DTEND:20261011T150000Z
STATUS:CONFIRMED
SUMMARY:3.Jojo Caravanport  - Hobbyport Antalya Karavan, Karavan Ekipmanl
 arı Kamp Tiny House Outdoor - Modüler Evler Otomotiv Ve Otomotiv Yan 
 Ürünieri Fuarı
DESCRIPTION:Jojo Fuar Ve Fuarcılık Hizmetleri Anonim Şirketi tarafınd
 an düzenlenen karavan\, karavan yan sanayi\, karavan ekipmanları kamp 
 tiny house outdoor - modüler evler otomotiv ve otomotiv yan ürünieri 
 fuarı konulu fuarda görüşmek üzere: \n\nWeb:www.jojoexpo.com\nE-Pos
 ta: tariksipar@tariksipar.com
LOCATION:Anfaş Antalya Fuar Ve Kongre Merkezi
BEGIN:VALARM
ACTION:DISPLAY
DESCRIPTION:3.Jojo Caravanport  - Hobbyport Antalya Karavan, Karavan Ekip
 manları Kamp Tiny House Outdoor - Modüler Evler Otomotiv Ve Otomotiv Y
 an Ürünieri Fuarı
TRIGGER:-PT24H
END:VALARM
END:VEVENT
BEGIN:VEVENT
UID:2f6109cf-ea93-45ed-526e-08de9f183112
DTSTAMP:20260420T200816Z
TRANSP:TRANSPARENT
DTSTART:20261026T060000Z
DTEND:20261028T150000Z
STATUS:CONFIRMED
SUMMARY:Uluslararası Antalya Turizm Fuarı
DESCRIPTION:Gmt Fuarcılık Limited Şirketi tarafından düzenlenen turi
 zm\,seyahat\,ticaret konulu fuarda görüşmek üzere: \n\nWeb:antalyatu
 rizmfuari.com\nE-Posta: selcukmeral@gm-center.com
LOCATION:Anfaş Antalya Fuar Ve Kongre Merkezi
BEGIN:VALARM
ACTION:DISPLAY
DESCRIPTION:Uluslararası Antalya Turizm Fuarı
TRIGGER:-PT24H
END:VALARM
END:VEVENT
BEGIN:VEVENT
UID:2f23c465-563d-4709-526f-08de9f183112
DTSTAMP:20260420T200816Z
TRANSP:TRANSPARENT
DTSTART:20261105T060000Z
DTEND:20261107T150000Z
STATUS:CONFIRMED
SUMMARY:20.Eıf Enerji Dönüşüm Fuarı
DESCRIPTION:Domino Fuarcılık Anonim Şirketi tarafından düzenlenen en
 erji sektörünün buluşması konulu fuarda görüşmek üzere: \n\nWeb
 :www.eif2050.com\nE-Posta: murat@domino.com.tr
LOCATION:Anfaş Antalya Fuar Ve Kongre Merkezi
BEGIN:VALARM
ACTION:DISPLAY
DESCRIPTION:20.Eıf Enerji Dönüşüm Fuarı
TRIGGER:-PT24H
END:VALARM
END:VEVENT
BEGIN:VEVENT
UID:444338e6-3c2f-4b55-5270-08de9f183112
DTSTAMP:20260420T200816Z
TRANSP:TRANSPARENT
DTSTART:20261124T060000Z
DTEND:20261127T150000Z
STATUS:CONFIRMED
SUMMARY:Growtech. Antalya 2026, 25.Uluslararası Sera, Tarım Teknolojile
 ri Ve Hayvancılık Ekipmanları Fuarı
DESCRIPTION:Informa Fuarcılık Anonim Şirketi tarafından düzenlenen s
 era\, tarımteknolojileri ve hayvancılık ekipmanları konulu fuarda g
 örüşmek üzere: \n\nWeb:www.growtech.com.tr\nE-Posta: aynur.turan@inf
 orma.com
LOCATION:Anfaş Antalya Fuar Ve Kongre Merkezi
BEGIN:VALARM
ACTION:DISPLAY
DESCRIPTION:Growtech. Antalya 2026, 25.Uluslararası Sera, Tarım Teknolo
 jileri Ve Hayvancılık Ekipmanları Fuarı
TRIGGER:-PT24H
END:VALARM
END:VEVENT
BEGIN:VEVENT
UID:ba07418e-5c1a-4372-5271-08de9f183112
DTSTAMP:20260420T200816Z
TRANSP:TRANSPARENT
DTSTART:20261217T060000Z
DTEND:20261220T150000Z
STATUS:CONFIRMED
SUMMARY:Ehatech Expo,Yenilenebilir Enerji,Elektrikli Ve Hibrit Araçlar,
 Şarj İstasyonları Ve Batarya Teknolojileri Fuarı
DESCRIPTION:Geoexpo Fuar Ve Medya Limited Şirketi tarafından düzenlene
 n yenilenebilir enerji\,elektrikli hibrit araçlar\,şarj İstasyonları
 \,batarya teknolojileri konulu fuarda görüşmek üzere: \n\nWeb:EHATEC
 H.COM.TR\nE-Posta: geoexpotr@gmail.com
LOCATION:Anfaş Antalya Fuar Ve Kongre Merkezi
BEGIN:VALARM
ACTION:DISPLAY
DESCRIPTION:Ehatech Expo,Yenilenebilir Enerji,Elektrikli Ve Hibrit Araçl
 ar,Şarj İstasyonları Ve Batarya Teknolojileri Fuarı
TRIGGER:-PT24H
END:VALARM
END:VEVENT
END:VCALENDAR
