BEGIN:VCALENDAR
VERSION:2.0
PRODID:itakvim.com
CALSCALE:GREGORIAN
METHOD:PUBLISH
UID:7eh9aegkic1
X-WR-CALNAME:Antalya Kaş Belediyesi Fuar Ve Sergi Alanı Takvimi
X-ITAKVIM-LANGUAGE:tr
X-ORIGINAL-URL:itakvim.com
REFRESH-INTERVAL;VALUE=DURATION:PT1H
X-ITAKVIM-REGION:TR
X-Robots-Tag:noindex
X-PUBLISHED-TTL:PT1H
BEGIN:VEVENT
UID:09238975-0a06-44b3-5918-08de9f8ee600
DTSTAMP:20260421T101546Z
TRANSP:TRANSPARENT
DTSTART:20260421T060000Z
DTEND:20260423T150000Z
STATUS:CONFIRMED
SUMMARY:4 Kaş Tarım Fuarı
DESCRIPTION:Marmaris Fuarcılık Organizasyon Halkla İlişkiler Basın Y
 ayın Limited Şirketi tarafından düzenlenen tarım seracılık ve tar
 ım makineleri ihtisas fuarı konulu fuarda görüşmek üzere: \n\nWeb:
 www.marfo.com.tr\nE-Posta: volkan@marfo.com.tr
LOCATION:Kaş Belediyesi Fuar Ve Sergi Alanı
BEGIN:VALARM
ACTION:DISPLAY
DESCRIPTION:4 Kaş Tarım Fuarı
TRIGGER:-PT24H
END:VALARM
END:VEVENT
END:VCALENDAR
