BEGIN:VCALENDAR
VERSION:2.0
PRODID:itakvim.com
CALSCALE:GREGORIAN
METHOD:PUBLISH
UID:8f0epibxq66
X-WR-CALNAME:Özel Tüketim Vergisi
X-ITAKVIM-LANGUAGE:tr
X-ORIGINAL-URL:itakvim.com
REFRESH-INTERVAL;VALUE=DURATION:PT1H
X-ITAKVIM-REGION:TR
X-Robots-Tag:noindex
X-PUBLISHED-TTL:PT1H
BEGIN:VEVENT
UID:184539a5-990e-4129-d2c7-08de9f271cd7
DTSTAMP:20260420T215235Z
TRANSP:TRANSPARENT
DTSTART:20260416T060000Z
DTEND:20260416T060000Z
STATUS:CONFIRMED
SUMMARY:1-15 Nisan 2026 Dönemine Ait Petrol ve Doğalgaz Ürünlerine İ
 lişkin Özel Tüketim Vergisinin Beyanı ve Ödemesi Başlangıç
DESCRIPTION:1-15 Nisan 2026 Dönemi Özel Tüketim Vergisi Beyan ve Ödem
 esi
BEGIN:VALARM
ACTION:DISPLAY
DESCRIPTION:1-15 Nisan 2026 Dönemine Ait Petrol ve Doğalgaz Ürünlerin
 e İlişkin Özel Tüketim Vergisinin Beyanı ve Ödemesi Başlangıç
TRIGGER:PT0S
END:VALARM
END:VEVENT
BEGIN:VEVENT
UID:41bcf826-8055-443c-d2c8-08de9f271cd7
DTSTAMP:20260420T215235Z
TRANSP:TRANSPARENT
DTSTART:20260427T140000Z
DTEND:20260427T140000Z
STATUS:CONFIRMED
SUMMARY:1-15 Nisan 2026 Dönemi Özel Tüketim Vergisi Beyan ve Ödemesi 
 Son Gün
DESCRIPTION:1-15 Nisan 2026 Dönemine Ait Petrol ve Doğalgaz Ürünlerin
 e İlişkin Özel Tüketim Vergisinin Beyanı ve Ödemesi
BEGIN:VALARM
ACTION:DISPLAY
DESCRIPTION:1-15 Nisan 2026 Dönemi Özel Tüketim Vergisi Beyan ve Ödem
 esi Son Gün
TRIGGER:-PT8H
END:VALARM
END:VEVENT
END:VCALENDAR
