BEGIN:VCALENDAR
VERSION:2.0
PRODID:itakvim.com
CALSCALE:GREGORIAN
METHOD:PUBLISH
UID:8iqsb9iw0jp
X-WR-CALNAME:EKPSS Sınav Takvimi
X-ITAKVIM-LANGUAGE:tr
X-ORIGINAL-URL:itakvim.com
REFRESH-INTERVAL;VALUE=DURATION:PT1H
X-ITAKVIM-REGION:TR
X-Robots-Tag:noindex
X-PUBLISHED-TTL:PT1H
BEGIN:VEVENT
UID:4a3de2e3-de08-4ca7-4f09-08de9f183112
DTSTAMP:20260420T200538Z
TRANSP:TRANSPARENT
DTSTART:20260419T071500Z
DTEND:20260419T071500Z
STATUS:CONFIRMED
SUMMARY:EKPSS Engelli Kamu Personeli Seçme Sınavı 2026-EKPSS Sınav
END:VEVENT
BEGIN:VEVENT
UID:76432117-f69c-4a1b-4f0a-08de9f183112
DTSTAMP:20260420T200538Z
TRANSP:TRANSPARENT
DTSTART:20260204T131500Z
DTEND:20260204T131500Z
STATUS:CONFIRMED
SUMMARY:EKPSS Engelli Kamu Personeli Seçme Sınavı 2026-EKPSS Başvuru 
 Başlangıç
END:VEVENT
BEGIN:VEVENT
UID:060d617e-8d0e-494e-4f0b-08de9f183112
DTSTAMP:20260420T200538Z
TRANSP:TRANSPARENT
DTSTART:20260224T205900Z
DTEND:20260224T205900Z
STATUS:CONFIRMED
SUMMARY:EKPSS Engelli Kamu Personeli Seçme Sınavı 2026-EKPSS Başvuru 
 Bitiş
END:VEVENT
BEGIN:VEVENT
UID:2918a923-f740-4fef-4f0c-08de9f183112
DTSTAMP:20260420T200538Z
TRANSP:TRANSPARENT
DTSTART:20260302T210000Z
DTEND:20260302T210000Z
STATUS:CONFIRMED
SUMMARY:EKPSS Engelli Kamu Personeli Seçme Sınavı 2026-EKPSS Geç Baş
 vuru Başlangıç
END:VEVENT
BEGIN:VEVENT
UID:4f570949-ed09-452c-4f0d-08de9f183112
DTSTAMP:20260420T200538Z
TRANSP:TRANSPARENT
DTSTART:20260304T205900Z
DTEND:20260304T205900Z
STATUS:CONFIRMED
SUMMARY:EKPSS Engelli Kamu Personeli Seçme Sınavı 2026-EKPSS Geç Baş
 vuru Bitiş
END:VEVENT
BEGIN:VEVENT
UID:6a3153ab-90d1-4454-4f0e-08de9f183112
DTSTAMP:20260420T200538Z
TRANSP:TRANSPARENT
DTSTART:20260513T210000Z
DTEND:20260513T210000Z
STATUS:CONFIRMED
SUMMARY:EKPSS Engelli Kamu Personeli Seçme Sınavı 2026-EKPSS Sonuç
END:VEVENT
BEGIN:VEVENT
UID:b3ae8347-b83a-4f3c-4f0f-08de9f183112
DTSTAMP:20260420T200538Z
TRANSP:TRANSPARENT
DTSTART:20260427T210000Z
DTEND:20260427T210000Z
STATUS:CONFIRMED
SUMMARY:EKPSS Engelli Kamu Personeli Seçme Sınavı 2026-EKPSS/KURA Baş
 vuru Başlangıç
END:VEVENT
BEGIN:VEVENT
UID:af215634-29d4-4f7b-4f10-08de9f183112
DTSTAMP:20260420T200538Z
TRANSP:TRANSPARENT
DTSTART:20260512T210000Z
DTEND:20260512T210000Z
STATUS:CONFIRMED
SUMMARY:EKPSS Engelli Kamu Personeli Seçme Sınavı 2026-EKPSS/KURA Baş
 vuru Bitiş
END:VEVENT
BEGIN:VEVENT
UID:5baa52c0-2275-4170-4f11-08de9f183112
DTSTAMP:20260420T200538Z
TRANSP:TRANSPARENT
DTSTART:20260602T210000Z
DTEND:20260602T210000Z
STATUS:CONFIRMED
SUMMARY:EKPSS Engelli Kamu Personeli Seçme Sınavı 2026-EKPSS/KURA Geç
  Başvuru Başlangıç
END:VEVENT
BEGIN:VEVENT
UID:6fe14ef2-9328-4ca9-4f12-08de9f183112
DTSTAMP:20260420T200538Z
TRANSP:TRANSPARENT
DTSTART:20260604T205900Z
DTEND:20260604T205900Z
STATUS:CONFIRMED
SUMMARY:EKPSS Engelli Kamu Personeli Seçme Sınavı 2026-EKPSS/KURA Geç
  Başvuru Bitiş
END:VEVENT
END:VCALENDAR
