BEGIN:VCALENDAR
VERSION:2.0
PRODID:itakvim.com
CALSCALE:GREGORIAN
METHOD:PUBLISH
UID:8ku8ulznaym
X-WR-CALNAME:Temettü Takvimi
X-ITAKVIM-LANGUAGE:tr
X-ORIGINAL-URL:itakvim.com
REFRESH-INTERVAL;VALUE=DURATION:PT1H
X-ITAKVIM-REGION:TR
X-Robots-Tag:noindex
X-PUBLISHED-TTL:PT1H
BEGIN:VEVENT
UID:04c63e49-bd8b-4dd0-d231-08de9f271cd7
DTSTAMP:20260420T215226Z
TRANSP:TRANSPARENT
DTSTART:20260420T060000Z
DTEND:20260420T140000Z
STATUS:CONFIRMED
SUMMARY:KSTUR, %0.46, 13,6000 TL
DESCRIPTION:Kuştur Kuşadası Turizm Endüstrisi A.Ş.
END:VEVENT
BEGIN:VEVENT
UID:4fda36d6-d195-4ece-d232-08de9f271cd7
DTSTAMP:20260420T215226Z
TRANSP:TRANSPARENT
DTSTART:20260420T060000Z
DTEND:20260420T140000Z
STATUS:CONFIRMED
SUMMARY:AKSGY, %4.78, 0,4555 TL
DESCRIPTION:Akiş Gayrımenkul Yatırım Ortaklığı A.Ş.
END:VEVENT
BEGIN:VEVENT
UID:e0d61538-5997-4daa-d233-08de9f271cd7
DTSTAMP:20260420T215226Z
TRANSP:TRANSPARENT
DTSTART:20260421T060000Z
DTEND:20260421T140000Z
STATUS:CONFIRMED
SUMMARY:AYEN, %2.32, 0,6639 TL
DESCRIPTION:Ayen Enerji A.Ş.
END:VEVENT
BEGIN:VEVENT
UID:f13c6bd8-424f-4c06-d234-08de9f271cd7
DTSTAMP:20260420T215226Z
TRANSP:TRANSPARENT
DTSTART:20260424T060000Z
DTEND:20260424T140000Z
STATUS:CONFIRMED
SUMMARY:CLEBI, %4.78, 87,5500 TL
DESCRIPTION:Çelebi Hava Servisi A.Ş.
END:VEVENT
BEGIN:VEVENT
UID:58a90ae7-66a0-43b6-d235-08de9f271cd7
DTSTAMP:20260420T215226Z
TRANSP:TRANSPARENT
DTSTART:20260427T060000Z
DTEND:20260427T140000Z
STATUS:CONFIRMED
SUMMARY:YUNSA, %4.10, 0,3107 TL
DESCRIPTION:Yünsa Yünlü San. ve Tic. A.Ş.
END:VEVENT
BEGIN:VEVENT
UID:2e773b92-821e-477e-d236-08de9f271cd7
DTSTAMP:20260420T215226Z
TRANSP:TRANSPARENT
DTSTART:20260428T060000Z
DTEND:20260428T140000Z
STATUS:CONFIRMED
SUMMARY:OSMEN, %0.60, 0,0425 TL
DESCRIPTION:Osmanlı Yatırım Menkul Değerler A.Ş.
END:VEVENT
BEGIN:VEVENT
UID:013b3f6d-36b8-4c6c-d237-08de9f271cd7
DTSTAMP:20260420T215226Z
TRANSP:TRANSPARENT
DTSTART:20260428T060000Z
DTEND:20260428T140000Z
STATUS:CONFIRMED
SUMMARY:MSGYO, %5.24, 0,4257 TL
DESCRIPTION:Mistral Gayrimenkul Yatırım Ortaklığı A.Ş.
END:VEVENT
BEGIN:VEVENT
UID:143d51dd-6a53-497c-d238-08de9f271cd7
DTSTAMP:20260420T215226Z
TRANSP:TRANSPARENT
DTSTART:20260428T060000Z
DTEND:20260428T140000Z
STATUS:CONFIRMED
SUMMARY:KTLEV, %0.11, 0,0821 TL
DESCRIPTION:Katılımevim Tasarruf Finansman A.Ş.
END:VEVENT
BEGIN:VEVENT
UID:040632ff-b05e-4470-d239-08de9f271cd7
DTSTAMP:20260420T215226Z
TRANSP:TRANSPARENT
DTSTART:20260430T060000Z
DTEND:20260430T140000Z
STATUS:CONFIRMED
SUMMARY:NETCD, %3.03, 3,7226 TL
DESCRIPTION:Netcad Yazılım A.Ş.
END:VEVENT
BEGIN:VEVENT
UID:47d67dce-c1b8-43ae-d23a-08de9f271cd7
DTSTAMP:20260420T215226Z
TRANSP:TRANSPARENT
DTSTART:20260504T060000Z
DTEND:20260504T140000Z
STATUS:CONFIRMED
SUMMARY:ALARK, %3.20, 2,6227 TL
DESCRIPTION:Alarko Holding A.Ş.
END:VEVENT
BEGIN:VEVENT
UID:dad63013-14ee-4f1e-d23b-08de9f271cd7
DTSTAMP:20260420T215226Z
TRANSP:TRANSPARENT
DTSTART:20260506T060000Z
DTEND:20260506T140000Z
STATUS:CONFIRMED
SUMMARY:LIDER, %0.02, 0,0303 TL
DESCRIPTION:Ldr Turizm A.Ş.
END:VEVENT
BEGIN:VEVENT
UID:0ab22d3c-192f-4cff-d23c-08de9f271cd7
DTSTAMP:20260420T215226Z
TRANSP:TRANSPARENT
DTSTART:20260506T060000Z
DTEND:20260506T140000Z
STATUS:CONFIRMED
SUMMARY:NTGAZ, %7.01, 0,7391 TL
DESCRIPTION:Naturelgaz Sanayi ve Ticaret A.Ş.
END:VEVENT
BEGIN:VEVENT
UID:b983d440-dedc-447c-d23d-08de9f271cd7
DTSTAMP:20260420T215226Z
TRANSP:TRANSPARENT
DTSTART:20260506T060000Z
DTEND:20260506T140000Z
STATUS:CONFIRMED
SUMMARY:MAVI, %3.69, 1,4221 TL
DESCRIPTION:Mavi Giyim San. ve Tic. A.Ş.
END:VEVENT
BEGIN:VEVENT
UID:4fb3dbb7-5d39-485e-d23e-08de9f271cd7
DTSTAMP:20260420T215226Z
TRANSP:TRANSPARENT
DTSTART:20260506T060000Z
DTEND:20260506T140000Z
STATUS:CONFIRMED
SUMMARY:ECILC, %1.91, 1,4885 TL
DESCRIPTION:Eis Eczacıbaşı İlaç Sınai ve Finansal Yatırımlar San.
  ve Tic. A.Ş.
END:VEVENT
BEGIN:VEVENT
UID:1c33fdbb-b311-4595-d23f-08de9f271cd7
DTSTAMP:20260420T215226Z
TRANSP:TRANSPARENT
DTSTART:20260506T060000Z
DTEND:20260506T140000Z
STATUS:CONFIRMED
SUMMARY:ECZYT, %1.57, 4,8571 TL
DESCRIPTION:Eczacıbaşı Yatırım Holding Ortaklığı A.Ş.
END:VEVENT
BEGIN:VEVENT
UID:0551b03d-af23-4919-d240-08de9f271cd7
DTSTAMP:20260420T215226Z
TRANSP:TRANSPARENT
DTSTART:20260508T060000Z
DTEND:20260508T140000Z
STATUS:CONFIRMED
SUMMARY:KLKIM, %1.69, 0,5543 TL
DESCRIPTION:Kalekim Kimyevi Maddeler San. ve Tic. A.Ş.
END:VEVENT
BEGIN:VEVENT
UID:5b250626-8c3c-4397-d241-08de9f271cd7
DTSTAMP:20260420T215226Z
TRANSP:TRANSPARENT
DTSTART:20260512T060000Z
DTEND:20260512T140000Z
STATUS:CONFIRMED
SUMMARY:ALGYO, %0.92, 0,0500 TL
DESCRIPTION:Alarko Gayrimenkul Yatırım Ortaklığı A.Ş.
END:VEVENT
BEGIN:VEVENT
UID:e6171540-6f36-49ab-d242-08de9f271cd7
DTSTAMP:20260420T215226Z
TRANSP:TRANSPARENT
DTSTART:20260512T060000Z
DTEND:20260512T140000Z
STATUS:CONFIRMED
SUMMARY:CCOLA, %2.01, 1,2155 TL
DESCRIPTION:Coca-Cola İçecek A.Ş.
END:VEVENT
BEGIN:VEVENT
UID:afe80fc1-f296-45fc-d243-08de9f271cd7
DTSTAMP:20260420T215226Z
TRANSP:TRANSPARENT
DTSTART:20260512T060000Z
DTEND:20260512T140000Z
STATUS:CONFIRMED
SUMMARY:OZGYO, %0.80, 0,0168 TL
DESCRIPTION:Özderici Gayrimenkul Yatırım Ortaklığı A.Ş.
END:VEVENT
BEGIN:VEVENT
UID:f09c2c62-3151-48ba-d244-08de9f271cd7
DTSTAMP:20260420T215226Z
TRANSP:TRANSPARENT
DTSTART:20260512T060000Z
DTEND:20260512T140000Z
STATUS:CONFIRMED
SUMMARY:ASUZU, %3.36, 2,0238 TL
DESCRIPTION:Anadolu Isuzu Otomotiv San. ve Tic. A.Ş.
END:VEVENT
BEGIN:VEVENT
UID:a3bb42d2-3f91-4c5e-d245-08de9f271cd7
DTSTAMP:20260420T215226Z
TRANSP:TRANSPARENT
DTSTART:20260513T060000Z
DTEND:20260513T140000Z
STATUS:CONFIRMED
SUMMARY:AEFES, %0.87, 0,1443 TL
DESCRIPTION:Anadolu Efes Biracılık ve Malt Sanayii A.Ş.
END:VEVENT
BEGIN:VEVENT
UID:00eda5a6-6dbf-4f07-d246-08de9f271cd7
DTSTAMP:20260420T215226Z
TRANSP:TRANSPARENT
DTSTART:20260513T060000Z
DTEND:20260513T140000Z
STATUS:CONFIRMED
SUMMARY:MCARD, %2.96, 4,5896 TL
DESCRIPTION:(MetropolCard) Metropal Kurumsal Hizmetler A.Ş.
END:VEVENT
BEGIN:VEVENT
UID:38300040-5692-4cd5-d247-08de9f271cd7
DTSTAMP:20260420T215226Z
TRANSP:TRANSPARENT
DTSTART:20260513T060000Z
DTEND:20260513T140000Z
STATUS:CONFIRMED
SUMMARY:BRKVY, %0.52, 0,4486 TL
DESCRIPTION:Birikim Varlık Yönetim A.Ş.
END:VEVENT
BEGIN:VEVENT
UID:a81ea029-5bf6-4d08-d248-08de9f271cd7
DTSTAMP:20260420T215226Z
TRANSP:TRANSPARENT
DTSTART:20260513T060000Z
DTEND:20260513T140000Z
STATUS:CONFIRMED
SUMMARY:MGROS, %0.68, 3,8731 TL
DESCRIPTION:Migros T.A.Ş.
END:VEVENT
BEGIN:VEVENT
UID:fc3c5525-c866-4d6d-d249-08de9f271cd7
DTSTAMP:20260420T215226Z
TRANSP:TRANSPARENT
DTSTART:20260513T060000Z
DTEND:20260513T140000Z
STATUS:CONFIRMED
SUMMARY:TRCAS, %5.02, 1,9953 TL
DESCRIPTION:Turcas Holding A.Ş.
END:VEVENT
BEGIN:VEVENT
UID:e09ad203-385d-4614-d24a-08de9f271cd7
DTSTAMP:20260420T215226Z
TRANSP:TRANSPARENT
DTSTART:20260514T060000Z
DTEND:20260514T140000Z
STATUS:CONFIRMED
SUMMARY:EGPRO, %1.69, 0,5459 TL
DESCRIPTION:Ege Profil Tic. ve San. A.Ş.
END:VEVENT
BEGIN:VEVENT
UID:2a25508a-f83c-4a3b-d24b-08de9f271cd7
DTSTAMP:20260420T215226Z
TRANSP:TRANSPARENT
DTSTART:20260518T060000Z
DTEND:20260518T140000Z
STATUS:CONFIRMED
SUMMARY:SARKY, %1.16, 0,3000 TL
DESCRIPTION:Sarkuysan Elektrolit Bakır San. ve Tic. A.Ş.
END:VEVENT
BEGIN:VEVENT
UID:bfd5663f-b529-41b0-d24c-08de9f271cd7
DTSTAMP:20260420T215226Z
TRANSP:TRANSPARENT
DTSTART:20260520T060000Z
DTEND:20260520T140000Z
STATUS:CONFIRMED
SUMMARY:GENTS, %2.18, 0,1333 TL
DESCRIPTION:Gentaş Dekoratif Yüzeyler San. ve Tic. A.Ş.
END:VEVENT
BEGIN:VEVENT
UID:d855bac0-3a75-4122-d24d-08de9f271cd7
DTSTAMP:20260420T215226Z
TRANSP:TRANSPARENT
DTSTART:20260520T060000Z
DTEND:20260520T140000Z
STATUS:CONFIRMED
SUMMARY:AGHOL, %2.18, 0,5933 TL
DESCRIPTION:AG Anadolu Grubu Holding A.Ş.
END:VEVENT
BEGIN:VEVENT
UID:a083ef91-ec8b-40cd-d24e-08de9f271cd7
DTSTAMP:20260420T215226Z
TRANSP:TRANSPARENT
DTSTART:20260520T060000Z
DTEND:20260520T140000Z
STATUS:CONFIRMED
SUMMARY:ERBOS, %1.32, 2,2950 TL
DESCRIPTION:Erbosan Erciyas Boru San. Ve Tic. A.Ş.
END:VEVENT
BEGIN:VEVENT
UID:c8627034-d286-4f95-d24f-08de9f271cd7
DTSTAMP:20260420T215226Z
TRANSP:TRANSPARENT
DTSTART:20260520T060000Z
DTEND:20260520T140000Z
STATUS:CONFIRMED
SUMMARY:LKMNH, %1.46, 0,1968 TL
DESCRIPTION:Lokman Hekim Engürüsağ Sağlık Turizm Eğitim Hizmetleri 
 ve İnşaat Taahhüt A.Ş.
END:VEVENT
BEGIN:VEVENT
UID:ceb4d602-2c91-4421-d250-08de9f271cd7
DTSTAMP:20260420T215226Z
TRANSP:TRANSPARENT
DTSTART:20260520T060000Z
DTEND:20260520T140000Z
STATUS:CONFIRMED
SUMMARY:PETUN, %1.95, 0,2083 TL
DESCRIPTION:Pınar Entegre Et ve Un Sanayi A.Ş.
END:VEVENT
BEGIN:VEVENT
UID:356adc25-5a7c-4b6f-d251-08de9f271cd7
DTSTAMP:20260420T215226Z
TRANSP:TRANSPARENT
DTSTART:20260520T060000Z
DTEND:20260520T140000Z
STATUS:CONFIRMED
SUMMARY:KTLEV, %0.11, 0,0821 TL
DESCRIPTION:Katılımevim Tasarruf Finansman A.Ş.
END:VEVENT
BEGIN:VEVENT
UID:bcf76155-27a5-444a-d252-08de9f271cd7
DTSTAMP:20260420T215226Z
TRANSP:TRANSPARENT
DTSTART:20260521T060000Z
DTEND:20260521T140000Z
STATUS:CONFIRMED
SUMMARY:LIDFA, %4.27, 0,1329 TL
DESCRIPTION:Lider Faktoring A.Ş.
END:VEVENT
BEGIN:VEVENT
UID:d7eaa3a6-778e-4a9b-d253-08de9f271cd7
DTSTAMP:20260420T215226Z
TRANSP:TRANSPARENT
DTSTART:20260522T060000Z
DTEND:20260522T140000Z
STATUS:CONFIRMED
SUMMARY:GRTHO, %0.18, 0,3817 TL
DESCRIPTION:Graınturk Holding A.Ş.
END:VEVENT
BEGIN:VEVENT
UID:ce4189ac-2834-4e1f-d254-08de9f271cd7
DTSTAMP:20260420T215226Z
TRANSP:TRANSPARENT
DTSTART:20260601T060000Z
DTEND:20260601T140000Z
STATUS:CONFIRMED
SUMMARY:MACKO, %6.48, 2,2950 TL
DESCRIPTION:Maçkolik İnternet Hizmetleri Tic. A.Ş.
END:VEVENT
BEGIN:VEVENT
UID:cf89a6f8-d948-484f-d255-08de9f271cd7
DTSTAMP:20260420T215226Z
TRANSP:TRANSPARENT
DTSTART:20260601T060000Z
DTEND:20260601T140000Z
STATUS:CONFIRMED
SUMMARY:TEZOL, %2.44, 0,3825 TL
DESCRIPTION:Europap Tezol Kağıt San. ve Tic. A.Ş.
END:VEVENT
BEGIN:VEVENT
UID:afee0739-bed6-4672-d256-08de9f271cd7
DTSTAMP:20260420T215226Z
TRANSP:TRANSPARENT
DTSTART:20260601T060000Z
DTEND:20260601T140000Z
STATUS:CONFIRMED
SUMMARY:AYES, %1.08, 0,3000 TL
DESCRIPTION:Ayes Çelik Hasır ve Çit Sanayi A.Ş.
END:VEVENT
BEGIN:VEVENT
UID:b45f3c4b-ed29-43df-d257-08de9f271cd7
DTSTAMP:20260420T215226Z
TRANSP:TRANSPARENT
DTSTART:20260601T060000Z
DTEND:20260601T140000Z
STATUS:CONFIRMED
SUMMARY:SISE, %1.22, 0,4995 TL
DESCRIPTION:Türkiye Şişe ve Cam Fabrikaları A.Ş.
END:VEVENT
BEGIN:VEVENT
UID:d0c15574-f1d9-4484-d258-08de9f271cd7
DTSTAMP:20260420T215226Z
TRANSP:TRANSPARENT
DTSTART:20260603T060000Z
DTEND:20260603T140000Z
STATUS:CONFIRMED
SUMMARY:AVPGY, %4.42, 2,5000 TL
DESCRIPTION:Avrupakent Gayrimenkul Yatırım Ortaklığı A.Ş.
END:VEVENT
BEGIN:VEVENT
UID:9d9e63f4-8bad-43cb-d259-08de9f271cd7
DTSTAMP:20260420T215226Z
TRANSP:TRANSPARENT
DTSTART:20260610T060000Z
DTEND:20260610T140000Z
STATUS:CONFIRMED
SUMMARY:YAPRK, %0.15, 0,0213 TL
DESCRIPTION:Yaprak Süt ve Besi Çiftlikleri San. ve Tic. A.Ş.
END:VEVENT
BEGIN:VEVENT
UID:eb60dfbb-4fae-4230-d25a-08de9f271cd7
DTSTAMP:20260420T215226Z
TRANSP:TRANSPARENT
DTSTART:20260610T060000Z
DTEND:20260610T140000Z
STATUS:CONFIRMED
SUMMARY:ATATP, %0.68, 0,8500 TL
DESCRIPTION:Atp Yazılım ve Teknoloji A.Ş.
END:VEVENT
BEGIN:VEVENT
UID:46033505-9d2b-4350-d25b-08de9f271cd7
DTSTAMP:20260420T215226Z
TRANSP:TRANSPARENT
DTSTART:20260615T060000Z
DTEND:20260615T140000Z
STATUS:CONFIRMED
SUMMARY:BULGS, %0.21, 0,0932 TL
DESCRIPTION:Bulls Girişim Sermayesi Yatırım Ortaklığı A.Ş.
END:VEVENT
BEGIN:VEVENT
UID:f8cf67c9-8d9a-4b41-d25c-08de9f271cd7
DTSTAMP:20260420T215226Z
TRANSP:TRANSPARENT
DTSTART:20260615T060000Z
DTEND:20260615T140000Z
STATUS:CONFIRMED
SUMMARY:INDES, %2.17, 0,1847 TL
DESCRIPTION:İndeks Bilgisayar Sistemleri Mühendislik San. ve Tic. A.Ş.
END:VEVENT
BEGIN:VEVENT
UID:abcf8ed2-28fb-4076-d25d-08de9f271cd7
DTSTAMP:20260420T215226Z
TRANSP:TRANSPARENT
DTSTART:20260617T060000Z
DTEND:20260617T140000Z
STATUS:CONFIRMED
SUMMARY:BIMAS, %0.52, 3,4000 TL
DESCRIPTION:Bim Birleşik Mağazalar A.Ş.
END:VEVENT
BEGIN:VEVENT
UID:9f2d5ae6-1dae-415b-d25e-08de9f271cd7
DTSTAMP:20260420T215226Z
TRANSP:TRANSPARENT
DTSTART:20260623T060000Z
DTEND:20260623T140000Z
STATUS:CONFIRMED
SUMMARY:KTLEV, %0.11, 0,0821 TL
DESCRIPTION:Katılımevim Tasarruf Finansman A.Ş.
END:VEVENT
BEGIN:VEVENT
UID:0c2ea0aa-41da-4175-d25f-08de9f271cd7
DTSTAMP:20260420T215226Z
TRANSP:TRANSPARENT
DTSTART:20260624T060000Z
DTEND:20260624T140000Z
STATUS:CONFIRMED
SUMMARY:PAGYO, %3.01, 3,9000 TL
DESCRIPTION:Panora Gayrimenkul Yatırım Ortaklığı A.Ş.
END:VEVENT
BEGIN:VEVENT
UID:2ff42e06-74bc-454a-d260-08de9f271cd7
DTSTAMP:20260420T215226Z
TRANSP:TRANSPARENT
DTSTART:20260624T060000Z
DTEND:20260624T140000Z
STATUS:CONFIRMED
SUMMARY:EKGYO, %2.69, 0,6000 TL
DESCRIPTION:Emlak Konut Gayrimenkul Yatırım A.Ş.
END:VEVENT
BEGIN:VEVENT
UID:263d7d39-ac8a-4c4a-d261-08de9f271cd7
DTSTAMP:20260420T215226Z
TRANSP:TRANSPARENT
DTSTART:20260624T060000Z
DTEND:20260624T140000Z
STATUS:CONFIRMED
SUMMARY:AVPGY, %4.42, 2,5000 TL
DESCRIPTION:Avrupakent Gayrimenkul Yatırım Ortaklığı A.Ş.
END:VEVENT
BEGIN:VEVENT
UID:e682524f-4e81-4657-d262-08de9f271cd7
DTSTAMP:20260420T215226Z
TRANSP:TRANSPARENT
DTSTART:20260624T060000Z
DTEND:20260624T140000Z
STATUS:CONFIRMED
SUMMARY:VKGYO, %3.59, 0,1020 TL
DESCRIPTION:Vakıf Gayrimenkul Yatırım Ortaklığı A.Ş.
END:VEVENT
BEGIN:VEVENT
UID:528a4c4c-e4e3-41d6-d263-08de9f271cd7
DTSTAMP:20260420T215226Z
TRANSP:TRANSPARENT
DTSTART:20260626T060000Z
DTEND:20260626T140000Z
STATUS:CONFIRMED
SUMMARY:ISKPL, %0.00, 0,0004 TL
DESCRIPTION:Işık Plastik Sanayi ve Dış Ticaret Pazarlama A.Ş.
END:VEVENT
BEGIN:VEVENT
UID:2264f0a7-ad13-4123-d264-08de9f271cd7
DTSTAMP:20260420T215226Z
TRANSP:TRANSPARENT
DTSTART:20260630T060000Z
DTEND:20260630T140000Z
STATUS:CONFIRMED
SUMMARY:KIMMR, %1.19, 0,1771 TL
DESCRIPTION:Ersan Alışveriş Hizmetleri ve Gıda San. Tic. A.Ş.
END:VEVENT
BEGIN:VEVENT
UID:acf9d4ee-4d3f-420f-d265-08de9f271cd7
DTSTAMP:20260420T215226Z
TRANSP:TRANSPARENT
DTSTART:20260630T060000Z
DTEND:20260630T140000Z
STATUS:CONFIRMED
SUMMARY:LOGO, %3.65, 4,4737 TL
DESCRIPTION:Logo Yazılım San. ve Tic. A.Ş.
END:VEVENT
BEGIN:VEVENT
UID:abc76fb5-5336-4e19-d266-08de9f271cd7
DTSTAMP:20260420T215226Z
TRANSP:TRANSPARENT
DTSTART:20260630T060000Z
DTEND:20260630T140000Z
STATUS:CONFIRMED
SUMMARY:EGEGY, %0.97, 0,3000 TL
DESCRIPTION:Egeyapı Avrupa Gayrimenkul Yatırım Ortaklığı A.Ş.
END:VEVENT
BEGIN:VEVENT
UID:511e336a-48d4-435f-d267-08de9f271cd7
DTSTAMP:20260420T215226Z
TRANSP:TRANSPARENT
DTSTART:20260630T060000Z
DTEND:20260630T140000Z
STATUS:CONFIRMED
SUMMARY:HLGYO, %9.85, 0,5755 TL
DESCRIPTION:Halk Gayrimenkul Yatırım Ortaklığı A.Ş.
END:VEVENT
BEGIN:VEVENT
UID:319a7781-cb2d-409d-d268-08de9f271cd7
DTSTAMP:20260420T215226Z
TRANSP:TRANSPARENT
DTSTART:20260630T060000Z
DTEND:20260630T140000Z
STATUS:CONFIRMED
SUMMARY:ISSEN, %0.53, 0,0340 TL
DESCRIPTION:İşbir Sentetik Dokuma Sanayi A.Ş.
END:VEVENT
BEGIN:VEVENT
UID:d92bd552-75f6-4395-d269-08de9f271cd7
DTSTAMP:20260420T215226Z
TRANSP:TRANSPARENT
DTSTART:20260630T060000Z
DTEND:20260630T140000Z
STATUS:CONFIRMED
SUMMARY:ZRGYO, %0.43, 0,0929 TL
DESCRIPTION:Ziraat Gayrimenkul Yatırım Ortaklığı A.Ş.
END:VEVENT
BEGIN:VEVENT
UID:229673fe-d21c-4acb-d26a-08de9f271cd7
DTSTAMP:20260420T215226Z
TRANSP:TRANSPARENT
DTSTART:20260630T060000Z
DTEND:20260630T140000Z
STATUS:CONFIRMED
SUMMARY:PSGYO, %0.34, 0,0102 TL
DESCRIPTION:Pasifik Gayrimenkul Yatırım Ortaklığı A.Ş.
END:VEVENT
BEGIN:VEVENT
UID:e4254884-2ab0-4c3a-d26b-08de9f271cd7
DTSTAMP:20260420T215226Z
TRANSP:TRANSPARENT
DTSTART:20260706T060000Z
DTEND:20260706T140000Z
STATUS:CONFIRMED
SUMMARY:LILAK, %3.84, 1,2966 TL
DESCRIPTION:Lila Kağıt San. ve Tic. A.Ş.
END:VEVENT
BEGIN:VEVENT
UID:18b131d9-8546-4033-d26c-08de9f271cd7
DTSTAMP:20260420T215226Z
TRANSP:TRANSPARENT
DTSTART:20260708T060000Z
DTEND:20260708T140000Z
STATUS:CONFIRMED
SUMMARY:PNLSN, %1.47, 0,5847 TL
DESCRIPTION:Panelsan Çatı Cephe Sistemleri San. ve Tic. A.Ş.
END:VEVENT
BEGIN:VEVENT
UID:8d6c7a7a-761b-4e32-d26d-08de9f271cd7
DTSTAMP:20260420T215226Z
TRANSP:TRANSPARENT
DTSTART:20260708T060000Z
DTEND:20260708T140000Z
STATUS:CONFIRMED
SUMMARY:LIDER, %0.02, 0,0303 TL
DESCRIPTION:Ldr Turizm A.Ş.
END:VEVENT
BEGIN:VEVENT
UID:dceb4305-f0eb-446d-d26e-08de9f271cd7
DTSTAMP:20260420T215226Z
TRANSP:TRANSPARENT
DTSTART:20260716T060000Z
DTEND:20260716T140000Z
STATUS:CONFIRMED
SUMMARY:EGPRO, %1.69, 0,5459 TL
DESCRIPTION:Ege Profil Tic. ve San. A.Ş.
END:VEVENT
BEGIN:VEVENT
UID:e2672f58-3288-419c-d26f-08de9f271cd7
DTSTAMP:20260420T215226Z
TRANSP:TRANSPARENT
DTSTART:20260721T060000Z
DTEND:20260721T140000Z
STATUS:CONFIRMED
SUMMARY:TAVHL, %0.56, 1,5342 TL
DESCRIPTION:Tav Havalimanları Holding A.Ş.
END:VEVENT
BEGIN:VEVENT
UID:112da727-e85d-4564-d270-08de9f271cd7
DTSTAMP:20260420T215226Z
TRANSP:TRANSPARENT
DTSTART:20260721T060000Z
DTEND:20260721T140000Z
STATUS:CONFIRMED
SUMMARY:KTLEV, %0.11, 0,0821 TL
DESCRIPTION:Katılımevim Tasarruf Finansman A.Ş.
END:VEVENT
BEGIN:VEVENT
UID:665f7db2-0c92-423b-d271-08de9f271cd7
DTSTAMP:20260420T215226Z
TRANSP:TRANSPARENT
DTSTART:20260722T060000Z
DTEND:20260722T140000Z
STATUS:CONFIRMED
SUMMARY:GRTHO, %0.18, 0,3817 TL
DESCRIPTION:Graınturk Holding A.Ş.
END:VEVENT
BEGIN:VEVENT
UID:fcd71cf2-1ed8-4fdc-d272-08de9f271cd7
DTSTAMP:20260420T215226Z
TRANSP:TRANSPARENT
DTSTART:20260728T060000Z
DTEND:20260728T140000Z
STATUS:CONFIRMED
SUMMARY:MERCN, %1.05, 0,1786 TL
DESCRIPTION:Mercan Kimya San. ve Tic. A.Ş.
END:VEVENT
BEGIN:VEVENT
UID:be2a7e85-6605-43de-d273-08de9f271cd7
DTSTAMP:20260420T215226Z
TRANSP:TRANSPARENT
DTSTART:20260729T060000Z
DTEND:20260729T140000Z
STATUS:CONFIRMED
SUMMARY:OSMEN, %0.60, 0,0425 TL
DESCRIPTION:Osmanlı Yatırım Menkul Değerler A.Ş.
END:VEVENT
BEGIN:VEVENT
UID:c871a823-5fc8-4efc-d274-08de9f271cd7
DTSTAMP:20260420T215226Z
TRANSP:TRANSPARENT
DTSTART:20260813T060000Z
DTEND:20260813T140000Z
STATUS:CONFIRMED
SUMMARY:DOAS, %7.86, 12,7500 TL
DESCRIPTION:Doğuş Otomotiv Servis ve Ticaret A.Ş.
END:VEVENT
BEGIN:VEVENT
UID:bc0b5724-0484-46da-d275-08de9f271cd7
DTSTAMP:20260420T215226Z
TRANSP:TRANSPARENT
DTSTART:20260827T060000Z
DTEND:20260827T140000Z
STATUS:CONFIRMED
SUMMARY:TURSG, %2.04, 0,2550 TL
DESCRIPTION:Türkiye Sigorta A.Ş.
END:VEVENT
BEGIN:VEVENT
UID:6bde6e1d-b95d-436c-d276-08de9f271cd7
DTSTAMP:20260420T215226Z
TRANSP:TRANSPARENT
DTSTART:20260831T060000Z
DTEND:20260831T140000Z
STATUS:CONFIRMED
SUMMARY:SUWEN, %1.80, 0,1518 TL
DESCRIPTION:Suwen Tekstil Sanayi Pazarlama A.Ş.
END:VEVENT
BEGIN:VEVENT
UID:defa03e1-e34d-4396-d277-08de9f271cd7
DTSTAMP:20260420T215226Z
TRANSP:TRANSPARENT
DTSTART:20260903T060000Z
DTEND:20260903T140000Z
STATUS:CONFIRMED
SUMMARY:PAGYO, %0.77, 1,0000 TL
DESCRIPTION:Panora Gayrimenkul Yatırım Ortaklığı A.Ş.
END:VEVENT
BEGIN:VEVENT
UID:d5b20267-6632-416b-d278-08de9f271cd7
DTSTAMP:20260420T215226Z
TRANSP:TRANSPARENT
DTSTART:20260908T060000Z
DTEND:20260908T140000Z
STATUS:CONFIRMED
SUMMARY:LIDER, %0.02, 0,0303 TL
DESCRIPTION:Ldr Turizm A.Ş.
END:VEVENT
BEGIN:VEVENT
UID:63888cc4-39c2-4562-d279-08de9f271cd7
DTSTAMP:20260420T215226Z
TRANSP:TRANSPARENT
DTSTART:20260915T060000Z
DTEND:20260915T140000Z
STATUS:CONFIRMED
SUMMARY:BULGS, %0.21, 0,0932 TL
DESCRIPTION:Bulls Girişim Sermayesi Yatırım Ortaklığı A.Ş.
END:VEVENT
BEGIN:VEVENT
UID:2329c0f0-9982-4c82-d27a-08de9f271cd7
DTSTAMP:20260420T215226Z
TRANSP:TRANSPARENT
DTSTART:20260916T060000Z
DTEND:20260916T140000Z
STATUS:CONFIRMED
SUMMARY:BIMAS, %0.65, 4,2500 TL
DESCRIPTION:Bim Birleşik Mağazalar A.Ş.
END:VEVENT
BEGIN:VEVENT
UID:442c3370-e9c1-4917-d27b-08de9f271cd7
DTSTAMP:20260420T215226Z
TRANSP:TRANSPARENT
DTSTART:20260918T060000Z
DTEND:20260918T140000Z
STATUS:CONFIRMED
SUMMARY:BIGCH, %1.30, 0,0850 TL
DESCRIPTION:(BigChefs) Büyük Şefler Gıda Turizm Tekstil Danışmanlı
 k Organizasyon Eğitim San. ve Tic. A.Ş.
END:VEVENT
BEGIN:VEVENT
UID:07e73a09-3880-4016-d27c-08de9f271cd7
DTSTAMP:20260420T215226Z
TRANSP:TRANSPARENT
DTSTART:20260921T060000Z
DTEND:20260921T140000Z
STATUS:CONFIRMED
SUMMARY:PETUN, %1.95, 0,2083 TL
DESCRIPTION:Pınar Entegre Et ve Un Sanayi A.Ş.
END:VEVENT
BEGIN:VEVENT
UID:ec25cc31-e49e-4350-d27d-08de9f271cd7
DTSTAMP:20260420T215226Z
TRANSP:TRANSPARENT
DTSTART:20260922T060000Z
DTEND:20260922T140000Z
STATUS:CONFIRMED
SUMMARY:MACKO, %4.32, 1,5300 TL
DESCRIPTION:Maçkolik İnternet Hizmetleri Tic. A.Ş.
END:VEVENT
BEGIN:VEVENT
UID:ad7d520c-1c5f-4f97-d27e-08de9f271cd7
DTSTAMP:20260420T215226Z
TRANSP:TRANSPARENT
DTSTART:20260922T060000Z
DTEND:20260922T140000Z
STATUS:CONFIRMED
SUMMARY:TAVHL, %0.56, 1,5342 TL
DESCRIPTION:Tav Havalimanları Holding A.Ş.
END:VEVENT
BEGIN:VEVENT
UID:071387fc-257a-4e45-d27f-08de9f271cd7
DTSTAMP:20260420T215226Z
TRANSP:TRANSPARENT
DTSTART:20260928T060000Z
DTEND:20260928T140000Z
STATUS:CONFIRMED
SUMMARY:LKMNH, %1.46, 0,1968 TL
DESCRIPTION:Lokman Hekim Engürüsağ Sağlık Turizm Eğitim Hizmetleri 
 ve İnşaat Taahhüt A.Ş.
END:VEVENT
BEGIN:VEVENT
UID:be3df3c8-5692-4f75-d280-08de9f271cd7
DTSTAMP:20260420T215226Z
TRANSP:TRANSPARENT
DTSTART:20260930T060000Z
DTEND:20260930T140000Z
STATUS:CONFIRMED
SUMMARY:KIMMR, %1.19, 0,1771 TL
DESCRIPTION:Ersan Alışveriş Hizmetleri ve Gıda San. Tic. A.Ş.
END:VEVENT
BEGIN:VEVENT
UID:3cd9eb32-a763-4282-d281-08de9f271cd7
DTSTAMP:20260420T215226Z
TRANSP:TRANSPARENT
DTSTART:20260930T060000Z
DTEND:20260930T140000Z
STATUS:CONFIRMED
SUMMARY:TUPRS, %2.67, 5,7349 TL
DESCRIPTION:Tüpraş Türkiye Petrol Rafinerileri A.Ş.
END:VEVENT
BEGIN:VEVENT
UID:25c6b224-96b1-473a-d282-08de9f271cd7
DTSTAMP:20260420T215226Z
TRANSP:TRANSPARENT
DTSTART:20260930T060000Z
DTEND:20260930T140000Z
STATUS:CONFIRMED
SUMMARY:DESA, %0.57, 0,0714 TL
DESCRIPTION:Desa Deri San. ve Tic. A.Ş.
END:VEVENT
BEGIN:VEVENT
UID:8d854468-a1b6-4e52-d283-08de9f271cd7
DTSTAMP:20260420T215226Z
TRANSP:TRANSPARENT
DTSTART:20261015T060000Z
DTEND:20261015T140000Z
STATUS:CONFIRMED
SUMMARY:EBEBK, %0.88, 0,5313 TL
DESCRIPTION:Ebebek Mağazacılık A.Ş.
END:VEVENT
BEGIN:VEVENT
UID:4e690cb7-e665-4bec-d284-08de9f271cd7
DTSTAMP:20260420T215226Z
TRANSP:TRANSPARENT
DTSTART:20261015T060000Z
DTEND:20261015T140000Z
STATUS:CONFIRMED
SUMMARY:AEFES, %0.87, 0,1443 TL
DESCRIPTION:Anadolu Efes Biracılık ve Malt Sanayii A.Ş.
END:VEVENT
BEGIN:VEVENT
UID:097c051f-67ad-4c88-d285-08de9f271cd7
DTSTAMP:20260420T215226Z
TRANSP:TRANSPARENT
DTSTART:20261021T060000Z
DTEND:20261021T140000Z
STATUS:CONFIRMED
SUMMARY:BASCM, %7.06, 0,9015 TL
DESCRIPTION:Baştaş Başkent Çimento San. ve Tic. A.Ş.
END:VEVENT
BEGIN:VEVENT
UID:1a5306fe-f357-45f3-d286-08de9f271cd7
DTSTAMP:20260420T215226Z
TRANSP:TRANSPARENT
DTSTART:20261026T060000Z
DTEND:20261026T140000Z
STATUS:CONFIRMED
SUMMARY:OSMEN, %0.60, 0,0425 TL
DESCRIPTION:Osmanlı Yatırım Menkul Değerler A.Ş.
END:VEVENT
BEGIN:VEVENT
UID:2746b998-1b23-4036-d287-08de9f271cd7
DTSTAMP:20260420T215226Z
TRANSP:TRANSPARENT
DTSTART:20261030T060000Z
DTEND:20261030T140000Z
STATUS:CONFIRMED
SUMMARY:DESA, %0.65, 0,0816 TL
DESCRIPTION:Desa Deri San. ve Tic. A.Ş.
END:VEVENT
BEGIN:VEVENT
UID:a371613d-a92b-407d-d288-08de9f271cd7
DTSTAMP:20260420T215226Z
TRANSP:TRANSPARENT
DTSTART:20261106T060000Z
DTEND:20261106T140000Z
STATUS:CONFIRMED
SUMMARY:LIDER, %0.02, 0,0303 TL
DESCRIPTION:Ldr Turizm A.Ş.
END:VEVENT
BEGIN:VEVENT
UID:7fc0ada2-7a29-4fd7-d289-08de9f271cd7
DTSTAMP:20260420T215226Z
TRANSP:TRANSPARENT
DTSTART:20261124T060000Z
DTEND:20261124T140000Z
STATUS:CONFIRMED
SUMMARY:ASELS, %0.10, 0,3634 TL
DESCRIPTION:Aselsan Elektronik San. ve Tic. A.Ş.
END:VEVENT
BEGIN:VEVENT
UID:9c454496-9d41-4b42-d28a-08de9f271cd7
DTSTAMP:20260420T215226Z
TRANSP:TRANSPARENT
DTSTART:20261130T060000Z
DTEND:20261130T140000Z
STATUS:CONFIRMED
SUMMARY:DESA, %0.65, 0,0816 TL
DESCRIPTION:Desa Deri San. ve Tic. A.Ş.
END:VEVENT
BEGIN:VEVENT
UID:3af0c063-0eb2-49a6-d28b-08de9f271cd7
DTSTAMP:20260420T215226Z
TRANSP:TRANSPARENT
DTSTART:20261209T060000Z
DTEND:20261209T140000Z
STATUS:CONFIRMED
SUMMARY:TCELL, %3.32, 3,4000 TL
DESCRIPTION:Turkcell İletişim Hizmetleri A.Ş.
END:VEVENT
BEGIN:VEVENT
UID:000f3c1a-2b35-4168-d28c-08de9f271cd7
DTSTAMP:20260420T215226Z
TRANSP:TRANSPARENT
DTSTART:20261215T060000Z
DTEND:20261215T140000Z
STATUS:CONFIRMED
SUMMARY:EBEBK, %0.88, 0,5313 TL
DESCRIPTION:Ebebek Mağazacılık A.Ş.
END:VEVENT
BEGIN:VEVENT
UID:8587ac0c-6733-4571-d28d-08de9f271cd7
DTSTAMP:20260420T215226Z
TRANSP:TRANSPARENT
DTSTART:20261215T060000Z
DTEND:20261215T140000Z
STATUS:CONFIRMED
SUMMARY:EREGL, %1.72, 0,4675 TL
DESCRIPTION:Ereğli Demir ve Çelik Fabrikaları T.A.Ş.
END:VEVENT
BEGIN:VEVENT
UID:99625957-42bc-4a97-d28e-08de9f271cd7
DTSTAMP:20260420T215226Z
TRANSP:TRANSPARENT
DTSTART:20261215T060000Z
DTEND:20261215T140000Z
STATUS:CONFIRMED
SUMMARY:ISDMR, %9.66, 3,8250 TL
DESCRIPTION:İskenderun Demir ve Çelik A.Ş.
END:VEVENT
BEGIN:VEVENT
UID:1cd7ce2f-717f-4e11-d28f-08de9f271cd7
DTSTAMP:20260420T215226Z
TRANSP:TRANSPARENT
DTSTART:20261216T060000Z
DTEND:20261216T140000Z
STATUS:CONFIRMED
SUMMARY:BIMAS, %0.65, 4,2500 TL
DESCRIPTION:Bim Birleşik Mağazalar A.Ş.
END:VEVENT
BEGIN:VEVENT
UID:aa62d8c1-c1e5-43a8-d290-08de9f271cd7
DTSTAMP:20260420T215226Z
TRANSP:TRANSPARENT
DTSTART:20261223T060000Z
DTEND:20261223T140000Z
STATUS:CONFIRMED
SUMMARY:PAGYO, %0.66, 0,8545 TL
DESCRIPTION:Panora Gayrimenkul Yatırım Ortaklığı A.Ş.
END:VEVENT
BEGIN:VEVENT
UID:330be3a9-f3df-47b1-d291-08de9f271cd7
DTSTAMP:20260420T215226Z
TRANSP:TRANSPARENT
DTSTART:20261231T060000Z
DTEND:20261231T140000Z
STATUS:CONFIRMED
SUMMARY:GWIND, %2.77, 0,6296 TL
DESCRIPTION:Galata Wind Enerji A.Ş.
END:VEVENT
BEGIN:VEVENT
UID:0588abfb-2ddd-4e87-d292-08de9f271cd7
DTSTAMP:20260420T215226Z
TRANSP:TRANSPARENT
DTSTART:20261231T060000Z
DTEND:20261231T140000Z
STATUS:CONFIRMED
SUMMARY:GLYHO, %0.63, 0,0125 TL
DESCRIPTION:Global Yatırım Holding A.Ş.
END:VEVENT
END:VCALENDAR
