BEGIN:VCALENDAR
VERSION:2.0
PRODID:itakvim.com
CALSCALE:GREGORIAN
METHOD:PUBLISH
UID:8th2sx5lded
X-WR-CALNAME:1) Tüyap Fuar Ve Kongre Merkezi 2) İstanbul Fuar Merkezi Takvimi
X-ITAKVIM-LANGUAGE:tr
X-ORIGINAL-URL:itakvim.com
REFRESH-INTERVAL;VALUE=DURATION:PT1H
X-ITAKVIM-REGION:TR
X-Robots-Tag:noindex
X-PUBLISHED-TTL:PT1H
BEGIN:VEVENT
UID:72610031-ab68-4423-8c68-08de9dec68b5
DTSTAMP:20260419T083022Z
TRANSP:TRANSPARENT
DTSTART:20260127T060000Z
DTEND:20260131T150000Z
STATUS:CONFIRMED
SUMMARY:Uluslararası İstanbul Mobilya Fuarı
DESCRIPTION:1) Tüyap Tüm Fuarcılık Yapım Anonim Şirketi 2) Mos Fuar
 cılık Anonim Şirketi tarafından düzenlenen ev-ofis mobilyaları\, d
 ekorasyon üniteleri\, aksesuarlar\, tasarım konulu fuarda görüşmek 
 üzere: \n\nWeb:www.tuyap.com.tr\nE-Posta: tuyap@tuyap.com.tr
LOCATION:1) Tüyap Fuar Ve Kongre Merkezi 2) İstanbul Fuar Merkezi
BEGIN:VALARM
ACTION:DISPLAY
DESCRIPTION:Uluslararası İstanbul Mobilya Fuarı
TRIGGER:-PT24H
END:VALARM
END:VEVENT
END:VCALENDAR
