BEGIN:VCALENDAR
VERSION:2.0
PRODID:itakvim.com
CALSCALE:GREGORIAN
METHOD:PUBLISH
UID:931q4130pgv
X-WR-CALNAME:Proje Okulları Öğretmen Atama - Yönetici Görevlendirme Takvimi
X-ITAKVIM-LANGUAGE:tr
X-ORIGINAL-URL:itakvim.com
REFRESH-INTERVAL;VALUE=DURATION:PT1H
X-ITAKVIM-REGION:TR
X-Robots-Tag:noindex
X-PUBLISHED-TTL:PT1H
BEGIN:VEVENT
UID:4c62bdbd-c4cf-4a0a-8089-08de71e8a9ec
DTSTAMP:20260222T080203Z
TRANSP:TRANSPARENT
DTSTART:20260504T210000Z
DTEND:20260508T205900Z
STATUS:CONFIRMED
SUMMARY:Özel Program Ve Proje Uygulayan Eğitim Kurumlarına Öğretmen 
 Atama Ve Yönetici Görevlendirme  - Tercih Başvuru
END:VEVENT
BEGIN:VEVENT
UID:de7e453e-05e1-4a16-80a2-08de71e8a9ec
DTSTAMP:20260222T092723Z
TRANSP:TRANSPARENT
DTSTART:20260607T210000Z
DTEND:20260608T205900Z
STATUS:CONFIRMED
SUMMARY:Özel Program Ve Proje Uygulayan Eğitim Kurumlarına Öğretmen 
 Atama Ve Yönetici Görevlendirme  - Sonuçların İlanı
END:VEVENT
BEGIN:VEVENT
UID:68ef7252-42b9-42d3-80a3-08de71e8a9ec
DTSTAMP:20260222T092911Z
TRANSP:TRANSPARENT
DTSTART:20260625T210000Z
DTEND:20260626T205900Z
STATUS:CONFIRMED
SUMMARY:Özel Program Ve Proje Uygulayan Eğitim Kurumlarına Öğretmen 
 Atama Ve Yönetici Görevlendirme  - Tebligat ve İlişik Kesme (Öğret
 men)
END:VEVENT
BEGIN:VEVENT
UID:cacf7360-b685-4906-80a4-08de71e8a9ec
DTSTAMP:20260222T093004Z
TRANSP:TRANSPARENT
DTSTART:20260709T210000Z
DTEND:20260710T205900Z
STATUS:CONFIRMED
SUMMARY:Özel Program Ve Proje Uygulayan Eğitim Kurumlarına Öğretmen 
 Atama Ve Yönetici Görevlendirme  - Tebligat ve İlişik Kesme (Yöneti
 ci)
END:VEVENT
BEGIN:VEVENT
UID:fd46f553-034b-4177-80a5-08de71e8a9ec
DTSTAMP:20260222T093131Z
TRANSP:TRANSPARENT
DTSTART:20260610T210000Z
DTEND:20260615T205900Z
STATUS:CONFIRMED
SUMMARY:Yeniden Yönetici Görevlendirme - Tercih Başvuru
END:VEVENT
BEGIN:VEVENT
UID:cbbfe3e1-314a-41d3-80a6-08de71e8a9ec
DTSTAMP:20260222T093155Z
TRANSP:TRANSPARENT
DTSTART:20260617T210000Z
DTEND:20260618T205900Z
STATUS:CONFIRMED
SUMMARY:Yeniden Yönetici Görevlendirme - Sonuçların İlanı
END:VEVENT
BEGIN:VEVENT
UID:bcf29b2b-419f-41df-80a7-08de71e8a9ec
DTSTAMP:20260222T093228Z
TRANSP:TRANSPARENT
DTSTART:20260710T050000Z
DTEND:20260710T140000Z
STATUS:CONFIRMED
SUMMARY:Yeniden Yönetici Görevlendirme - Tebligat ve İlişik Kesme
END:VEVENT
BEGIN:VEVENT
UID:fef49396-30c9-4236-80a8-08de71e8a9ec
DTSTAMP:20260222T093558Z
TRANSP:TRANSPARENT
DTSTART:20260623T210000Z
DTEND:20260626T205900Z
STATUS:CONFIRMED
SUMMARY:İlk Defa Yönetici Görevlendirme - Tercih Başvuru
END:VEVENT
BEGIN:VEVENT
UID:6b0bc894-3fa0-4402-80a9-08de71e8a9ec
DTSTAMP:20260222T093628Z
TRANSP:TRANSPARENT
DTSTART:20260630T210000Z
DTEND:20260701T205900Z
STATUS:CONFIRMED
SUMMARY:İlk Defa Yönetici Görevlendirme - Sonuçların İlanı
END:VEVENT
BEGIN:VEVENT
UID:81c3b877-6251-476c-80aa-08de71e8a9ec
DTSTAMP:20260222T093806Z
TRANSP:TRANSPARENT
DTSTART:20260709T210000Z
DTEND:20260710T205900Z
STATUS:CONFIRMED
SUMMARY:İlk Defa Yönetici Görevlendirme - Tebligat ve İlişik Kesme
END:VEVENT
BEGIN:VEVENT
UID:b3e990c8-0371-4142-80ab-08de71e8a9ec
DTSTAMP:20260222T093941Z
TRANSP:TRANSPARENT
DTSTART:20260716T210000Z
DTEND:20260722T205900Z
STATUS:CONFIRMED
SUMMARY:Yöneticilikten Ayrılanların Yeniden Görevlendirilmesi - Terci
 h Başvuru
END:VEVENT
BEGIN:VEVENT
UID:0c71003c-c4e6-483e-80ac-08de71e8a9ec
DTSTAMP:20260222T093953Z
TRANSP:TRANSPARENT
DTSTART:20260723T210000Z
DTEND:20260724T205900Z
STATUS:CONFIRMED
SUMMARY:Yöneticilikten Ayrılanların Yeniden Görevlendirilmesi - Sonu
 çların İlanı
END:VEVENT
BEGIN:VEVENT
UID:39a86e08-92bd-4b7d-80ad-08de71e8a9ec
DTSTAMP:20260222T094045Z
TRANSP:TRANSPARENT
DTSTART:20260727T050000Z
DTEND:20260727T140000Z
STATUS:CONFIRMED
SUMMARY:Yöneticilikten Ayrılanların Yeniden Görevlendirilmesi - Tebli
 gat ve İlişik Kesme
END:VEVENT
END:VCALENDAR
