BEGIN:VCALENDAR
VERSION:2.0
PRODID:itakvim.com
CALSCALE:GREGORIAN
METHOD:PUBLISH
UID:94dlp1dmiyu
X-WR-CALNAME:Movenpick Hotel Ankara Takvimi
X-ITAKVIM-LANGUAGE:tr
X-ORIGINAL-URL:itakvim.com
REFRESH-INTERVAL;VALUE=DURATION:PT1H
X-ITAKVIM-REGION:TR
X-Robots-Tag:noindex
X-PUBLISHED-TTL:PT1H
BEGIN:VEVENT
UID:e7baa21e-591e-4b8a-8c69-08de9dec68b5
DTSTAMP:20260419T083022Z
TRANSP:TRANSPARENT
DTSTART:20260217T060000Z
DTEND:20260217T150000Z
STATUS:CONFIRMED
SUMMARY:Studyexpo Yurtdışı Eğitim Fuarı
DESCRIPTION:Study Expo Fuarcılık A.Ş. tarafından düzenlenen yurtdı
 şı eğtim fuarı konulu fuarda görüşmek üzere: \n\nWeb:www.studyex
 po.com\nE-Posta: info@studyexpo.com
LOCATION:Movenpick Hotel Ankara
BEGIN:VALARM
ACTION:DISPLAY
DESCRIPTION:Studyexpo Yurtdışı Eğitim Fuarı
TRIGGER:-PT24H
END:VALARM
END:VEVENT
END:VCALENDAR
