BEGIN:VCALENDAR
VERSION:2.0
PRODID:itakvim.com
CALSCALE:GREGORIAN
METHOD:PUBLISH
UID:96cizgir26w
X-WR-CALNAME:İngilizce Hazırlık Akademik Takvimi
X-ITAKVIM-LANGUAGE:tr
X-ORIGINAL-URL:itakvim.com
REFRESH-INTERVAL;VALUE=DURATION:PT1H
X-ITAKVIM-REGION:TR
X-Robots-Tag:noindex
X-PUBLISHED-TTL:PT1H
BEGIN:VEVENT
UID:38e84fca-1913-4c1b-5180-08de9f183112
DTSTAMP:20260420T200724Z
TRANSP:TRANSPARENT
DTSTART:20250820T210000Z
DTEND:20250902T210000Z
STATUS:CONFIRMED
SUMMARY:İngilizce Yeterlilik Sınavı Kayıtları (Lisans, Yüksek Lisan
 s ve Beklemeli öğrenciler için)
END:VEVENT
BEGIN:VEVENT
UID:6395dd0d-1ca2-433a-5181-08de9f183112
DTSTAMP:20260420T200724Z
TRANSP:TRANSPARENT
DTSTART:20250903T210000Z
DTEND:20250906T210000Z
STATUS:CONFIRMED
SUMMARY:İngilizce Yeterlilik Sınavı Kayıtları (2025 Yılı Lisans Pr
 ogramlarına Yerleştirilen ve Kesin kayıtları Yapılan Öğrenciler 
 İçin)
END:VEVENT
BEGIN:VEVENT
UID:80f381ca-5a46-411f-5182-08de9f183112
DTSTAMP:20260420T200724Z
TRANSP:TRANSPARENT
DTSTART:20250909T210000Z
DTEND:20250909T210000Z
STATUS:CONFIRMED
SUMMARY:İngilizce Yeterlilik Sınavı (1.Oturum)
END:VEVENT
BEGIN:VEVENT
UID:f7e16d68-333b-4a69-5183-08de9f183112
DTSTAMP:20260420T200724Z
TRANSP:TRANSPARENT
DTSTART:20250911T210000Z
DTEND:20250911T210000Z
STATUS:CONFIRMED
SUMMARY:İngilizce Yeterlilik Sınavı (2.Oturum)
END:VEVENT
BEGIN:VEVENT
UID:ce9a391d-5bf9-4550-5184-08de9f183112
DTSTAMP:20260420T200724Z
TRANSP:TRANSPARENT
DTSTART:20250914T210000Z
DTEND:20250914T210000Z
STATUS:CONFIRMED
SUMMARY:İngilizce Yeterlilik Sınavı Sonuçlarının Öğrenci İşleri
  Daire Başkanlığına Bildirilmesi
END:VEVENT
BEGIN:VEVENT
UID:3b7d4e61-c885-451a-5185-08de9f183112
DTSTAMP:20260420T200724Z
TRANSP:TRANSPARENT
DTSTART:20250914T210000Z
DTEND:20250915T210000Z
STATUS:CONFIRMED
SUMMARY:Lisans Hazırlık Düzey Belirleme Sınavı
END:VEVENT
BEGIN:VEVENT
UID:72e49486-286f-41db-5186-08de9f183112
DTSTAMP:20260420T200724Z
TRANSP:TRANSPARENT
DTSTART:20250914T210000Z
DTEND:20250915T210000Z
STATUS:CONFIRMED
SUMMARY:UOLP Hazırlık Düzey Belirleme Sınavı
END:VEVENT
BEGIN:VEVENT
UID:dbc19ff6-25d6-41b5-5187-08de9f183112
DTSTAMP:20260420T200724Z
TRANSP:TRANSPARENT
DTSTART:20250928T210000Z
DTEND:20250928T210000Z
STATUS:CONFIRMED
SUMMARY:İngilizce Hazırlık Sınıfı Eğitimi ve UOLP Hazırlık Sın
 ıfı Eğitimi Güz Yarılı Başlangıcı
END:VEVENT
BEGIN:VEVENT
UID:b6bf004e-2041-430c-5188-08de9f183112
DTSTAMP:20260420T200724Z
TRANSP:TRANSPARENT
DTSTART:20250928T210000Z
DTEND:20250928T210000Z
STATUS:CONFIRMED
SUMMARY:Lisans Hazırlık Oryantasyon
END:VEVENT
BEGIN:VEVENT
UID:3a879ba0-08f1-4f4e-5189-08de9f183112
DTSTAMP:20260420T200724Z
TRANSP:TRANSPARENT
DTSTART:20250928T210000Z
DTEND:20250928T210000Z
STATUS:CONFIRMED
SUMMARY:UOLP Hazırlık Oryantasyon
END:VEVENT
BEGIN:VEVENT
UID:0823150f-19a6-47a4-518a-08de9f183112
DTSTAMP:20260420T200724Z
TRANSP:TRANSPARENT
DTSTART:20251229T210000Z
DTEND:20260112T210000Z
STATUS:CONFIRMED
SUMMARY:İngilizce Yeterlilik Sınavı Kayıtları
END:VEVENT
BEGIN:VEVENT
UID:81145106-b577-4473-518b-08de9f183112
DTSTAMP:20260420T200724Z
TRANSP:TRANSPARENT
DTSTART:20260108T210000Z
DTEND:20260108T210000Z
STATUS:CONFIRMED
SUMMARY:İngilizce Hazırlık Sınıfı ve UOLP Hazırlık Sınıfı Güz
  Yarıyılı Sonu
END:VEVENT
BEGIN:VEVENT
UID:e29a35c6-2ed8-4690-518c-08de9f183112
DTSTAMP:20260420T200724Z
TRANSP:TRANSPARENT
DTSTART:20260111T210000Z
DTEND:20260115T210000Z
STATUS:CONFIRMED
SUMMARY:Lisans Hazırlık Dönem Sonu Sınavları
END:VEVENT
BEGIN:VEVENT
UID:d989d213-8d9a-44d6-518d-08de9f183112
DTSTAMP:20260420T200724Z
TRANSP:TRANSPARENT
DTSTART:20260111T210000Z
DTEND:20260115T210000Z
STATUS:CONFIRMED
SUMMARY:UOLP Hazırlık Dönem Sonu Sınavları
END:VEVENT
BEGIN:VEVENT
UID:30778605-dac8-4033-518e-08de9f183112
DTSTAMP:20260420T200724Z
TRANSP:TRANSPARENT
DTSTART:20260118T210000Z
DTEND:20260118T210000Z
STATUS:CONFIRMED
SUMMARY:İngilizce Yeterlilik Sınavı ( 1.Oturum )
END:VEVENT
BEGIN:VEVENT
UID:7cd13653-be08-43b8-518f-08de9f183112
DTSTAMP:20260420T200724Z
TRANSP:TRANSPARENT
DTSTART:20260121T210000Z
DTEND:20260121T210000Z
STATUS:CONFIRMED
SUMMARY:İngilizce Yeterlilik Sınavı ( 2.Oturum )
END:VEVENT
BEGIN:VEVENT
UID:ff04ba46-b7da-4277-5190-08de9f183112
DTSTAMP:20260420T200724Z
TRANSP:TRANSPARENT
DTSTART:20260126T210000Z
DTEND:20260126T210000Z
STATUS:CONFIRMED
SUMMARY:İngilizce Yeterlilik Sınavı Sonuçlarının Öğrenci İşleri
  Daire Başkanlığına Bildirilmesi.
END:VEVENT
BEGIN:VEVENT
UID:aef0e999-1c5f-44e1-5191-08de9f183112
DTSTAMP:20260420T200724Z
TRANSP:TRANSPARENT
DTSTART:20260208T210000Z
DTEND:20260208T210000Z
STATUS:CONFIRMED
SUMMARY:İngilizce Hazırlık Sınıfı ve UOLP Hazırlık Sınıfı Baha
 r Yarıyılı Başlangıcı
END:VEVENT
BEGIN:VEVENT
UID:12e949fc-25fc-4cbe-5192-08de9f183112
DTSTAMP:20260420T200724Z
TRANSP:TRANSPARENT
DTSTART:20260315T210000Z
DTEND:20260319T210000Z
STATUS:CONFIRMED
SUMMARY:Ara Tatil
END:VEVENT
BEGIN:VEVENT
UID:8fac90bd-c354-4f8d-5193-08de9f183112
DTSTAMP:20260420T200724Z
TRANSP:TRANSPARENT
DTSTART:20260520T210000Z
DTEND:20260608T210000Z
STATUS:CONFIRMED
SUMMARY:İngilizce Yeterlilik Sınavı Kayıtları
END:VEVENT
BEGIN:VEVENT
UID:c1ff11e0-a20b-4df6-5194-08de9f183112
DTSTAMP:20260420T200724Z
TRANSP:TRANSPARENT
DTSTART:20260604T210000Z
DTEND:20260604T210000Z
STATUS:CONFIRMED
SUMMARY:İngilizce Hazırlık Sınıfı ve UOLP Hazırlık Sınıfı Baha
 r Yarıyılı Sonu
END:VEVENT
BEGIN:VEVENT
UID:8a83b87d-c359-49ce-5195-08de9f183112
DTSTAMP:20260420T200724Z
TRANSP:TRANSPARENT
DTSTART:20260607T210000Z
DTEND:20260611T210000Z
STATUS:CONFIRMED
SUMMARY:Lisans Hazırlık Dönem Sonu Sınavları
END:VEVENT
BEGIN:VEVENT
UID:4b25f157-1f19-46ca-5196-08de9f183112
DTSTAMP:20260420T200724Z
TRANSP:TRANSPARENT
DTSTART:20260607T210000Z
DTEND:20260611T210000Z
STATUS:CONFIRMED
SUMMARY:UOLP Hazırlık Dönem Sonu Sınavları
END:VEVENT
BEGIN:VEVENT
UID:2df27e9a-381f-4ad3-5197-08de9f183112
DTSTAMP:20260420T200724Z
TRANSP:TRANSPARENT
DTSTART:20260614T210000Z
DTEND:20260614T210000Z
STATUS:CONFIRMED
SUMMARY:İngilizce Yeterlilik Sınavı (1.Oturum)
END:VEVENT
BEGIN:VEVENT
UID:397411b3-fec7-4201-5198-08de9f183112
DTSTAMP:20260420T200724Z
TRANSP:TRANSPARENT
DTSTART:20260617T210000Z
DTEND:20260617T210000Z
STATUS:CONFIRMED
SUMMARY:İngilizce Yeterlilik Sınavı (2.Oturum)
END:VEVENT
BEGIN:VEVENT
UID:76fd8377-662a-4c2f-5199-08de9f183112
DTSTAMP:20260420T200724Z
TRANSP:TRANSPARENT
DTSTART:20260622T210000Z
DTEND:20260622T210000Z
STATUS:CONFIRMED
SUMMARY:İngilizce Yeterlilik Sınavı Sonuçlarının Öğrenci İşleri
  Daire Başkanlığına Bildirilmesi
END:VEVENT
BEGIN:VEVENT
UID:d9c0b244-3f13-459f-519a-08de9f183112
DTSTAMP:20260420T200724Z
TRANSP:TRANSPARENT
DTSTART:20260621T210000Z
DTEND:20260624T210000Z
STATUS:CONFIRMED
SUMMARY:İngilizce Hazırlık Sınıfı ve UOLP Hazırlık Sınıfı Kay
 ıtları
END:VEVENT
BEGIN:VEVENT
UID:5beb7ec1-827f-45f5-519b-08de9f183112
DTSTAMP:20260420T200724Z
TRANSP:TRANSPARENT
DTSTART:20260628T210000Z
DTEND:20260628T210000Z
STATUS:CONFIRMED
SUMMARY:İngilizce Hazırlık Sınıfı ve UOLP Hazırlık Sınıfı Yaz 
 Öğretimi Başlangıcı
END:VEVENT
BEGIN:VEVENT
UID:7b7c23d9-9b9a-415c-519c-08de9f183112
DTSTAMP:20260420T200724Z
TRANSP:TRANSPARENT
DTSTART:20260713T210000Z
DTEND:20260727T210000Z
STATUS:CONFIRMED
SUMMARY:İngilizce Yeterlilik Sınavı Kayıtları
END:VEVENT
BEGIN:VEVENT
UID:c278b017-458c-4390-519d-08de9f183112
DTSTAMP:20260420T200724Z
TRANSP:TRANSPARENT
DTSTART:20260730T210000Z
DTEND:20260730T210000Z
STATUS:CONFIRMED
SUMMARY:İngilizce Hazırlık Sınıfı ve UOLP Hazırlık Sınıfı Yaz 
 Öğretimi Sonu
END:VEVENT
BEGIN:VEVENT
UID:648e29a3-738f-4048-519e-08de9f183112
DTSTAMP:20260420T200724Z
TRANSP:TRANSPARENT
DTSTART:20260802T210000Z
DTEND:20260802T210000Z
STATUS:CONFIRMED
SUMMARY:İngilizce Yeterlilik Sınavı (1.Oturum)
END:VEVENT
BEGIN:VEVENT
UID:c50af3a2-3b82-4d02-519f-08de9f183112
DTSTAMP:20260420T200724Z
TRANSP:TRANSPARENT
DTSTART:20260805T210000Z
DTEND:20260805T210000Z
STATUS:CONFIRMED
SUMMARY:İngilizce Yeterlilik Sınavı (2.Oturum)
END:VEVENT
BEGIN:VEVENT
UID:6a6a1035-f0ca-4f8b-51a0-08de9f183112
DTSTAMP:20260420T200724Z
TRANSP:TRANSPARENT
DTSTART:20260810T210000Z
DTEND:20260810T210000Z
STATUS:CONFIRMED
SUMMARY:İngilizce Yeterlilik Sınavı Sonuçlarının Öğrenci İşleri
  Daire Başkanlığına Bildirilmesi
END:VEVENT
END:VCALENDAR
