BEGIN:VCALENDAR
VERSION:2.0
PRODID:itakvim.com
CALSCALE:GREGORIAN
METHOD:PUBLISH
UID:96ynlthdnu0
X-WR-CALNAME:İzmir Uluslararası Fuar Alanı Kültürpark Takvimi
X-ITAKVIM-LANGUAGE:tr
X-ORIGINAL-URL:itakvim.com
REFRESH-INTERVAL;VALUE=DURATION:PT1H
X-ITAKVIM-REGION:TR
X-Robots-Tag:noindex
X-PUBLISHED-TTL:PT1H
BEGIN:VEVENT
UID:a36641a5-4ded-4038-591f-08de9f8ee600
DTSTAMP:20260421T101546Z
TRANSP:TRANSPARENT
DTSTART:20260417T060000Z
DTEND:20260426T150000Z
STATUS:CONFIRMED
SUMMARY:İzkitap "7.İzmir Kitap Fuarı"
DESCRIPTION:1) İzfaş İzmir Fuarcılık Hizmetleri Kültür Ve Sanat İ
 şleri Ticaret Anonim Şirketi 2) Tactfaır Organizasyon Anonim Şirketi
  tarafından düzenlenen kitap ve süreli yayın konulu fuarda görüşm
 ek üzere: \n\nWeb:www.izfas.com.tr\nE-Posta: muhasebe@izmirfair.com.tr
LOCATION:Uluslararası Fuar Alanı Kültürpark
BEGIN:VALARM
ACTION:DISPLAY
DESCRIPTION:İzkitap "7.İzmir Kitap Fuarı"
TRIGGER:-PT24H
END:VALARM
END:VEVENT
END:VCALENDAR
